BEGIN:VCALENDAR
VERSION:2.0
PRODID:-//Fotoclub Heerhugowaard - ECPv6.15.17.1//NONSGML v1.0//EN
CALSCALE:GREGORIAN
METHOD:PUBLISH
X-ORIGINAL-URL:https://www.fotoclubheerhugowaard.nl
X-WR-CALDESC:Evenementen voor Fotoclub Heerhugowaard
REFRESH-INTERVAL;VALUE=DURATION:PT1H
X-Robots-Tag:noindex
X-PUBLISHED-TTL:PT1H
BEGIN:VTIMEZONE
TZID:Europe/Amsterdam
BEGIN:DAYLIGHT
TZOFFSETFROM:+0100
TZOFFSETTO:+0200
TZNAME:CEST
DTSTART:20250330T010000
END:DAYLIGHT
BEGIN:STANDARD
TZOFFSETFROM:+0200
TZOFFSETTO:+0100
TZNAME:CET
DTSTART:20251026T010000
END:STANDARD
BEGIN:DAYLIGHT
TZOFFSETFROM:+0100
TZOFFSETTO:+0200
TZNAME:CEST
DTSTART:20260329T010000
END:DAYLIGHT
BEGIN:STANDARD
TZOFFSETFROM:+0200
TZOFFSETTO:+0100
TZNAME:CET
DTSTART:20261025T010000
END:STANDARD
BEGIN:DAYLIGHT
TZOFFSETFROM:+0100
TZOFFSETTO:+0200
TZNAME:CEST
DTSTART:20270328T010000
END:DAYLIGHT
BEGIN:STANDARD
TZOFFSETFROM:+0200
TZOFFSETTO:+0100
TZNAME:CET
DTSTART:20271031T010000
END:STANDARD
END:VTIMEZONE
BEGIN:VEVENT
DTSTART;TZID=Europe/Amsterdam:20260206T200000
DTEND;TZID=Europe/Amsterdam:20260206T223000
DTSTAMP:20260421T211243
CREATED:20250920T093409Z
LAST-MODIFIED:20250920T093409Z
UID:4942-1770408000-1770417000@www.fotoclubheerhugowaard.nl
SUMMARY:2e ronde IFC – Blauw + bespreking Foto van de Maand
DESCRIPTION:
URL:https://www.fotoclubheerhugowaard.nl/event/2e-ronde-ifc-blauw-bespreking-foto-van-de-maand/
LOCATION:Ontmoetingscentrum de Brink\, Middenweg 168\, Heerhugowaard\, Nederland
CATEGORIES:Vrijdag clubavond
END:VEVENT
BEGIN:VEVENT
DTSTART;TZID=Europe/Amsterdam:20260220T200000
DTEND;TZID=Europe/Amsterdam:20260220T223000
DTSTAMP:20260421T211243
CREATED:20250920T093512Z
LAST-MODIFIED:20250920T093512Z
UID:4944-1771617600-1771626600@www.fotoclubheerhugowaard.nl
SUMMARY:Leden voor Leden avond
DESCRIPTION:
URL:https://www.fotoclubheerhugowaard.nl/event/leden-voor-leden-avond/
LOCATION:Ontmoetingscentrum de Brink\, Middenweg 168\, Heerhugowaard\, Nederland
CATEGORIES:Vrijdag clubavond
END:VEVENT
BEGIN:VEVENT
DTSTART;TZID=Europe/Amsterdam:20260228T160000
DTEND;TZID=Europe/Amsterdam:20260228T170000
DTSTAMP:20260421T211243
CREATED:20250730T140735Z
LAST-MODIFIED:20251210T103432Z
UID:4858-1772294400-1772298000@www.fotoclubheerhugowaard.nl
SUMMARY:Uiterste inzenddatum foto van de maand thema: Lijnenspel
DESCRIPTION:Vandaag is de uiterste inzenddatum voor de foto’s van de maand met het thema: Lijnenspel \nInzenden naar Lucie\, zij is het jurylid deze keer!
URL:https://www.fotoclubheerhugowaard.nl/event/uiterste-inzenddatum-foto-van-de-maand-thema-lijnenspel/
END:VEVENT
END:VCALENDAR