BEGIN:VCALENDAR
VERSION:2.0
PRODID:-//Fotoclub Heerhugowaard - ECPv6.15.17.1//NONSGML v1.0//EN
CALSCALE:GREGORIAN
METHOD:PUBLISH
X-ORIGINAL-URL:https://www.fotoclubheerhugowaard.nl
X-WR-CALDESC:Evenementen voor Fotoclub Heerhugowaard
REFRESH-INTERVAL;VALUE=DURATION:PT1H
X-Robots-Tag:noindex
X-PUBLISHED-TTL:PT1H
BEGIN:VTIMEZONE
TZID:Europe/Amsterdam
BEGIN:DAYLIGHT
TZOFFSETFROM:+0100
TZOFFSETTO:+0200
TZNAME:CEST
DTSTART:20240331T010000
END:DAYLIGHT
BEGIN:STANDARD
TZOFFSETFROM:+0200
TZOFFSETTO:+0100
TZNAME:CET
DTSTART:20241027T010000
END:STANDARD
BEGIN:DAYLIGHT
TZOFFSETFROM:+0100
TZOFFSETTO:+0200
TZNAME:CEST
DTSTART:20250330T010000
END:DAYLIGHT
BEGIN:STANDARD
TZOFFSETFROM:+0200
TZOFFSETTO:+0100
TZNAME:CET
DTSTART:20251026T010000
END:STANDARD
BEGIN:DAYLIGHT
TZOFFSETFROM:+0100
TZOFFSETTO:+0200
TZNAME:CEST
DTSTART:20260329T010000
END:DAYLIGHT
BEGIN:STANDARD
TZOFFSETFROM:+0200
TZOFFSETTO:+0100
TZNAME:CET
DTSTART:20261025T010000
END:STANDARD
END:VTIMEZONE
BEGIN:VEVENT
DTSTART;TZID=Europe/Amsterdam:20250509T200000
DTEND;TZID=Europe/Amsterdam:20250509T223000
DTSTAMP:20260422T120759
CREATED:20240713T103806Z
LAST-MODIFIED:20250426T101916Z
UID:4511-1746820800-1746829800@www.fotoclubheerhugowaard.nl
SUMMARY:Eigen werk + programma volgend seizoen
DESCRIPTION:We kijken o.a. naar resultaten architectuur fotografie\, avondfotografie en eigen werk. \nVerder staan we stil bij het programma van volgend seizoen\, wat heb jij voor ideeën?
URL:https://www.fotoclubheerhugowaard.nl/event/clubavond-113/
LOCATION:Centrum 31\, Bickerstraat 31\, Heerhugowaard\, Nederland
CATEGORIES:Vrijdag clubavond
END:VEVENT
BEGIN:VEVENT
DTSTART;TZID=Europe/Amsterdam:20250515T200000
DTEND;TZID=Europe/Amsterdam:20250515T223000
DTSTAMP:20260422T120759
CREATED:20240713T103904Z
LAST-MODIFIED:20240910T122653Z
UID:4513-1747339200-1747348200@www.fotoclubheerhugowaard.nl
SUMMARY:Inspiratie-avond
DESCRIPTION:Vanavond inspireren we elkaar! Hoe?\nDoor het delen van kennis over fotografie\, techniek\, Photoshop\, een fotograaf\, een fotoboek\, een expositie…. het kan van alles zijn! \nWie gaat vanavond iets vertellen / laten zien: \n\n\n\n\nWil je ook nog iets vertellen? Laat het even weten.
URL:https://www.fotoclubheerhugowaard.nl/event/inspiratie-avond-8/
LOCATION:Centrum 31\, Bickerstraat 31\, Heerhugowaard\, Nederland
CATEGORIES:Donderdag clubavond
END:VEVENT
BEGIN:VEVENT
DTSTART;TZID=Europe/Amsterdam:20250523T200000
DTEND;TZID=Europe/Amsterdam:20250523T223000
DTSTAMP:20260422T120759
CREATED:20240713T103957Z
LAST-MODIFIED:20240910T122750Z
UID:4515-1748030400-1748039400@www.fotoclubheerhugowaard.nl
SUMMARY:Laatste clubavond met uitreiking IFC-trofee en HHW-award
DESCRIPTION:
URL:https://www.fotoclubheerhugowaard.nl/event/clubavond-114/
LOCATION:Centrum 31\, Bickerstraat 31\, Heerhugowaard\, Nederland
CATEGORIES:Vrijdag clubavond
END:VEVENT
BEGIN:VEVENT
DTSTART;TZID=Europe/Amsterdam:20250524T080000
DTEND;TZID=Europe/Amsterdam:20250524T170000
DTSTAMP:20260422T120759
CREATED:20250219T151846Z
LAST-MODIFIED:20250219T151846Z
UID:4769-1748073600-1748106000@www.fotoclubheerhugowaard.nl
SUMMARY:Roofvogels fotograferen
DESCRIPTION:Deze dag is er een workshop roofvogels fotograferen\, voor diegene die zich daarvoor opgegeven hebben. \nDe workshop is in Lunteren bij De Valk Roofvogels. \nDe exacte tijd volgt nog
URL:https://www.fotoclubheerhugowaard.nl/event/roofvogels-fotograferen/
LOCATION:Hammerdijk 2\, 6741JK te Lunteren
END:VEVENT
END:VCALENDAR