BEGIN:VCALENDAR
VERSION:2.0
PRODID:-//Fotoclub Heerhugowaard - ECPv6.15.17.1//NONSGML v1.0//EN
CALSCALE:GREGORIAN
METHOD:PUBLISH
X-WR-CALNAME:Fotoclub Heerhugowaard
X-ORIGINAL-URL:https://www.fotoclubheerhugowaard.nl
X-WR-CALDESC:Evenementen voor Fotoclub Heerhugowaard
REFRESH-INTERVAL;VALUE=DURATION:PT1H
X-Robots-Tag:noindex
X-PUBLISHED-TTL:PT1H
BEGIN:VTIMEZONE
TZID:Europe/Amsterdam
BEGIN:DAYLIGHT
TZOFFSETFROM:+0100
TZOFFSETTO:+0200
TZNAME:CEST
DTSTART:20220327T010000
END:DAYLIGHT
BEGIN:STANDARD
TZOFFSETFROM:+0200
TZOFFSETTO:+0100
TZNAME:CET
DTSTART:20221030T010000
END:STANDARD
BEGIN:DAYLIGHT
TZOFFSETFROM:+0100
TZOFFSETTO:+0200
TZNAME:CEST
DTSTART:20230326T010000
END:DAYLIGHT
BEGIN:STANDARD
TZOFFSETFROM:+0200
TZOFFSETTO:+0100
TZNAME:CET
DTSTART:20231029T010000
END:STANDARD
BEGIN:DAYLIGHT
TZOFFSETFROM:+0100
TZOFFSETTO:+0200
TZNAME:CEST
DTSTART:20240331T010000
END:DAYLIGHT
BEGIN:STANDARD
TZOFFSETFROM:+0200
TZOFFSETTO:+0100
TZNAME:CET
DTSTART:20241027T010000
END:STANDARD
END:VTIMEZONE
BEGIN:VEVENT
DTSTART;TZID=Europe/Amsterdam:20230414T200000
DTEND;TZID=Europe/Amsterdam:20230414T223000
DTSTAMP:20260424T115500
CREATED:20220723T150942Z
LAST-MODIFIED:20230414T130058Z
UID:3151-1681502400-1681511400@www.fotoclubheerhugowaard.nl
SUMMARY:Eigen Werk + de 10 van... + evaluatie
DESCRIPTION:Vanavond tonen we eigen werk. Wat wil je laten zien? Waar ben je mee bezig? Waar wil je advies over? Neem allemaal 1 tot 3 foto’s mee zodat we ze kunnen bespreken. Ben je met een project of een serie bezig? Dan kun je er meer meenemen. \nVanavond laat Minke haar 10 van…. zien!! \nEn… we praten met z’n allen over wat je zou willen dat je club nog organiseert of welke programma-onderdelen je graag terug zou zien volgend clubseizoen.
URL:https://www.fotoclubheerhugowaard.nl/event/clubavond-81/
LOCATION:Centrum 31\, Bickerstraat 31\, Heerhugowaard\, Nederland
CATEGORIES:Vrijdag clubavond
END:VEVENT
BEGIN:VEVENT
DTSTART;TZID=Europe/Amsterdam:20230420T200000
DTEND;TZID=Europe/Amsterdam:20230420T223000
DTSTAMP:20260424T115500
CREATED:20220723T151015Z
LAST-MODIFIED:20230419T143931Z
UID:3153-1682020800-1682029800@www.fotoclubheerhugowaard.nl
SUMMARY:Werkavond: portretavond met modellen
DESCRIPTION:Vanavond gaan we met z’n allen aan de slag!\nCamera mee\, spulletjes mee…. en lekker met z’n allen fotograferen. \nWat? Hoe? Dat hoor je op de clubavonden en in de mail.
URL:https://www.fotoclubheerhugowaard.nl/event/clubavond-82/
LOCATION:Centrum 31\, Bickerstraat 31\, Heerhugowaard\, Nederland
CATEGORIES:Donderdag clubavond
END:VEVENT
BEGIN:VEVENT
DTSTART;TZID=Europe/Amsterdam:20230428T200000
DTEND;TZID=Europe/Amsterdam:20230428T223000
DTSTAMP:20260424T115500
CREATED:20220723T151104Z
LAST-MODIFIED:20220906T073859Z
UID:3155-1682712000-1682721000@www.fotoclubheerhugowaard.nl
SUMMARY:IFC - 3e ronde: Achterstevoren
DESCRIPTION:Ronde 3 van de Interne Foto Competitie\nHet thema van deze IFC ronde is Achterstevoren \nLet op:\nLees de reglementen van de IFC nog even door\, zodat je exact weet wat de bedoeling is.
URL:https://www.fotoclubheerhugowaard.nl/event/clubavond-83/
LOCATION:Centrum 31\, Bickerstraat 31\, Heerhugowaard\, Nederland
CATEGORIES:Vrijdag clubavond
END:VEVENT
END:VCALENDAR