BEGIN:VCALENDAR
VERSION:2.0
PRODID:-//Fotoclub Heerhugowaard - ECPv6.15.17.1//NONSGML v1.0//EN
CALSCALE:GREGORIAN
METHOD:PUBLISH
X-WR-CALNAME:Fotoclub Heerhugowaard
X-ORIGINAL-URL:https://www.fotoclubheerhugowaard.nl
X-WR-CALDESC:Evenementen voor Fotoclub Heerhugowaard
REFRESH-INTERVAL;VALUE=DURATION:PT1H
X-Robots-Tag:noindex
X-PUBLISHED-TTL:PT1H
BEGIN:VTIMEZONE
TZID:Europe/Amsterdam
BEGIN:DAYLIGHT
TZOFFSETFROM:+0100
TZOFFSETTO:+0200
TZNAME:CEST
DTSTART:20220327T010000
END:DAYLIGHT
BEGIN:STANDARD
TZOFFSETFROM:+0200
TZOFFSETTO:+0100
TZNAME:CET
DTSTART:20221030T010000
END:STANDARD
BEGIN:DAYLIGHT
TZOFFSETFROM:+0100
TZOFFSETTO:+0200
TZNAME:CEST
DTSTART:20230326T010000
END:DAYLIGHT
BEGIN:STANDARD
TZOFFSETFROM:+0200
TZOFFSETTO:+0100
TZNAME:CET
DTSTART:20231029T010000
END:STANDARD
BEGIN:DAYLIGHT
TZOFFSETFROM:+0100
TZOFFSETTO:+0200
TZNAME:CEST
DTSTART:20240331T010000
END:DAYLIGHT
BEGIN:STANDARD
TZOFFSETFROM:+0200
TZOFFSETTO:+0100
TZNAME:CET
DTSTART:20241027T010000
END:STANDARD
END:VTIMEZONE
BEGIN:VEVENT
DTSTART;TZID=Europe/Amsterdam:20230109T200000
DTEND;TZID=Europe/Amsterdam:20230109T220000
DTSTAMP:20260424T164623
CREATED:20220404T180825Z
LAST-MODIFIED:20220404T181224Z
UID:2850-1673294400-1673301600@www.fotoclubheerhugowaard.nl
SUMMARY:Basiscursus fotografie (avond 7)
DESCRIPTION:Basisschool Reflector\,  Keerkring 49\nHeerhugowaard\, 1705 SP Nederland  + Google Maps
URL:https://www.fotoclubheerhugowaard.nl/event/basiscursus-fotografie-avond-7-2/
CATEGORIES:Basiscursus
END:VEVENT
BEGIN:VEVENT
DTSTART;TZID=Europe/Amsterdam:20230113T200000
DTEND;TZID=Europe/Amsterdam:20230113T223000
DTSTAMP:20260424T164623
CREATED:20220723T150309Z
LAST-MODIFIED:20230104T132516Z
UID:3133-1673640000-1673649000@www.fotoclubheerhugowaard.nl
SUMMARY:Nieuwjaarsborrel +resultaten Guppen + fotoslingerfoto's
DESCRIPTION:We proosten op het nieuwe jaar en kletsen lekker bij! \nWe hebben vorig jaar een geweldig leuke “Guppen-avond” gehad. De resultaten daarvan worden vanavond getoond. \nEn hebben jullie de afgelopen periode gebruikt om een “slingerfoto” te maken? Neem ‘m mee!
URL:https://www.fotoclubheerhugowaard.nl/event/clubavond-72/
LOCATION:Centrum 31\, Bickerstraat 31\, Heerhugowaard\, Nederland
CATEGORIES:Vrijdag clubavond
END:VEVENT
BEGIN:VEVENT
DTSTART;TZID=Europe/Amsterdam:20230116T200000
DTEND;TZID=Europe/Amsterdam:20230116T220000
DTSTAMP:20260424T164623
CREATED:20220404T180943Z
LAST-MODIFIED:20220404T180943Z
UID:2852-1673899200-1673906400@www.fotoclubheerhugowaard.nl
SUMMARY:Basiscursus fotografie (avond 8)
DESCRIPTION:Basisschool Reflector\,  Keerkring 49\nHeerhugowaard\, 1705 SP Nederland  + Google Maps
URL:https://www.fotoclubheerhugowaard.nl/event/basiscursus-fotografie-avond-8-2/
CATEGORIES:Basiscursus
END:VEVENT
BEGIN:VEVENT
DTSTART;TZID=Europe/Amsterdam:20230119T200000
DTEND;TZID=Europe/Amsterdam:20230119T223000
DTSTAMP:20260424T164623
CREATED:20220723T150356Z
LAST-MODIFIED:20230111T102933Z
UID:3135-1674158400-1674167400@www.fotoclubheerhugowaard.nl
SUMMARY:Werkavond reportageflitser
DESCRIPTION:Vanavond gaan we met z’n allen aan de slag!\nCamera mee\, spulletjes mee…. en lekker met z’n allen fotograferen. Roland en Saskia bereiden deze avond voor. \nWat? Hoe? Dat hoor je op de clubavonden en in de mailtjes die je hebt ontvangen. \n 
URL:https://www.fotoclubheerhugowaard.nl/event/clubavond-73/
LOCATION:Centrum 31\, Bickerstraat 31\, Heerhugowaard\, Nederland
CATEGORIES:Donderdag clubavond
END:VEVENT
BEGIN:VEVENT
DTSTART;TZID=Europe/Amsterdam:20230123T200000
DTEND;TZID=Europe/Amsterdam:20230123T220000
DTSTAMP:20260424T164623
CREATED:20220404T181039Z
LAST-MODIFIED:20220404T181039Z
UID:2854-1674504000-1674511200@www.fotoclubheerhugowaard.nl
SUMMARY:Basiscursus fotografie (avond 9)
DESCRIPTION:Basisschool Reflector\,  Keerkring 49\nHeerhugowaard\, 1705 SP Nederland  + Google Maps
URL:https://www.fotoclubheerhugowaard.nl/event/basiscursus-fotografie-avond-9-2/
CATEGORIES:Basiscursus
END:VEVENT
BEGIN:VEVENT
DTSTART;TZID=Europe/Amsterdam:20230127T200000
DTEND;TZID=Europe/Amsterdam:20230127T223000
DTSTAMP:20260424T164623
CREATED:20220723T150437Z
LAST-MODIFIED:20230111T103557Z
UID:3137-1674849600-1674858600@www.fotoclubheerhugowaard.nl
SUMMARY:Eigen werk +uitleg foodfotografie werkavond
DESCRIPTION:Vanavond tonen we eigen werk. Wat wil je laten zien? Waar ben je mee bezig? Waar wil je advies over? Neem allemaal 1 tot 3 foto’s mee zodat we ze kunnen bespreken. \nOp 16 februari a.s. staat de werkavond foodfotografie gepland. O.a. Daniëlle en Evelien zullen deze avond helpen voorbereiden.\nVanavond wordt daar het een en ander over verteld.
URL:https://www.fotoclubheerhugowaard.nl/event/clubavond-74/
LOCATION:Centrum 31\, Bickerstraat 31\, Heerhugowaard\, Nederland
CATEGORIES:Vrijdag clubavond
END:VEVENT
BEGIN:VEVENT
DTSTART;TZID=Europe/Amsterdam:20230130T200000
DTEND;TZID=Europe/Amsterdam:20230130T220000
DTSTAMP:20260424T164623
CREATED:20220404T181136Z
LAST-MODIFIED:20220404T181136Z
UID:2856-1675108800-1675116000@www.fotoclubheerhugowaard.nl
SUMMARY:Basiscursus fotografie (avond 10)
DESCRIPTION:Basisschool Reflector\,  Keerkring 49\nHeerhugowaard\, 1705 SP Nederland  + Google Maps
URL:https://www.fotoclubheerhugowaard.nl/event/basiscursus-fotografie-avond-10-2/
CATEGORIES:Basiscursus
END:VEVENT
END:VCALENDAR