BEGIN:VCALENDAR
VERSION:2.0
PRODID:-//Fotoclub Heerhugowaard - ECPv6.15.17.1//NONSGML v1.0//EN
CALSCALE:GREGORIAN
METHOD:PUBLISH
X-WR-CALNAME:Fotoclub Heerhugowaard
X-ORIGINAL-URL:https://www.fotoclubheerhugowaard.nl
X-WR-CALDESC:Evenementen voor Fotoclub Heerhugowaard
REFRESH-INTERVAL;VALUE=DURATION:PT1H
X-Robots-Tag:noindex
X-PUBLISHED-TTL:PT1H
BEGIN:VTIMEZONE
TZID:Europe/Amsterdam
BEGIN:DAYLIGHT
TZOFFSETFROM:+0100
TZOFFSETTO:+0200
TZNAME:CEST
DTSTART:20210328T010000
END:DAYLIGHT
BEGIN:STANDARD
TZOFFSETFROM:+0200
TZOFFSETTO:+0100
TZNAME:CET
DTSTART:20211031T010000
END:STANDARD
BEGIN:DAYLIGHT
TZOFFSETFROM:+0100
TZOFFSETTO:+0200
TZNAME:CEST
DTSTART:20220327T010000
END:DAYLIGHT
BEGIN:STANDARD
TZOFFSETFROM:+0200
TZOFFSETTO:+0100
TZNAME:CET
DTSTART:20221030T010000
END:STANDARD
BEGIN:DAYLIGHT
TZOFFSETFROM:+0100
TZOFFSETTO:+0200
TZNAME:CEST
DTSTART:20230326T010000
END:DAYLIGHT
BEGIN:STANDARD
TZOFFSETFROM:+0200
TZOFFSETTO:+0100
TZNAME:CET
DTSTART:20231029T010000
END:STANDARD
END:VTIMEZONE
BEGIN:VEVENT
DTSTART;TZID=Europe/Amsterdam:20221201T200000
DTEND;TZID=Europe/Amsterdam:20221201T223000
DTSTAMP:20260424T180209
CREATED:20220723T150100Z
LAST-MODIFIED:20221129T124451Z
UID:3127-1669924800-1669933800@www.fotoclubheerhugowaard.nl
SUMMARY:Inspiratie-avond
DESCRIPTION:Vanavond inspireren we elkaar! Hoe?\nDoor het delen van kennis over fotografie\, techniek\, Photoshop\, een fotograaf\, een fotoboek\, een expositie…. het kan van alles zijn! \n\nVanavond gaat Saskia ons iets laten zien van haar workflow m.b.t. haar foto-archief.\nWe krijgen ook mooie foto’s te zien van Johan en Renske\, die samen een workshop roofvogelfotografie hebben gevolgd.\n\nWil je ook nog iets vertellen? Laat het even weten.
URL:https://www.fotoclubheerhugowaard.nl/event/clubavond-69/
LOCATION:Centrum 31\, Bickerstraat 31\, Heerhugowaard\, Nederland
CATEGORIES:Donderdag clubavond
END:VEVENT
BEGIN:VEVENT
DTSTART;TZID=Europe/Amsterdam:20221209T200000
DTEND;TZID=Europe/Amsterdam:20221209T223000
DTSTAMP:20260424T180209
CREATED:20220723T150141Z
LAST-MODIFIED:20221208T073801Z
UID:3129-1670616000-1670625000@www.fotoclubheerhugowaard.nl
SUMMARY:Clubavond gaan NIET door
DESCRIPTION:Beste leden\, \nZoals al gemeld gaat vanavond -vanwege de grote hoeveelheid afzeggingen- de clubavond NIET door. \nWe zien elkaar weer op donderdag de 15e! \nHet bestuur
URL:https://www.fotoclubheerhugowaard.nl/event/clubavond-70/
LOCATION:Centrum 31\, Bickerstraat 31\, Heerhugowaard\, Nederland
CATEGORIES:Vrijdag clubavond
END:VEVENT
BEGIN:VEVENT
DTSTART;TZID=Europe/Amsterdam:20221212T200000
DTEND;TZID=Europe/Amsterdam:20221212T220000
DTSTAMP:20260424T180209
CREATED:20220404T180617Z
LAST-MODIFIED:20220404T180617Z
UID:2846-1670875200-1670882400@www.fotoclubheerhugowaard.nl
SUMMARY:Basiscursus fotografie (avond 5)
DESCRIPTION:Basisschool Reflector\,  Keerkring 49\nHeerhugowaard\, 1705 SP Nederland  + Google Maps
URL:https://www.fotoclubheerhugowaard.nl/event/basiscursus-fotografie-avond-5-2/
CATEGORIES:Basiscursus
END:VEVENT
BEGIN:VEVENT
DTSTART;TZID=Europe/Amsterdam:20221215T200000
DTEND;TZID=Europe/Amsterdam:20221215T223000
DTSTAMP:20260424T180209
CREATED:20220723T150225Z
LAST-MODIFIED:20221028T161035Z
UID:3131-1671134400-1671143400@www.fotoclubheerhugowaard.nl
SUMMARY:Werkavond: reportageflitser
DESCRIPTION:Vanavond gaan we met z’n allen aan de slag!\nCamera mee\, spulletjes mee…. en lekker met z’n allen fotograferen. Roland en Saskia bereiden deze avond voor. \nWat? Hoe? Dat hoor je op de clubavonden en in de mail.
URL:https://www.fotoclubheerhugowaard.nl/event/clubavond-71/
LOCATION:Centrum 31\, Bickerstraat 31\, Heerhugowaard\, Nederland
CATEGORIES:Donderdag clubavond
END:VEVENT
BEGIN:VEVENT
DTSTART;TZID=Europe/Amsterdam:20221219T200000
DTEND;TZID=Europe/Amsterdam:20221219T220000
DTSTAMP:20260424T180209
CREATED:20220404T180716Z
LAST-MODIFIED:20220404T180716Z
UID:2848-1671480000-1671487200@www.fotoclubheerhugowaard.nl
SUMMARY:Basiscursus fotografie (avond 6)
DESCRIPTION:Basisschool Reflector\,  Keerkring 49\nHeerhugowaard\, 1705 SP Nederland  + Google Maps
URL:https://www.fotoclubheerhugowaard.nl/event/basiscursus-fotografie-avond-6-2/
CATEGORIES:Basiscursus
END:VEVENT
END:VCALENDAR