BEGIN:VCALENDAR
VERSION:2.0
PRODID:-//Fotoclub Heerhugowaard - ECPv6.15.17.1//NONSGML v1.0//EN
CALSCALE:GREGORIAN
METHOD:PUBLISH
X-WR-CALNAME:Fotoclub Heerhugowaard
X-ORIGINAL-URL:https://www.fotoclubheerhugowaard.nl
X-WR-CALDESC:Evenementen voor Fotoclub Heerhugowaard
REFRESH-INTERVAL;VALUE=DURATION:PT1H
X-Robots-Tag:noindex
X-PUBLISHED-TTL:PT1H
BEGIN:VTIMEZONE
TZID:Europe/Amsterdam
BEGIN:DAYLIGHT
TZOFFSETFROM:+0100
TZOFFSETTO:+0200
TZNAME:CEST
DTSTART:20220327T010000
END:DAYLIGHT
BEGIN:STANDARD
TZOFFSETFROM:+0200
TZOFFSETTO:+0100
TZNAME:CET
DTSTART:20221030T010000
END:STANDARD
BEGIN:DAYLIGHT
TZOFFSETFROM:+0100
TZOFFSETTO:+0200
TZNAME:CEST
DTSTART:20230326T010000
END:DAYLIGHT
BEGIN:STANDARD
TZOFFSETFROM:+0200
TZOFFSETTO:+0100
TZNAME:CET
DTSTART:20231029T010000
END:STANDARD
BEGIN:DAYLIGHT
TZOFFSETFROM:+0100
TZOFFSETTO:+0200
TZNAME:CEST
DTSTART:20240331T010000
END:DAYLIGHT
BEGIN:STANDARD
TZOFFSETFROM:+0200
TZOFFSETTO:+0100
TZNAME:CET
DTSTART:20241027T010000
END:STANDARD
END:VTIMEZONE
BEGIN:VEVENT
DTSTART;TZID=Europe/Amsterdam:20231124T200000
DTEND;TZID=Europe/Amsterdam:20231124T223000
DTSTAMP:20260423T004549
CREATED:20230828T173916Z
LAST-MODIFIED:20230915T172546Z
UID:3907-1700856000-1700865000@www.fotoclubheerhugowaard.nl
SUMMARY:Eigen werk + Foto's inzenden voor Bondsfotowedstrijd (2)
DESCRIPTION:Eigen werk \nVanavond tonen we eigen werk. Wat wil je laten zien? Waar ben je mee bezig? Waar wil je advies over?\nNeem allemaal 1 tot 3 foto’s mee zodat we ze kunnen bespreken. \n  \nInzenden foto’s bondsfotowedstrijd \nVoor vanavond zend je foto’s in die in aanmerking komen voor het meedoen aan de Bondsfotowedstrijd.\nDie gaan we gezamenlijk bespreken
URL:https://www.fotoclubheerhugowaard.nl/event/clubavond-89/
LOCATION:Centrum 31\, Bickerstraat 31\, Heerhugowaard\, Nederland
CATEGORIES:Vrijdag clubavond
END:VEVENT
BEGIN:VEVENT
DTSTART;TZID=Europe/Amsterdam:20231122T080000
DTEND;TZID=Europe/Amsterdam:20231122T170000
DTSTAMP:20260423T004549
CREATED:20230803T101655Z
LAST-MODIFIED:20230915T172618Z
UID:3825-1700640000-1700672400@www.fotoclubheerhugowaard.nl
SUMMARY:Uiterste inleverdatum foto van de maand december thema: Vrij
DESCRIPTION:Vandaag is de laatste dag dat je je “foto van de maand” kan insturen voor de maand december. \nNog even de regels op een rij: \nRegels voor het inzenden van de foto van de maand\, voor december 2023: \nØ  Iedereen mag 1 foto inzenden met een “Vrij” thema deze maand. Dus laat je fantasie de vrije loop… \nØ  Deze moet uiterlijk 22 november binnen zijn \nØ  Formaat: langste zijde 1600 pixels \nØ  Mailen naar miriam.ddlc@ziggo.nl \nØ  Jullie krijgen bericht van mij als de foto’s op de site staan met een link \nØ  Alle leden (ook als je niet hebt ingezonden) mogen dan stemmen \nØ  De foto met de meeste punten wordt gekozen tot “foto van de maand” en komt op de voorpagina van onze clubwebsite.
URL:https://www.fotoclubheerhugowaard.nl/event/uiterste-inleverdatum-foto-van-de-maand-december-thema-vrij/
CATEGORIES:Wedstrijden
END:VEVENT
BEGIN:VEVENT
DTSTART;TZID=Europe/Amsterdam:20231120T200000
DTEND;TZID=Europe/Amsterdam:20231120T220000
DTSTAMP:20260423T004549
CREATED:20230218T182005Z
LAST-MODIFIED:20230709T170105Z
UID:3480-1700510400-1700517600@www.fotoclubheerhugowaard.nl
SUMMARY:Basiscursus avond 3
DESCRIPTION:Avond 3: Sluitertijd\nWe beginnen de avond met het bespreken van de foto-opdracht(en). Daarna gaan we het hebben over de sluitertijd. Hoe maken we foto’s met verschillende sluitertijden? Wanneer juist een korte sluitertijd en wanneer juist een langere? Met eenvoudige praktijkoefeningen krijgen we door wat het belang is van foto’s maken met de juiste sluitertijd. Aan het eind van de avond krijgen de cursisten hun nieuwe foto-opdracht(en).
URL:https://www.fotoclubheerhugowaard.nl/event/basiscursus-avond-3/
LOCATION:Basisschool Reflector\, Keerkring 49\, Heerhugowaard\, 1705 SP\, Nederland
CATEGORIES:Basiscursus
END:VEVENT
BEGIN:VEVENT
DTSTART;TZID=Europe/Amsterdam:20231116T200000
DTEND;TZID=Europe/Amsterdam:20231116T223000
DTSTAMP:20260423T004549
CREATED:20230828T173830Z
LAST-MODIFIED:20231115T161536Z
UID:3905-1700164800-1700173800@www.fotoclubheerhugowaard.nl
SUMMARY:Werkavond
DESCRIPTION:Vanavond wordt een werkavond\, wat we gaan doen…. het is iets feestelijks! We gaan inspiratie opdoen om een mooie kerstkaart te maken!\nDus neem in ieder geval je camera mee en hou je mail in de gaten want je kunt nog veel meer meenemen…
URL:https://www.fotoclubheerhugowaard.nl/event/werkavond-5/
LOCATION:Centrum 31\, Bickerstraat 31\, Heerhugowaard\, Nederland
CATEGORIES:Donderdag clubavond
END:VEVENT
BEGIN:VEVENT
DTSTART;TZID=Europe/Amsterdam:20231113T200000
DTEND;TZID=Europe/Amsterdam:20231113T220000
DTSTAMP:20260423T004549
CREATED:20230218T181829Z
LAST-MODIFIED:20230709T170046Z
UID:3478-1699905600-1699912800@www.fotoclubheerhugowaard.nl
SUMMARY:Basiscursus avond 2
DESCRIPTION:Avond 2: Diafragma\nWe beginnen de avond met het bespreken van de foto-opdracht(en). Daarna gaan we het hebben over het diafragma. Hoe maken we foto’s met verschillende diafragma’s? Wat is scherptediepte? Met eenvoudige praktijkoefeningen krijgen we door wat het belang is van foto’s maken met een bepaalde diafragma-instelling. Aan het eind van de avond krijgen de cursisten hun nieuwe foto-opdracht(en).
URL:https://www.fotoclubheerhugowaard.nl/event/basiscursus-avond-2/
LOCATION:Basisschool Reflector\, Keerkring 49\, Heerhugowaard\, 1705 SP\, Nederland
CATEGORIES:Basiscursus
END:VEVENT
BEGIN:VEVENT
DTSTART;TZID=Europe/Amsterdam:20231110T200000
DTEND;TZID=Europe/Amsterdam:20231110T223000
DTSTAMP:20260423T004549
CREATED:20230828T173744Z
LAST-MODIFIED:20230915T172718Z
UID:3903-1699646400-1699655400@www.fotoclubheerhugowaard.nl
SUMMARY:IFC- 1e ronde thema: Bloed
DESCRIPTION:
URL:https://www.fotoclubheerhugowaard.nl/event/ifc-1e-ronde-thema-bloed/
LOCATION:Centrum 31\, Bickerstraat 31\, Heerhugowaard\, Nederland
CATEGORIES:Vrijdag clubavond,Wedstrijden
END:VEVENT
BEGIN:VEVENT
DTSTART;TZID=Europe/Amsterdam:20231106T200000
DTEND;TZID=Europe/Amsterdam:20231106T220000
DTSTAMP:20260423T004549
CREATED:20230218T181553Z
LAST-MODIFIED:20230709T170025Z
UID:3476-1699300800-1699308000@www.fotoclubheerhugowaard.nl
SUMMARY:Basiscursus avond 1
DESCRIPTION:Avond 1: Camera algemeen\nNa de kennismaking en het vertellen van onze ervaring bekijken we elkaars camera’s. Er zijn meestal veel verschillende camera’s. We gaan deze avond in op de verschillen\, maar ook de overeenkomsten. Dat geeft iedereen mogelijkheden\, maar ook beperkingen. We hebben het o.a. over de sensoren\, JPEG en RAW\, de driehoek diafragma-sluitertijd-ISO en nog heel veel meer. Aan het eind van de avond krijgen de cursisten hun eerste foto-opdracht(en).
URL:https://www.fotoclubheerhugowaard.nl/event/basiscursus-avond-1/
LOCATION:Basisschool Reflector\, Keerkring 49\, Heerhugowaard\, 1705 SP\, Nederland
CATEGORIES:Basiscursus
END:VEVENT
BEGIN:VEVENT
DTSTART;TZID=Europe/Amsterdam:20231022T080000
DTEND;TZID=Europe/Amsterdam:20231022T170000
DTSTAMP:20260423T004549
CREATED:20230803T101259Z
LAST-MODIFIED:20230915T172746Z
UID:3823-1697961600-1697994000@www.fotoclubheerhugowaard.nl
SUMMARY:Uiterste inleverdatum foto van de maand november thema: Herfstkleuren
DESCRIPTION:Vandaag is de laatste dag dat je je “foto van de maand” kan insturen voor de maand november. \nNog even de regels op een rij: \nRegels voor het inzenden van de foto van de maand\, voor november 2023: \nØ  Iedereen mag 1 foto inzenden met thema:  “Herfstkleuren” . Dus laat je fantasie de vrije loop… \nØ  Deze moet uiterlijk 22 oktober binnen zijn \nØ  Formaat: langste zijde 1600 pixels \nØ  Mailen naar miriam.ddlc@ziggo.nl \nØ  Jullie krijgen bericht van mij als de foto’s op de site staan met een link \nØ  Alle leden (ook als je niet hebt ingezonden) mogen dan stemmen \nØ  De foto met de meeste punten wordt gekozen tot “foto van de maand” en komt op de voorpagina van onze clubwebsite.
URL:https://www.fotoclubheerhugowaard.nl/event/uiterste-inleverdatum-foto-van-de-maand-november-thema-herfstkleuren/
CATEGORIES:Wedstrijden
END:VEVENT
BEGIN:VEVENT
DTSTART;TZID=Europe/Amsterdam:20231020T200000
DTEND;TZID=Europe/Amsterdam:20231020T223000
DTSTAMP:20260423T004549
CREATED:20230828T173618Z
LAST-MODIFIED:20230915T172821Z
UID:3901-1697832000-1697841000@www.fotoclubheerhugowaard.nl
SUMMARY:Oneliners  /  resultaten GUPPEN-avond
DESCRIPTION:Oneliners  \nNeem vanavond állemaal één foto in passe-partout mee! \n  \nResultaten GUPPEN-avond  \nWat heb je ervan gemaakt?? Neem het resultaat mee!
URL:https://www.fotoclubheerhugowaard.nl/event/clubavond-88/
LOCATION:Centrum 31\, Bickerstraat 31\, Heerhugowaard\, Nederland
CATEGORIES:Vrijdag clubavond
END:VEVENT
BEGIN:VEVENT
DTSTART;TZID=Europe/Amsterdam:20231012T200000
DTEND;TZID=Europe/Amsterdam:20231012T223000
DTSTAMP:20260423T004549
CREATED:20230828T173533Z
LAST-MODIFIED:20230915T172846Z
UID:3899-1697140800-1697149800@www.fotoclubheerhugowaard.nl
SUMMARY:Inspriratie-avond
DESCRIPTION:Vanavond inspireren we elkaar! Hoe?\nDoor het delen van kennis over fotografie\, techniek\, Photoshop\, een fotograaf\, een fotoboek\, een expositie…. het kan van alles zijn! \nWie gaat vanavond iets vertellen / laten zien: \n\nMinke\n\n\nWil je ook nog iets vertellen? Laat het even weten.
URL:https://www.fotoclubheerhugowaard.nl/event/werkavond-4/
LOCATION:Centrum 31\, Bickerstraat 31\, Heerhugowaard\, Nederland
CATEGORIES:Donderdag clubavond
END:VEVENT
BEGIN:VEVENT
DTSTART;TZID=Europe/Amsterdam:20231006T200000
DTEND;TZID=Europe/Amsterdam:20231006T223000
DTSTAMP:20260423T004549
CREATED:20230828T173454Z
LAST-MODIFIED:20230915T172923Z
UID:3897-1696622400-1696631400@www.fotoclubheerhugowaard.nl
SUMMARY:Eigen werk - Foto's inzenden voor Bondsfotowedstrijd (1)
DESCRIPTION:Eigen werk \nVanavond tonen we eigen werk. Wat wil je laten zien? Waar ben je mee bezig? Waar wil je advies over?\nNeem allemaal 1 tot 3 foto’s mee zodat we ze kunnen bespreken. \n  \nInzenden foto’s bondsfotowedstrijd \nVoor vanavond zend je foto’s in die in aanmerking komen voor het meedoen aan de Bondsfotowedstrijd.\nDie gaan we gezamenlijk bespreken
URL:https://www.fotoclubheerhugowaard.nl/event/clubavond-87/
LOCATION:Centrum 31\, Bickerstraat 31\, Heerhugowaard\, Nederland
CATEGORIES:Vrijdag clubavond
END:VEVENT
BEGIN:VEVENT
DTSTART;TZID=Europe/Amsterdam:20230922T200000
DTEND;TZID=Europe/Amsterdam:20230922T223000
DTSTAMP:20260423T004549
CREATED:20230828T173144Z
LAST-MODIFIED:20230915T172957Z
UID:3892-1695412800-1695421800@www.fotoclubheerhugowaard.nl
SUMMARY:Guppen-avond
DESCRIPTION:Vanavond gaan we in groepjes bijzondere foto’s bespreken… hoe? wat? \nDat vertellen we je op de clubavond / in de mail.
URL:https://www.fotoclubheerhugowaard.nl/event/werkavond-2/
LOCATION:Centrum 31\, Bickerstraat 31\, Heerhugowaard\, Nederland
CATEGORIES:Vrijdag clubavond
END:VEVENT
BEGIN:VEVENT
DTSTART;TZID=Europe/Amsterdam:20230922T080000
DTEND;TZID=Europe/Amsterdam:20230922T170000
DTSTAMP:20260423T004549
CREATED:20230803T100919Z
LAST-MODIFIED:20230915T173028Z
UID:3819-1695369600-1695402000@www.fotoclubheerhugowaard.nl
SUMMARY:Uiterste inleverdatum foto van de maand oktober thema: een minimalistisch beeld
DESCRIPTION:Vandaag is de laatste dag dat je je “foto van de maand” kan insturen voor de maand oktober. \nNog even de regels op een rij: \nRegels voor het inzenden van de foto van de maand\, voor oktober 2023: \nØ  Iedereen mag 1 foto inzenden met thema:  “een minimalistisch beeld” . Dus laat je fantasie de vrije loop… \nØ  Deze moet uiterlijk 22 september binnen zijn \nØ  Formaat: langste zijde 1600 pixels \nØ  Mailen naar miriam.ddlc@ziggo.nl \nØ  Jullie krijgen bericht van mij als de foto’s op de site staan met een link \nØ  Alle leden (ook als je niet hebt ingezonden) mogen dan stemmen \nØ  De foto met de meeste punten wordt gekozen tot “foto van de maand” en komt op de voorpagina van onze clubwebsite.
URL:https://www.fotoclubheerhugowaard.nl/event/uiterste-inleverdatum-foto-van-de-maand-oktober-thema-een-minimalistisch-beeld/
CATEGORIES:Wedstrijden
END:VEVENT
BEGIN:VEVENT
DTSTART;TZID=Europe/Amsterdam:20230914T200000
DTEND;TZID=Europe/Amsterdam:20230914T223000
DTSTAMP:20260423T004549
CREATED:20230828T173340Z
LAST-MODIFIED:20230915T173050Z
UID:3895-1694721600-1694730600@www.fotoclubheerhugowaard.nl
SUMMARY:Inspriratie-avond
DESCRIPTION:Vanavond inspireren we elkaar! Hoe?\nDoor het delen van kennis over fotografie\, techniek\, Photoshop\, een fotograaf\, een fotoboek\, een expositie…. het kan van alles zijn! \nWie gaat vanavond iets vertellen / laten zien: \n\nRob (maskeren en selecteren in Lightroom)\n\n\nWil je ook nog iets vertellen? Laat het even weten.
URL:https://www.fotoclubheerhugowaard.nl/event/werkavond-3/
LOCATION:Centrum 31\, Bickerstraat 31\, Heerhugowaard\, Nederland
CATEGORIES:Donderdag clubavond
END:VEVENT
BEGIN:VEVENT
DTSTART;TZID=Europe/Amsterdam:20230908T200000
DTEND;TZID=Europe/Amsterdam:20230908T223000
DTSTAMP:20260423T004549
CREATED:20230709T134803Z
LAST-MODIFIED:20230903T105548Z
UID:3803-1694203200-1694212200@www.fotoclubheerhugowaard.nl
SUMMARY:1e clubavond: ALV + foto's clubuitje/zomeropdracht etc.
DESCRIPTION:We beginnen het seizoen altijd met onze Algemene Vergadering. Dit is alleen toegankelijk voor clubleden. Tijdens het officiële gedeelte brengt het bestuur verslag uit van het afgelopen seizoen en lichten we de plannen voor het nieuwe seizoen toe. \nNa dit officiële gedeelte van de avond is er tijd voor fotowerk! Wat laten we zien…?  Kijk daarvoor in je mail en stuur tijdig de foto’s in. \nDaarna is er tijd om bij te kletsen onder het genot van een hapje en een drankje.\nTot vrijdag!
URL:https://www.fotoclubheerhugowaard.nl/event/1e-clubavond-alv-resultaten-clubuitje/
LOCATION:Centrum 31\, Bickerstraat 31\, Heerhugowaard\, Nederland
CATEGORIES:Vrijdag clubavond
END:VEVENT
BEGIN:VEVENT
DTSTART;TZID=Europe/Amsterdam:20230822T080000
DTEND;TZID=Europe/Amsterdam:20230822T170000
DTSTAMP:20260423T004549
CREATED:20230803T100553Z
LAST-MODIFIED:20230803T100604Z
UID:3816-1692691200-1692723600@www.fotoclubheerhugowaard.nl
SUMMARY:Uiterste inleverdatum foto van de maand september thema: Vrij
DESCRIPTION:Vandaag is de laatste dag dat je je “foto van de maand” kan insturen voor de maand september. \nNog even de regels op een rij: \nRegels voor het inzenden van de foto van de maand\, voor september 2023: \nØ  Iedereen mag 1 foto inzenden met een vrij thema deze maand! Dus laat je fantasie de vrije loop… \nØ  Deze moet uiterlijk 22 augustus binnen zijn \nØ  Formaat: langste zijde 1600 pixels \nØ  Mailen naar miriam.ddlc@ziggo.nl \nØ  Jullie krijgen bericht van mij als de foto’s op de site staan met een link \nØ  Alle leden (ook als je niet hebt ingezonden) mogen dan stemmen \nØ  De foto met de meeste punten wordt gekozen tot “foto van de maand” en komt op de voorpagina van onze clubwebsite.
URL:https://www.fotoclubheerhugowaard.nl/event/uiterste-inleverdatum-foto-van-de-maand-september/
END:VEVENT
BEGIN:VEVENT
DTSTART;VALUE=DATE:20230610
DTEND;VALUE=DATE:20230611
DTSTAMP:20260423T004549
CREATED:20230419T135316Z
LAST-MODIFIED:20230419T135316Z
UID:3586-1686355200-1686441599@www.fotoclubheerhugowaard.nl
SUMMARY:St. Nut - fietstocht met de Fotoclubleden
DESCRIPTION:Zet ‘m alvast in je agenda!!\nDe leuke fietstocht staat weer op het programma.
URL:https://www.fotoclubheerhugowaard.nl/event/st-nut-fietstocht-met-de-fotoclubleden/
END:VEVENT
BEGIN:VEVENT
DTSTART;VALUE=DATE:20230603
DTEND;VALUE=DATE:20230604
DTSTAMP:20260423T004549
CREATED:20230506T141239Z
LAST-MODIFIED:20230506T141239Z
UID:3643-1685750400-1685836799@www.fotoclubheerhugowaard.nl
SUMMARY:Clubuitje - eindeseizoensuitje
DESCRIPTION:Op deze zaterdag gaan we gezellig met de leden op stap.\nHou je mail in de gaten voor de inhoud van de dag!
URL:https://www.fotoclubheerhugowaard.nl/event/clubuitje-eindeseizoensuitje/
END:VEVENT
BEGIN:VEVENT
DTSTART;TZID=Europe/Amsterdam:20230526T200000
DTEND;TZID=Europe/Amsterdam:20230526T223000
DTSTAMP:20260423T004549
CREATED:20220724T124905Z
LAST-MODIFIED:20220906T074008Z
UID:3161-1685131200-1685140200@www.fotoclubheerhugowaard.nl
SUMMARY:Uitreiking IFC-trofee en Heerhugowaard-Award
DESCRIPTION:De laatste clubavond van het seizoen!\nMet de uitreiking van de IFC-trofee en Heerhugowaard-Award besproken en gejureerd door….. (dat is een verrassing!)
URL:https://www.fotoclubheerhugowaard.nl/event/clubavond-86/
LOCATION:Centrum 31\, Bickerstraat 31\, Heerhugowaard\, Nederland
CATEGORIES:Vrijdag clubavond
END:VEVENT
BEGIN:VEVENT
DTSTART;TZID=Europe/Amsterdam:20230512T200000
DTEND;TZID=Europe/Amsterdam:20230512T223000
DTSTAMP:20260423T004549
CREATED:20220724T124830Z
LAST-MODIFIED:20230111T104013Z
UID:3159-1683921600-1683930600@www.fotoclubheerhugowaard.nl
SUMMARY:Eigen werk + ..
DESCRIPTION:Vanavond tonen we eigen werk. Wat wil je laten zien? Waar ben je mee bezig? Waar wil je advies over? Neem allemaal 1 tot 3 foto’s mee zodat we ze kunnen bespreken. Ben je met een project of een serie bezig? Dan kun je er meer meenemen.
URL:https://www.fotoclubheerhugowaard.nl/event/clubavond-85/
LOCATION:Centrum 31\, Bickerstraat 31\, Heerhugowaard\, Nederland
CATEGORIES:Vrijdag clubavond
END:VEVENT
BEGIN:VEVENT
DTSTART;TZID=Europe/Amsterdam:20230504T200000
DTEND;TZID=Europe/Amsterdam:20230504T223000
DTSTAMP:20260423T004549
CREATED:20220724T124749Z
LAST-MODIFIED:20230414T130245Z
UID:3157-1683230400-1683239400@www.fotoclubheerhugowaard.nl
SUMMARY:Deze clubavond vervalt
DESCRIPTION:i.v.m. Dodenherdenking
URL:https://www.fotoclubheerhugowaard.nl/event/clubavond-84/
LOCATION:Centrum 31\, Bickerstraat 31\, Heerhugowaard\, Nederland
CATEGORIES:Donderdag clubavond
END:VEVENT
BEGIN:VEVENT
DTSTART;TZID=Europe/Amsterdam:20230428T200000
DTEND;TZID=Europe/Amsterdam:20230428T223000
DTSTAMP:20260423T004549
CREATED:20220723T151104Z
LAST-MODIFIED:20220906T073859Z
UID:3155-1682712000-1682721000@www.fotoclubheerhugowaard.nl
SUMMARY:IFC - 3e ronde: Achterstevoren
DESCRIPTION:Ronde 3 van de Interne Foto Competitie\nHet thema van deze IFC ronde is Achterstevoren \nLet op:\nLees de reglementen van de IFC nog even door\, zodat je exact weet wat de bedoeling is.
URL:https://www.fotoclubheerhugowaard.nl/event/clubavond-83/
LOCATION:Centrum 31\, Bickerstraat 31\, Heerhugowaard\, Nederland
CATEGORIES:Vrijdag clubavond
END:VEVENT
BEGIN:VEVENT
DTSTART;TZID=Europe/Amsterdam:20230420T200000
DTEND;TZID=Europe/Amsterdam:20230420T223000
DTSTAMP:20260423T004549
CREATED:20220723T151015Z
LAST-MODIFIED:20230419T143931Z
UID:3153-1682020800-1682029800@www.fotoclubheerhugowaard.nl
SUMMARY:Werkavond: portretavond met modellen
DESCRIPTION:Vanavond gaan we met z’n allen aan de slag!\nCamera mee\, spulletjes mee…. en lekker met z’n allen fotograferen. \nWat? Hoe? Dat hoor je op de clubavonden en in de mail.
URL:https://www.fotoclubheerhugowaard.nl/event/clubavond-82/
LOCATION:Centrum 31\, Bickerstraat 31\, Heerhugowaard\, Nederland
CATEGORIES:Donderdag clubavond
END:VEVENT
BEGIN:VEVENT
DTSTART;TZID=Europe/Amsterdam:20230414T200000
DTEND;TZID=Europe/Amsterdam:20230414T223000
DTSTAMP:20260423T004549
CREATED:20220723T150942Z
LAST-MODIFIED:20230414T130058Z
UID:3151-1681502400-1681511400@www.fotoclubheerhugowaard.nl
SUMMARY:Eigen Werk + de 10 van... + evaluatie
DESCRIPTION:Vanavond tonen we eigen werk. Wat wil je laten zien? Waar ben je mee bezig? Waar wil je advies over? Neem allemaal 1 tot 3 foto’s mee zodat we ze kunnen bespreken. Ben je met een project of een serie bezig? Dan kun je er meer meenemen. \nVanavond laat Minke haar 10 van…. zien!! \nEn… we praten met z’n allen over wat je zou willen dat je club nog organiseert of welke programma-onderdelen je graag terug zou zien volgend clubseizoen.
URL:https://www.fotoclubheerhugowaard.nl/event/clubavond-81/
LOCATION:Centrum 31\, Bickerstraat 31\, Heerhugowaard\, Nederland
CATEGORIES:Vrijdag clubavond
END:VEVENT
BEGIN:VEVENT
DTSTART;TZID=Europe/Amsterdam:20230325T110000
DTEND;TZID=Europe/Amsterdam:20230325T123000
DTSTAMP:20260423T004549
CREATED:20230324T100103Z
LAST-MODIFIED:20230324T100125Z
UID:3537-1679742000-1679747400@www.fotoclubheerhugowaard.nl
SUMMARY:Workshop Smartphonefotografie
DESCRIPTION:Vandaag geven onze leden een workshop smartphonefotografie in de bibliotheek in Langedijk.\nKom je ook kijken? Neem je iemand mee? Leuk om naar te kijken en ook leerzaam. Doe lekker mee met de opdracht en maak er een leuke dag van.\nAanvang: 11:00 uur
URL:https://www.fotoclubheerhugowaard.nl/event/workshop-smartphonefotografie/
END:VEVENT
BEGIN:VEVENT
DTSTART;TZID=Europe/Amsterdam:20230324T200000
DTEND;TZID=Europe/Amsterdam:20230324T223000
DTSTAMP:20260423T004549
CREATED:20220723T150854Z
LAST-MODIFIED:20230324T095720Z
UID:3149-1679688000-1679697000@www.fotoclubheerhugowaard.nl
SUMMARY:De 10 van.... + Eigen Werk + foodfotografie-foto's
DESCRIPTION:Hoe ben jij begonnen in de fotografie? Waar sta je nu?\nWie laat er in 10 foto’s zien hoe zijn/haar fotografische ontwikkeling is geweest? \nNatuurlijk kan iedereen ook foto’s meenemen om te laten zien. \nWe hebben natuurlijk een tijdje terug de foodfotografie-avond gehad\, heb je al wat resultaten? Neem ze mee!
URL:https://www.fotoclubheerhugowaard.nl/event/clubavond-80/
LOCATION:Centrum 31\, Bickerstraat 31\, Heerhugowaard\, Nederland
CATEGORIES:Vrijdag clubavond
END:VEVENT
BEGIN:VEVENT
DTSTART;TZID=Europe/Amsterdam:20230316T200000
DTEND;TZID=Europe/Amsterdam:20230316T223000
DTSTAMP:20260423T004549
CREATED:20220723T150816Z
LAST-MODIFIED:20221028T162012Z
UID:3147-1678996800-1679005800@www.fotoclubheerhugowaard.nl
SUMMARY:Inspiratie-avond
DESCRIPTION:Vanavond inspireren we elkaar! Hoe?\nDoor het delen van kennis over fotografie\, techniek\, Photoshop\, een fotograaf\, een fotoboek\, een expositie…. het kan van alles zijn! \n  \nWil je ook nog iets vertellen? Laat het even weten.
URL:https://www.fotoclubheerhugowaard.nl/event/clubavond-79/
LOCATION:Centrum 31\, Bickerstraat 31\, Heerhugowaard\, Nederland
CATEGORIES:Donderdag clubavond
END:VEVENT
BEGIN:VEVENT
DTSTART;TZID=Europe/Amsterdam:20230310T200000
DTEND;TZID=Europe/Amsterdam:20230310T223000
DTSTAMP:20260423T004549
CREATED:20220723T150729Z
LAST-MODIFIED:20230111T113628Z
UID:3145-1678478400-1678487400@www.fotoclubheerhugowaard.nl
SUMMARY:Gastspreker: Bert Peerboom
DESCRIPTION:Bert Peerboom komt vanavond van alles laten zien en vertellen!\nDenken jullie ook nog aan de opdracht voor vanavond?
URL:https://www.fotoclubheerhugowaard.nl/event/clubavond-78/
LOCATION:Centrum 31\, Bickerstraat 31\, Heerhugowaard\, Nederland
CATEGORIES:Vrijdag clubavond
END:VEVENT
BEGIN:VEVENT
DTSTART;TZID=Europe/Amsterdam:20230224T200000
DTEND;TZID=Europe/Amsterdam:20230224T223000
DTSTAMP:20260423T004549
CREATED:20220723T150642Z
LAST-MODIFIED:20230111T104721Z
UID:3143-1677268800-1677277800@www.fotoclubheerhugowaard.nl
SUMMARY:"10 tegen 10"
DESCRIPTION:We hebben een vriendschappelijke gezellige wedstrijd vanavond. \nIedereen neemt een foto mee die meedoet met de wedstrijd. Hoe gaat het dan?\nDat horen jullie op de clubavonden en in je mail.
URL:https://www.fotoclubheerhugowaard.nl/event/clubavond-77/
LOCATION:Centrum 31\, Bickerstraat 31\, Heerhugowaard\, Nederland
CATEGORIES:Vrijdag clubavond
END:VEVENT
BEGIN:VEVENT
DTSTART;TZID=Europe/Amsterdam:20230216T200000
DTEND;TZID=Europe/Amsterdam:20230216T223000
DTSTAMP:20260423T004549
CREATED:20220723T150603Z
LAST-MODIFIED:20220906T074116Z
UID:3141-1676577600-1676586600@www.fotoclubheerhugowaard.nl
SUMMARY:Werkavond: Foodfotografie
DESCRIPTION:Vanavond gaan we met z’n allen aan de slag!\nCamera mee\, spulletjes mee…. en lekker met z’n allen fotograferen. \nWat? Hoe? Dat hoor je op de clubavonden en in de mail.
URL:https://www.fotoclubheerhugowaard.nl/event/clubavond-76/
LOCATION:Centrum 31\, Bickerstraat 31\, Heerhugowaard\, Nederland
CATEGORIES:Donderdag clubavond
END:VEVENT
END:VCALENDAR