BEGIN:VCALENDAR
VERSION:2.0
PRODID:-//Fotoclub Heerhugowaard - ECPv6.15.17.1//NONSGML v1.0//EN
CALSCALE:GREGORIAN
METHOD:PUBLISH
X-WR-CALNAME:Fotoclub Heerhugowaard
X-ORIGINAL-URL:https://www.fotoclubheerhugowaard.nl
X-WR-CALDESC:Evenementen voor Fotoclub Heerhugowaard
REFRESH-INTERVAL;VALUE=DURATION:PT1H
X-Robots-Tag:noindex
X-PUBLISHED-TTL:PT1H
BEGIN:VTIMEZONE
TZID:Europe/Amsterdam
BEGIN:DAYLIGHT
TZOFFSETFROM:+0100
TZOFFSETTO:+0200
TZNAME:CEST
DTSTART:20220327T010000
END:DAYLIGHT
BEGIN:STANDARD
TZOFFSETFROM:+0200
TZOFFSETTO:+0100
TZNAME:CET
DTSTART:20221030T010000
END:STANDARD
BEGIN:DAYLIGHT
TZOFFSETFROM:+0100
TZOFFSETTO:+0200
TZNAME:CEST
DTSTART:20230326T010000
END:DAYLIGHT
BEGIN:STANDARD
TZOFFSETFROM:+0200
TZOFFSETTO:+0100
TZNAME:CET
DTSTART:20231029T010000
END:STANDARD
BEGIN:DAYLIGHT
TZOFFSETFROM:+0100
TZOFFSETTO:+0200
TZNAME:CEST
DTSTART:20240331T010000
END:DAYLIGHT
BEGIN:STANDARD
TZOFFSETFROM:+0200
TZOFFSETTO:+0100
TZNAME:CET
DTSTART:20241027T010000
END:STANDARD
BEGIN:DAYLIGHT
TZOFFSETFROM:+0100
TZOFFSETTO:+0200
TZNAME:CEST
DTSTART:20250330T010000
END:DAYLIGHT
BEGIN:STANDARD
TZOFFSETFROM:+0200
TZOFFSETTO:+0100
TZNAME:CET
DTSTART:20251026T010000
END:STANDARD
END:VTIMEZONE
BEGIN:VEVENT
DTSTART;TZID=Europe/Amsterdam:20240419T200000
DTEND;TZID=Europe/Amsterdam:20240419T223000
DTSTAMP:20260423T002753
CREATED:20230828T175311Z
LAST-MODIFIED:20230915T172026Z
UID:3937-1713556800-1713565800@www.fotoclubheerhugowaard.nl
SUMMARY:IFC- 3e ronde thema: Tranen
DESCRIPTION:
URL:https://www.fotoclubheerhugowaard.nl/event/ifc-3e-ronde-thema-tranen/
LOCATION:Centrum 31\, Bickerstraat 31\, Heerhugowaard\, Nederland
CATEGORIES:Vrijdag clubavond,Wedstrijden
END:VEVENT
BEGIN:VEVENT
DTSTART;TZID=Europe/Amsterdam:20240411T200000
DTEND;TZID=Europe/Amsterdam:20240411T223000
DTSTAMP:20260423T002753
CREATED:20230828T175223Z
LAST-MODIFIED:20240324T130959Z
UID:3935-1712865600-1712874600@www.fotoclubheerhugowaard.nl
SUMMARY:Inspiratie-avond + resultaten Foodfotografie
DESCRIPTION:Vanavond inspireren we elkaar! Hoe?\nDoor het delen van kennis over fotografie\, techniek\, Photoshop\, een fotograaf\, een fotoboek\, een expositie…. het kan van alles zijn! \nWie gaat vanavond iets vertellen / laten zien: \n\n\n\nWil je ook nog iets vertellen? Laat het even weten. \nResultaten Foodfotografie \nVoor de fotografen die foto’s hebben gemaakt tijdens de werkavond foodfotografie: stuur 2 of 3 foto’s naar Rob zodat we vanavond de resultaten van jullie lekkere inspanningen zien!
URL:https://www.fotoclubheerhugowaard.nl/event/werkavond-10/
LOCATION:Centrum 31\, Bickerstraat 31\, Heerhugowaard\, Nederland
CATEGORIES:Donderdag clubavond
END:VEVENT
BEGIN:VEVENT
DTSTART;TZID=Europe/Amsterdam:20240405T200000
DTEND;TZID=Europe/Amsterdam:20240405T223000
DTSTAMP:20260423T002753
CREATED:20230828T175146Z
LAST-MODIFIED:20240223T132736Z
UID:3933-1712347200-1712356200@www.fotoclubheerhugowaard.nl
SUMMARY:Gastspreker: Marcel Witte
DESCRIPTION:Vanavond komt Marcel Witte praten over zijn werk en zijn prachtige foto’s laten zien! \nHome \n \n 
URL:https://www.fotoclubheerhugowaard.nl/event/clubavond-96/
LOCATION:Centrum 31\, Bickerstraat 31\, Heerhugowaard\, Nederland
CATEGORIES:Vrijdag clubavond
END:VEVENT
BEGIN:VEVENT
DTSTART;TZID=Europe/Amsterdam:20240322T200000
DTEND;TZID=Europe/Amsterdam:20240322T223000
DTSTAMP:20260423T002753
CREATED:20230828T174939Z
LAST-MODIFIED:20240223T132645Z
UID:3931-1711137600-1711146600@www.fotoclubheerhugowaard.nl
SUMMARY:10 tegen 10 wedstrijd
DESCRIPTION:Let op je mail voor de uitleg van deze 10 tegen 10 wedstrijd!
URL:https://www.fotoclubheerhugowaard.nl/event/clubavond-95/
LOCATION:Centrum 31\, Bickerstraat 31\, Heerhugowaard\, Nederland
CATEGORIES:Vrijdag clubavond
END:VEVENT
BEGIN:VEVENT
DTSTART;TZID=Europe/Amsterdam:20240314T200000
DTEND;TZID=Europe/Amsterdam:20240314T223000
DTSTAMP:20260423T002753
CREATED:20230828T174901Z
LAST-MODIFIED:20240314T180222Z
UID:3929-1710446400-1710455400@www.fotoclubheerhugowaard.nl
SUMMARY:Inspiratie-avond
DESCRIPTION:Vanavond inspireren we elkaar! Hoe?\nDoor het delen van kennis over fotografie\, techniek\, Photoshop\, een fotograaf\, een fotoboek\, een expositie…. het kan van alles zijn! \nWie gaat vanavond iets vertellen / laten zien: \n\nGoos (architectuurfotografie)\nRob (irisfotografie)\n\nWil je ook nog iets vertellen? Laat het even weten.
URL:https://www.fotoclubheerhugowaard.nl/event/werkavond-9/
LOCATION:Centrum 31\, Bickerstraat 31\, Heerhugowaard\, Nederland
CATEGORIES:Donderdag clubavond
END:VEVENT
BEGIN:VEVENT
DTSTART;TZID=Europe/Amsterdam:20240301T200000
DTEND;TZID=Europe/Amsterdam:20240301T223000
DTSTAMP:20260423T002753
CREATED:20230828T174815Z
LAST-MODIFIED:20240121T133504Z
UID:3927-1709323200-1709332200@www.fotoclubheerhugowaard.nl
SUMMARY:Eigen Werk + Themafoto "een spreekwoord of gezegde" + Resultaten Oostvaardersplassen
DESCRIPTION:Eigen werk \nVanavond tonen we eigen werk. Wat wil je laten zien? Waar ben je mee bezig? Waar wil je advies over?\nNeem allemaal 1 tot 3 foto’s mee zodat we ze kunnen bespreken. \n  \nThema-foto \nVoor vanavond maken we een foto met het thema: “een spreekwoord of gezegde”.\nGa eens kijken hoe je spreekwoorden of gezegden kunt verbeelden… leef je uit en neem een paar foto’s mee! \n  \nResultaten Oostvaardersplassen \nVoor de fotografen die mee zijn gegaan naar het clubuitje op 3 februari : stuur 2 of 3 foto’s naar Rob zodat we vanavond de resultaten van jullie gezellige dag zien!
URL:https://www.fotoclubheerhugowaard.nl/event/clubavond-94/
LOCATION:Centrum 31\, Bickerstraat 31\, Heerhugowaard\, Nederland
CATEGORIES:Vrijdag clubavond
END:VEVENT
BEGIN:VEVENT
DTSTART;TZID=Europe/Amsterdam:20240229T080000
DTEND;TZID=Europe/Amsterdam:20240229T170000
DTSTAMP:20260423T002753
CREATED:20240229T103539Z
LAST-MODIFIED:20240229T103539Z
UID:4266-1709193600-1709226000@www.fotoclubheerhugowaard.nl
SUMMARY:Foto Individueel 2024 (Fotobond wedstrijd)
DESCRIPTION:De fotobond organiseert wedstrijden voor leden van de fotobond. \nEvenals de vorige jaren is er dit voorjaar weer een wedstrijd Foto Individueel\, 2024 / 1.\nEr kan worden deelgenomen in de genres Natuur\, Creatief\, Documentair en Vrij onderwerp.\nIngezonden kan worden vanaf 15 febr. tot 1 april. \nZie voor meer informatie: \nhttps://fotobond.nl/fotowedstrijden/foto-individueel/
URL:https://www.fotoclubheerhugowaard.nl/event/foto-individueel-2024-fotobond-wedstrijd/
CATEGORIES:Wedstrijden
END:VEVENT
BEGIN:VEVENT
DTSTART;TZID=Europe/Amsterdam:20240215T200000
DTEND;TZID=Europe/Amsterdam:20240215T223000
DTSTAMP:20260423T002753
CREATED:20230828T174715Z
LAST-MODIFIED:20231115T162759Z
UID:3925-1708027200-1708036200@www.fotoclubheerhugowaard.nl
SUMMARY:Werkavond -foodfotografie
DESCRIPTION:Vanavond inspireren we elkaar! Hoe?\nWe gaan weer lekker aan de slag met elkaar met onze camera’s en lekker eten…. we gaan food fotograferen! \nDit hebben we al eens eerder gedaan. Met alle tips en opmerkingen die daarna zijn gekomen gaan we opnieuw aan de slag.\nEn… daarna gaan we het lekker opeten met z’n allen.
URL:https://www.fotoclubheerhugowaard.nl/event/werkavond-8/
LOCATION:Centrum 31\, Bickerstraat 31\, Heerhugowaard\, Nederland
CATEGORIES:Donderdag clubavond
END:VEVENT
BEGIN:VEVENT
DTSTART;TZID=Europe/Amsterdam:20240209T200000
DTEND;TZID=Europe/Amsterdam:20240209T223000
DTSTAMP:20260423T002753
CREATED:20230828T174630Z
LAST-MODIFIED:20230915T172222Z
UID:3923-1707508800-1707517800@www.fotoclubheerhugowaard.nl
SUMMARY:IFC- 2e ronde thema: Zweet
DESCRIPTION:
URL:https://www.fotoclubheerhugowaard.nl/event/ifc-2e-ronde-thema-zweet/
LOCATION:Centrum 31\, Bickerstraat 31\, Heerhugowaard\, Nederland
CATEGORIES:Vrijdag clubavond,Wedstrijden
END:VEVENT
BEGIN:VEVENT
DTSTART;VALUE=DATE:20240203
DTEND;VALUE=DATE:20240204
DTSTAMP:20260423T002753
CREATED:20230828T174540Z
LAST-MODIFIED:20240121T133342Z
UID:3921-1706918400-1707004799@www.fotoclubheerhugowaard.nl
SUMMARY:Fotograferen met de club - dagje op pad
DESCRIPTION:Vandaag gaan we een dagje fotograferen bij de Oostvaardersplassen. Hou je mail en app in de gaten voor de details! \nInteressante dieren die je kunt tegenkomen binnen het gebied: \n– Edelhert\, meer dan 3500 bij elkaar \n– Konik\, niet een unieke soort\, maar het gedrag van meer dan 1300 ‘wilde’ paarden bij elkaar is wel uniek \n– Zeearend\, lastig te zien omdat het gebied groot is \n– watervogels en ijsvogel\, met name vanuit de vogelhutten als poelruiter \n– Vos\, één van de weinig plekken waar de vos overdag jaagt en niet schuw is. \n  \nDe resultaten van deze dag laten de fotografen zien op de clubavond van 1 maart a.s.\nStuur hiervoor 2 of 3 foto’s op tijd naar Rob.
URL:https://www.fotoclubheerhugowaard.nl/event/clubavond-93/
CATEGORIES:Evenementen
END:VEVENT
BEGIN:VEVENT
DTSTART;TZID=Europe/Amsterdam:20240129T200000
DTEND;TZID=Europe/Amsterdam:20240129T220000
DTSTAMP:20260423T002753
CREATED:20230218T182911Z
LAST-MODIFIED:20230709T170300Z
UID:3494-1706558400-1706565600@www.fotoclubheerhugowaard.nl
SUMMARY:Basiscursus avond 10
DESCRIPTION:Avond 10: Passe-partout snijden en evaluatie\nOp deze laatste avond gaan de cursisten zelf een passe-partout snijden met de aanwezige apparatuur. De cursisten nemen een mooie afgedrukte foto mee\, die daar in geplakt gaat worden. Verder evalueren we de gehele cursus.
URL:https://www.fotoclubheerhugowaard.nl/event/basiscursus-avond-10/
LOCATION:Basisschool Reflector\, Keerkring 49\, Heerhugowaard\, 1705 SP\, Nederland
CATEGORIES:Basiscursus
END:VEVENT
BEGIN:VEVENT
DTSTART;TZID=Europe/Amsterdam:20240126T200000
DTEND;TZID=Europe/Amsterdam:20240126T223000
DTSTAMP:20260423T002753
CREATED:20230828T174453Z
LAST-MODIFIED:20231115T162552Z
UID:3919-1706299200-1706308200@www.fotoclubheerhugowaard.nl
SUMMARY:Eigen werk - resultaten modellendag
DESCRIPTION:Eigen werk \nVanavond tonen we eigen werk. Wat wil je laten zien? Waar ben je mee bezig? Waar wil je advies over?\nNeem allemaal 1 tot 3 foto’s mee zodat we ze kunnen bespreken. \n  \nResultaten modellendag 2 december \nVoor vanavond nemen de leden die gefotografeerd hebben tijdens de modellendag op 2 december jl. de resultaten van hun inspanningen mee.
URL:https://www.fotoclubheerhugowaard.nl/event/clubavond-92/
LOCATION:Centrum 31\, Bickerstraat 31\, Heerhugowaard\, Nederland
CATEGORIES:Vrijdag clubavond
END:VEVENT
BEGIN:VEVENT
DTSTART;TZID=Europe/Amsterdam:20240122T200000
DTEND;TZID=Europe/Amsterdam:20240122T220000
DTSTAMP:20260423T002753
CREATED:20230218T182806Z
LAST-MODIFIED:20230709T170239Z
UID:3492-1705953600-1705960800@www.fotoclubheerhugowaard.nl
SUMMARY:Basiscursus avond 9
DESCRIPTION:Avond 9: Compositie en verzoekjes\nWe beginnen de avond weer met het bespreken van de foto-opdracht(en) en bekijken de gemaakte portretten. Verder zien we een presentatie over het belang van een goede compositie en beantwoorden we vragen van zaken die in de cursus niet of te weinig aan bod zijn gekomen.
URL:https://www.fotoclubheerhugowaard.nl/event/basiscursus-avond-9/
LOCATION:Basisschool Reflector\, Keerkring 49\, Heerhugowaard\, 1705 SP\, Nederland
CATEGORIES:Basiscursus
END:VEVENT
BEGIN:VEVENT
DTSTART;TZID=Europe/Amsterdam:20240118T200000
DTEND;TZID=Europe/Amsterdam:20240118T223000
DTSTAMP:20260423T002753
CREATED:20230828T174403Z
LAST-MODIFIED:20240121T133208Z
UID:3917-1705608000-1705617000@www.fotoclubheerhugowaard.nl
SUMMARY:Inspriatie-avond
DESCRIPTION:Vanavond inspireren we elkaar! Hoe?\nDoor het delen van kennis over fotografie\, techniek\, Photoshop\, een fotograaf\, een fotoboek\, een expositie…. het kan van alles zijn! \nWie gaat vanavond iets vertellen / laten zien: \n\nRob (Photoshop en Lightroom)\n\nWe gaan het ook hebben over manieren van exposeren en collages maken. \nWil je ook nog iets vertellen? Laat het even weten.
URL:https://www.fotoclubheerhugowaard.nl/event/werkavond-7/
LOCATION:Centrum 31\, Bickerstraat 31\, Heerhugowaard\, Nederland
CATEGORIES:Donderdag clubavond
END:VEVENT
BEGIN:VEVENT
DTSTART;TZID=Europe/Amsterdam:20240115T200000
DTEND;TZID=Europe/Amsterdam:20240115T220000
DTSTAMP:20260423T002753
CREATED:20230218T182641Z
LAST-MODIFIED:20230709T170225Z
UID:3490-1705348800-1705356000@www.fotoclubheerhugowaard.nl
SUMMARY:Basiscursus avond 8
DESCRIPTION:Avond 8: Portretavond\nDeze avond is weer een praktijkavond. We hebben in de zaal van de school 2 opstellingen klaar staan met (flits)lampen en achtergronden en gaan portretten maken! Twee leden van de fotoclub met veel ervaring hiermee komen assisteren.
URL:https://www.fotoclubheerhugowaard.nl/event/basiscursus-avond-8/
LOCATION:Basisschool Reflector\, Keerkring 49\, Heerhugowaard\, 1705 SP\, Nederland
CATEGORIES:Basiscursus
END:VEVENT
BEGIN:VEVENT
DTSTART;TZID=Europe/Amsterdam:20240112T200000
DTEND;TZID=Europe/Amsterdam:20240112T223000
DTSTAMP:20260423T002753
CREATED:20230828T174319Z
LAST-MODIFIED:20230915T172356Z
UID:3915-1705089600-1705098600@www.fotoclubheerhugowaard.nl
SUMMARY:Nieuwjaarsborrel en uitzoeken foto's voor fotobondwedstrijd
DESCRIPTION:
URL:https://www.fotoclubheerhugowaard.nl/event/nieuwjaarsborrel-en-uitzoeken-fotos-voor-fotobondwedstrijd/
CATEGORIES:Vrijdag clubavond
END:VEVENT
BEGIN:VEVENT
DTSTART;TZID=Europe/Amsterdam:20240108T200000
DTEND;TZID=Europe/Amsterdam:20240108T220000
DTSTAMP:20260423T002753
CREATED:20230218T182533Z
LAST-MODIFIED:20230709T170209Z
UID:3488-1704744000-1704751200@www.fotoclubheerhugowaard.nl
SUMMARY:Basiscursus avond 7
DESCRIPTION:Avond 7: Software en fotobewerking\nWe beginnen de avond weer met het bespreken van de foto-opdracht(en). Daarna hebben we het over verschillende soorten software en zien we een demonstratie van het werken met o.a. Photoshop. Aan het eind van de avond krijgen de cursisten hun nieuwe foto-opdracht(en)
URL:https://www.fotoclubheerhugowaard.nl/event/basiscursus-avond-7/
LOCATION:Basisschool Reflector\, Keerkring 49\, Heerhugowaard\, 1705 SP\, Nederland
CATEGORIES:Basiscursus
END:VEVENT
BEGIN:VEVENT
DTSTART;TZID=Europe/Amsterdam:20231218T200000
DTEND;TZID=Europe/Amsterdam:20231218T220000
DTSTAMP:20260423T002753
CREATED:20230218T182418Z
LAST-MODIFIED:20230709T170151Z
UID:3486-1702929600-1702936800@www.fotoclubheerhugowaard.nl
SUMMARY:Basiscursus avond 6
DESCRIPTION:Avond 6: Belichting en objectieven\nWe beginnen de avond weer met het bespreken van de foto-opdracht(en) van avond 4 en de gemaakte avondfoto’s. Daarna zullen het uitgebreider hebben over belichting en allerlei soorten objectieven. Aan het eind van de avond krijgen de cursisten hun nieuwe foto-opdracht(en).
URL:https://www.fotoclubheerhugowaard.nl/event/basiscursus-avond-6/
LOCATION:Basisschool Reflector\, Keerkring 49\, Heerhugowaard\, 1705 SP\, Nederland
CATEGORIES:Basiscursus
END:VEVENT
BEGIN:VEVENT
DTSTART;TZID=Europe/Amsterdam:20231214T200000
DTEND;TZID=Europe/Amsterdam:20231214T223000
DTSTAMP:20260423T002753
CREATED:20230828T174209Z
LAST-MODIFIED:20231213T114434Z
UID:3913-1702584000-1702593000@www.fotoclubheerhugowaard.nl
SUMMARY:Inspiratie-avond + resultaten werkavond
DESCRIPTION:Vanavond inspireren we elkaar! Hoe?\nDoor het delen van kennis over fotografie\, techniek\, Photoshop\, een fotograaf\, een fotoboek\, een expositie…. het kan van alles zijn! \nWie gaat vanavond iets vertellen / laten zien: \n\nMiriam – series\nNeem zelf ook een serie mee\, of stel je vragen die je hebt over series!\n\nWil je ook nog iets vertellen? Laat het even weten. \n  \nResultaten werkavond \nWe laten vanavond ook het resultaat aan elkaar zien van de foto’s gemaakt op de werkavond van 16 november
URL:https://www.fotoclubheerhugowaard.nl/event/werkavond-6/
LOCATION:Centrum 31\, Bickerstraat 31\, Heerhugowaard\, Nederland
CATEGORIES:Donderdag clubavond
END:VEVENT
BEGIN:VEVENT
DTSTART;TZID=Europe/Amsterdam:20231208T200000
DTEND;TZID=Europe/Amsterdam:20231208T223000
DTSTAMP:20260423T002753
CREATED:20230828T174125Z
LAST-MODIFIED:20231204T182330Z
UID:3911-1702065600-1702074600@www.fotoclubheerhugowaard.nl
SUMMARY:Eigen Werk + allerlei
DESCRIPTION:Eigen werk \nVanavond tonen we eigen werk. Wat wil je laten zien? Waar ben je mee bezig? Waar wil je advies over?\nNeem allemaal 1 tot 3 foto’s mee zodat we ze kunnen bespreken. \n  \nAllerlei \nHeb je nog foto’s voor de selectie voor de Bondsfotowedstrijd?\nWat wil je nog laten zien? Wat wil je weten over fotografie?\nHeb je iets dat je wil delen met je clubgenoten?\nHeb je een idee?\nLaat het weten!
URL:https://www.fotoclubheerhugowaard.nl/event/clubavond-91/
LOCATION:Centrum 31\, Bickerstraat 31\, Heerhugowaard\, Nederland
CATEGORIES:Vrijdag clubavond
END:VEVENT
BEGIN:VEVENT
DTSTART;TZID=Europe/Amsterdam:20231204T200000
DTEND;TZID=Europe/Amsterdam:20231204T220000
DTSTAMP:20260423T002753
CREATED:20230218T182305Z
LAST-MODIFIED:20230709T170137Z
UID:3484-1701720000-1701727200@www.fotoclubheerhugowaard.nl
SUMMARY:Basiscursus avond 5
DESCRIPTION:Avond 5: Avondfotografie\nDeze avond is een praktijkavond. We gaan de hele avond buiten foto’s maken. We zijn op 3 plekken (vlak bij elkaar) om nachtopnames te maken. We gebruiken een statief (kan ook geleend worden) en stellen de camera handmatig in. Warm aankleden!! Bij slecht weer wordt deze avond geruild met een binnenavond. Je mooiste foto’s laten we de week erop aan elkaar zien.
URL:https://www.fotoclubheerhugowaard.nl/event/basiscursus-avond-5/
LOCATION:Basisschool Reflector\, Keerkring 49\, Heerhugowaard\, 1705 SP\, Nederland
CATEGORIES:Basiscursus
END:VEVENT
BEGIN:VEVENT
DTSTART;VALUE=DATE:20231202
DTEND;VALUE=DATE:20231203
DTSTAMP:20260423T002753
CREATED:20230828T174041Z
LAST-MODIFIED:20231115T161710Z
UID:3909-1701475200-1701561599@www.fotoclubheerhugowaard.nl
SUMMARY:Fotograferen met de club - modellendag
DESCRIPTION:Vandaag is “modellen-dag”. We hebben de hele dag gereserveerd om lekker met z’n allen te gaan fotograferen.\nWat / waar / hoe? \nHou je mail in de gaten want daarin worden jullie verder geïnformeerd.
URL:https://www.fotoclubheerhugowaard.nl/event/clubavond-90/
CATEGORIES:Evenementen
END:VEVENT
BEGIN:VEVENT
DTSTART;TZID=Europe/Amsterdam:20231127T200000
DTEND;TZID=Europe/Amsterdam:20231127T220000
DTSTAMP:20260423T002753
CREATED:20230218T182121Z
LAST-MODIFIED:20230709T170122Z
UID:3482-1701115200-1701122400@www.fotoclubheerhugowaard.nl
SUMMARY:Basiscursus avond 4
DESCRIPTION:Avond 4: Handmatige instelling\nWe beginnen de avond weer met het bespreken van de foto-opdracht(en). Daarna gaan we het hebben over het fotograferen terwijl je zelf alles moet instellen op je camera\, dus niets meer op de automaat. Wat zijn de gevolgen als ik een groot diafragma instel maar ook een lange sluitertijd wil of juist andersom? Het belang van de juiste ISO instelling en nog veel meer. We oefenen weer met eenvoudige oefeningen om het verband te snappen tussen diafragma-sluitertijd-ISO. Aan het eind van de avond krijgen de cursisten hun nieuwe foto-opdracht(en).
URL:https://www.fotoclubheerhugowaard.nl/event/basiscursus-avond-4/
LOCATION:Basisschool Reflector\, Keerkring 49\, Heerhugowaard\, 1705 SP\, Nederland
CATEGORIES:Basiscursus
END:VEVENT
BEGIN:VEVENT
DTSTART;TZID=Europe/Amsterdam:20231124T200000
DTEND;TZID=Europe/Amsterdam:20231124T223000
DTSTAMP:20260423T002753
CREATED:20230828T173916Z
LAST-MODIFIED:20230915T172546Z
UID:3907-1700856000-1700865000@www.fotoclubheerhugowaard.nl
SUMMARY:Eigen werk + Foto's inzenden voor Bondsfotowedstrijd (2)
DESCRIPTION:Eigen werk \nVanavond tonen we eigen werk. Wat wil je laten zien? Waar ben je mee bezig? Waar wil je advies over?\nNeem allemaal 1 tot 3 foto’s mee zodat we ze kunnen bespreken. \n  \nInzenden foto’s bondsfotowedstrijd \nVoor vanavond zend je foto’s in die in aanmerking komen voor het meedoen aan de Bondsfotowedstrijd.\nDie gaan we gezamenlijk bespreken
URL:https://www.fotoclubheerhugowaard.nl/event/clubavond-89/
LOCATION:Centrum 31\, Bickerstraat 31\, Heerhugowaard\, Nederland
CATEGORIES:Vrijdag clubavond
END:VEVENT
BEGIN:VEVENT
DTSTART;TZID=Europe/Amsterdam:20231122T080000
DTEND;TZID=Europe/Amsterdam:20231122T170000
DTSTAMP:20260423T002753
CREATED:20230803T101655Z
LAST-MODIFIED:20230915T172618Z
UID:3825-1700640000-1700672400@www.fotoclubheerhugowaard.nl
SUMMARY:Uiterste inleverdatum foto van de maand december thema: Vrij
DESCRIPTION:Vandaag is de laatste dag dat je je “foto van de maand” kan insturen voor de maand december. \nNog even de regels op een rij: \nRegels voor het inzenden van de foto van de maand\, voor december 2023: \nØ  Iedereen mag 1 foto inzenden met een “Vrij” thema deze maand. Dus laat je fantasie de vrije loop… \nØ  Deze moet uiterlijk 22 november binnen zijn \nØ  Formaat: langste zijde 1600 pixels \nØ  Mailen naar miriam.ddlc@ziggo.nl \nØ  Jullie krijgen bericht van mij als de foto’s op de site staan met een link \nØ  Alle leden (ook als je niet hebt ingezonden) mogen dan stemmen \nØ  De foto met de meeste punten wordt gekozen tot “foto van de maand” en komt op de voorpagina van onze clubwebsite.
URL:https://www.fotoclubheerhugowaard.nl/event/uiterste-inleverdatum-foto-van-de-maand-december-thema-vrij/
CATEGORIES:Wedstrijden
END:VEVENT
BEGIN:VEVENT
DTSTART;TZID=Europe/Amsterdam:20231120T200000
DTEND;TZID=Europe/Amsterdam:20231120T220000
DTSTAMP:20260423T002753
CREATED:20230218T182005Z
LAST-MODIFIED:20230709T170105Z
UID:3480-1700510400-1700517600@www.fotoclubheerhugowaard.nl
SUMMARY:Basiscursus avond 3
DESCRIPTION:Avond 3: Sluitertijd\nWe beginnen de avond met het bespreken van de foto-opdracht(en). Daarna gaan we het hebben over de sluitertijd. Hoe maken we foto’s met verschillende sluitertijden? Wanneer juist een korte sluitertijd en wanneer juist een langere? Met eenvoudige praktijkoefeningen krijgen we door wat het belang is van foto’s maken met de juiste sluitertijd. Aan het eind van de avond krijgen de cursisten hun nieuwe foto-opdracht(en).
URL:https://www.fotoclubheerhugowaard.nl/event/basiscursus-avond-3/
LOCATION:Basisschool Reflector\, Keerkring 49\, Heerhugowaard\, 1705 SP\, Nederland
CATEGORIES:Basiscursus
END:VEVENT
BEGIN:VEVENT
DTSTART;TZID=Europe/Amsterdam:20231116T200000
DTEND;TZID=Europe/Amsterdam:20231116T223000
DTSTAMP:20260423T002753
CREATED:20230828T173830Z
LAST-MODIFIED:20231115T161536Z
UID:3905-1700164800-1700173800@www.fotoclubheerhugowaard.nl
SUMMARY:Werkavond
DESCRIPTION:Vanavond wordt een werkavond\, wat we gaan doen…. het is iets feestelijks! We gaan inspiratie opdoen om een mooie kerstkaart te maken!\nDus neem in ieder geval je camera mee en hou je mail in de gaten want je kunt nog veel meer meenemen…
URL:https://www.fotoclubheerhugowaard.nl/event/werkavond-5/
LOCATION:Centrum 31\, Bickerstraat 31\, Heerhugowaard\, Nederland
CATEGORIES:Donderdag clubavond
END:VEVENT
BEGIN:VEVENT
DTSTART;TZID=Europe/Amsterdam:20231113T200000
DTEND;TZID=Europe/Amsterdam:20231113T220000
DTSTAMP:20260423T002753
CREATED:20230218T181829Z
LAST-MODIFIED:20230709T170046Z
UID:3478-1699905600-1699912800@www.fotoclubheerhugowaard.nl
SUMMARY:Basiscursus avond 2
DESCRIPTION:Avond 2: Diafragma\nWe beginnen de avond met het bespreken van de foto-opdracht(en). Daarna gaan we het hebben over het diafragma. Hoe maken we foto’s met verschillende diafragma’s? Wat is scherptediepte? Met eenvoudige praktijkoefeningen krijgen we door wat het belang is van foto’s maken met een bepaalde diafragma-instelling. Aan het eind van de avond krijgen de cursisten hun nieuwe foto-opdracht(en).
URL:https://www.fotoclubheerhugowaard.nl/event/basiscursus-avond-2/
LOCATION:Basisschool Reflector\, Keerkring 49\, Heerhugowaard\, 1705 SP\, Nederland
CATEGORIES:Basiscursus
END:VEVENT
BEGIN:VEVENT
DTSTART;TZID=Europe/Amsterdam:20231110T200000
DTEND;TZID=Europe/Amsterdam:20231110T223000
DTSTAMP:20260423T002753
CREATED:20230828T173744Z
LAST-MODIFIED:20230915T172718Z
UID:3903-1699646400-1699655400@www.fotoclubheerhugowaard.nl
SUMMARY:IFC- 1e ronde thema: Bloed
DESCRIPTION:
URL:https://www.fotoclubheerhugowaard.nl/event/ifc-1e-ronde-thema-bloed/
LOCATION:Centrum 31\, Bickerstraat 31\, Heerhugowaard\, Nederland
CATEGORIES:Vrijdag clubavond,Wedstrijden
END:VEVENT
BEGIN:VEVENT
DTSTART;TZID=Europe/Amsterdam:20231106T200000
DTEND;TZID=Europe/Amsterdam:20231106T220000
DTSTAMP:20260423T002753
CREATED:20230218T181553Z
LAST-MODIFIED:20230709T170025Z
UID:3476-1699300800-1699308000@www.fotoclubheerhugowaard.nl
SUMMARY:Basiscursus avond 1
DESCRIPTION:Avond 1: Camera algemeen\nNa de kennismaking en het vertellen van onze ervaring bekijken we elkaars camera’s. Er zijn meestal veel verschillende camera’s. We gaan deze avond in op de verschillen\, maar ook de overeenkomsten. Dat geeft iedereen mogelijkheden\, maar ook beperkingen. We hebben het o.a. over de sensoren\, JPEG en RAW\, de driehoek diafragma-sluitertijd-ISO en nog heel veel meer. Aan het eind van de avond krijgen de cursisten hun eerste foto-opdracht(en).
URL:https://www.fotoclubheerhugowaard.nl/event/basiscursus-avond-1/
LOCATION:Basisschool Reflector\, Keerkring 49\, Heerhugowaard\, 1705 SP\, Nederland
CATEGORIES:Basiscursus
END:VEVENT
END:VCALENDAR