BEGIN:VCALENDAR
VERSION:2.0
PRODID:-//Fotoclub Heerhugowaard - ECPv6.15.17.1//NONSGML v1.0//EN
CALSCALE:GREGORIAN
METHOD:PUBLISH
X-WR-CALNAME:Fotoclub Heerhugowaard
X-ORIGINAL-URL:https://www.fotoclubheerhugowaard.nl
X-WR-CALDESC:Evenementen voor Fotoclub Heerhugowaard
REFRESH-INTERVAL;VALUE=DURATION:PT1H
X-Robots-Tag:noindex
X-PUBLISHED-TTL:PT1H
BEGIN:VTIMEZONE
TZID:Europe/Amsterdam
BEGIN:DAYLIGHT
TZOFFSETFROM:+0100
TZOFFSETTO:+0200
TZNAME:CEST
DTSTART:20160327T010000
END:DAYLIGHT
BEGIN:STANDARD
TZOFFSETFROM:+0200
TZOFFSETTO:+0100
TZNAME:CET
DTSTART:20161030T010000
END:STANDARD
BEGIN:DAYLIGHT
TZOFFSETFROM:+0100
TZOFFSETTO:+0200
TZNAME:CEST
DTSTART:20170326T010000
END:DAYLIGHT
BEGIN:STANDARD
TZOFFSETFROM:+0200
TZOFFSETTO:+0100
TZNAME:CET
DTSTART:20171029T010000
END:STANDARD
BEGIN:DAYLIGHT
TZOFFSETFROM:+0100
TZOFFSETTO:+0200
TZNAME:CEST
DTSTART:20180325T010000
END:DAYLIGHT
BEGIN:STANDARD
TZOFFSETFROM:+0200
TZOFFSETTO:+0100
TZNAME:CET
DTSTART:20181028T010000
END:STANDARD
BEGIN:DAYLIGHT
TZOFFSETFROM:+0100
TZOFFSETTO:+0200
TZNAME:CEST
DTSTART:20190331T010000
END:DAYLIGHT
BEGIN:STANDARD
TZOFFSETFROM:+0200
TZOFFSETTO:+0100
TZNAME:CET
DTSTART:20191027T010000
END:STANDARD
END:VTIMEZONE
BEGIN:VEVENT
DTSTART;TZID=Europe/Amsterdam:20180304T103000
DTEND;TZID=Europe/Amsterdam:20180304T103000
DTSTAMP:20260423T235537
CREATED:20180128T144224Z
LAST-MODIFIED:20180226T203631Z
UID:756-1520159400-1520159400@www.fotoclubheerhugowaard.nl
SUMMARY:Tribute to Colour
DESCRIPTION:Zondag 4 maart 2018 organiseert de werkgroep Tribute to Colour vanuit fotoclub Heerhugowaard voor de 17e keer de internationaal vermaarde fotowedstrijd Tribute to Colour. \nTijdens deze dag ziet u een selectie van prijswinnaars en geaccepteerde beelden uit duizenden\, vanuit de hele wereld ingezonden foto’s. Vanwege het hoge niveau is het zeer de moeite waard om deze dag bij te wonen. \nNaast deze presentatie zijn er 2 exposities. Eén van onze club (de Rode Draad) en één van de Afdeling NHN \nTevens is er een lezing over sportfotografie door Klaas-Jan van der Weij en worden er audiovisuele presentaties getoond. \nDe afdeling Noord-Holland-Noord van de Fotobond organiseert op deze dag een fotowedstrijd voor iedereen. Deelname is zowel voor bondsleden als niet-bondsleden! Meedoen? Let dan op de uiterste inleverdatum van 17 februari 2018. \nDe locatie is Cool Kunst en Cultuur in Heerhugowaard. \nVoor meer informatie zie: www.tributetocolour.nl\nOf bekijk direct het dagprogramma. \n 
URL:https://www.fotoclubheerhugowaard.nl/event/tribute-to-colour/
LOCATION:Cool Kunst en Cultuur\, Coolplein 1\, Heerhugowaard\, 1703 XC
CATEGORIES:Evenementen
ATTACH;FMTTYPE=image/png:https://www.fotoclubheerhugowaard.nl/wordpress/wp-content/uploads/2018/01/Agenda-Evenement.png
END:VEVENT
BEGIN:VEVENT
DTSTART;TZID=Europe/Amsterdam:20180223T200000
DTEND;TZID=Europe/Amsterdam:20180223T223000
DTSTAMP:20260423T235537
CREATED:20180205T200531Z
LAST-MODIFIED:20180220T212803Z
UID:843-1519416000-1519425000@www.fotoclubheerhugowaard.nl
SUMMARY:Eigen werk - Zwart/Wit
DESCRIPTION:Programmawijziging!\nEerder was aangekondigd dat we deze avond een fotoclub op bezoek zouden krijgen maar dat kan helaas geen doorgang vinden. Het bestuur heeft besloten om dit door te schuiven naar het volgende seizoen. In plaats daarvan zal deze avond in het teken staan van eigen fotowerk\, waarbij de nadruk ligt op zwart/wit fotografie. \nZwart/Wit fotografie\nLeent iedere foto zich voor zwart/wit omzetting? Waarom heb je bij deze foto speciaal voor zwart/wit gekozen etc. \nIedereen die deze avond bezoekt\, neemt eigen fotowerk mee. \nJe bepaalt zelf of je foto’s presenteert als print of op de beamer\, maar een tastbare afdruk verdient de voorkeur. Het aantal foto’s per persoon is minimaal 1 en maximaal 3. Er bestaat geen maximum aantal voor werk dat als serie wordt gepresenteerd. \nToelichting\nDe clubavonden op de vrijdag hebben hun zwaartepunt liggen op de foto of fotoserie als eindproduct. Wat is de inhoud\, het verhaal\, de zeggingskracht van het getoonde werk. Welke beeldtaal heeft de fotograaf gebruikt\, wat zijn de compositorische aspecten\, welke stijl is toegepast\, zijn er speciale technieken gebruikt. En\, in het geval van series\, welke onderlinge samenhang hebben de beelden. Vanzelfsprekend zullen ook de technische kanten aan bod komen\, want het komen tot een eindresultaat is deels een technisch proces. Er is veel ruimte voor het bespreken van eigen werk\, maar ook worden gastsprekers uitgenodigd die hun portfolio zullen presenteren. Tevens is de Interne Foto Competitie (IFC) geprogrammeerd op een drietal vrijdagavonden.
URL:https://www.fotoclubheerhugowaard.nl/event/eigen-werk-zwart-wit/
LOCATION:Centrum 31\, Bickerstraat 31\, Heerhugowaard\, Nederland
CATEGORIES:Vrijdag clubavond
ATTACH;FMTTYPE=image/png:https://www.fotoclubheerhugowaard.nl/wordpress/wp-content/uploads/2018/01/Agenda-Vrijdag.png
END:VEVENT
BEGIN:VEVENT
DTSTART;TZID=Europe/Amsterdam:20180217T170000
DTEND;TZID=Europe/Amsterdam:20180217T220000
DTSTAMP:20260423T235537
CREATED:20180106T212644Z
LAST-MODIFIED:20180122T195631Z
UID:353-1518886800-1518904800@www.fotoclubheerhugowaard.nl
SUMMARY:Werkavond avondfotografie
DESCRIPTION:Locatie\nOp zaterdag 17 februari verzamelen we om 17:00 uur op het parkeerterrein bij Duinvermaak\, Breelaan 132\, 1861 GH in Bergen. \nWe gaan dan eerst met z’n allen een pannenkoek eten en daarna het bos in. Mocht je geen pannenkoek mee willen eten\, zorg je dat je rond 17:45 uur bij Duinvermaak bent. Die dag gaat de zon onder om 18:00 uur\, om 18:30 uur is het einde van de schemer. \nHet parkeerterrein grenst meteen aan het bos\, waar hele mooi plekjes zijn om te fotograferen\, bijvoorbeeld een hele lange laan en een mooie trap. \nModellen\nWij zullen zelf een aantal modellen meenemen\, maar neem gerust ook je eigen modellen mee! Denk ook aan de kleding van de modellen. Witte kleding is sprookjesachtig\, zwart wat meer “spooky”. Met waaiende rokken krijg je beweging in de foto. (en thermo eronder tegen de kou ????) \nLicht\nOmdat we geen elektriciteit tot onze beschikking hebben\, willen wij iedereen vragen een lichtbron mee te nemen. Je kunt hierbij denken een zaklantaarn\, lampje op batterij\, etc. maar ook bijvoorbeeld een klein lichtje\, waar je mee kunt “schrijven in de lucht”. Zelf nemen wij een bouwlamp op accu mee. \nDoe mee!\nJe kunt je opgeven bij evenementencommissie@fotoclubheerhugowaard.nl \nGeef ook even aan of je mee een pannenkoek gaat eten of niet. \nVoorbeelden\nTer inspiratie staan hieronder enkele resultaten van een werkavond die we eerder hebben georganiseerd.
URL:https://www.fotoclubheerhugowaard.nl/event/werkavond-avondfotografie/
LOCATION:Duinvermaak (Bergen)\, Breelaan 132\, Bergen\, 1861 GH\, Nederland
CATEGORIES:Evenementen
ATTACH;FMTTYPE=image/png:https://www.fotoclubheerhugowaard.nl/wordpress/wp-content/uploads/2018/01/Agenda-Evenement.png
END:VEVENT
BEGIN:VEVENT
DTSTART;VALUE=DATE:20180217
DTEND;VALUE=DATE:20180218
DTSTAMP:20260423T235537
CREATED:20180128T140941Z
LAST-MODIFIED:20180128T141431Z
UID:753-1518825600-1518911999@www.fotoclubheerhugowaard.nl
SUMMARY:Sluitingsdatum van afdelingswedstrijd tijdens Tribute
DESCRIPTION:17 februari 2018 is de uiterlijke inleverdatum voor foto’s die meedoen aan de fotowedstrijd die de Afdeling Noord-Holland-Noord organiseert tijdens Tribute to Colour. \nLees meer over deze wedstrijd in het artikel Fotowedstrijd tijdens Tribute to Colour.
URL:https://www.fotoclubheerhugowaard.nl/event/sluitingsdatum-inleveren-fotowedstrijd-tijdens-tribute/
LOCATION:Cool Kunst en Cultuur\, Coolplein 1\, Heerhugowaard\, 1703 XC
CATEGORIES:Wedstrijden
ATTACH;FMTTYPE=image/png:https://www.fotoclubheerhugowaard.nl/wordpress/wp-content/uploads/2018/01/Agenda-Wedstrijd.png
ORGANIZER;CN="Afdeling Noord-Holland- Noord":MAILTO:secretaris.afd08@fotobond.nl
END:VEVENT
BEGIN:VEVENT
DTSTART;TZID=Europe/Amsterdam:20180216T200000
DTEND;TZID=Europe/Amsterdam:20180216T223000
DTSTAMP:20260423T235537
CREATED:20180122T183326Z
LAST-MODIFIED:20180122T183326Z
UID:710-1518811200-1518820200@www.fotoclubheerhugowaard.nl
SUMMARY:Algemene afdelingsvergadering
DESCRIPTION:Algemene vergadering van de Afdeling Noord-Holland Noord van de Fotobond. \nVoor de agenda\, notulen en het jaarverslag verwijzen we naar de mail die de leden van Fotoclub Heerhugowaard op 19-JAN-’18 hebben ontvangen van de secretatis. \nNa de pauze is er een interessante lezing/presentatie verzorgd door Jan en Mart Smit van Smit in beeld.
URL:https://www.fotoclubheerhugowaard.nl/event/algemene-afdelingsvergadering/
LOCATION:Ontmoetingscentrum de Brink\, Middenweg 168\, Heerhugowaard\, Nederland
CATEGORIES:Evenementen
ATTACH;FMTTYPE=image/png:https://www.fotoclubheerhugowaard.nl/wordpress/wp-content/uploads/2018/01/Agenda-Evenement.png
ORGANIZER;CN="Afdeling Noord-Holland- Noord":MAILTO:secretaris.afd08@fotobond.nl
END:VEVENT
BEGIN:VEVENT
DTSTART;TZID=Europe/Amsterdam:20180215T200000
DTEND;TZID=Europe/Amsterdam:20180215T223000
DTSTAMP:20260423T235537
CREATED:20180205T191427Z
LAST-MODIFIED:20180205T200052Z
UID:836-1518724800-1518733800@www.fotoclubheerhugowaard.nl
SUMMARY:Foto's bespreken a.d.h.v. de 4 pijlers
DESCRIPTION:Foto’s bespreken a.d.h.v. de 4 pijlers\nVol trots en verwachting neem je je mooiste fotowerk mee naar de clubavond. Wat zullen de reacties zijn van je clubgenoten? Zijn ze net zo enthousiast als jij? Zien zij ook de humor in jouw werk\, het drama\, de ironie\, de schoonheid\, of het statement dat je wilt maken? \nJe zit dan écht niet te wachten op dooddoeners als ‘er moet een randje af’\, ‘mooie foto hoor’\, ‘die wolk is overbelicht’ of\, het ergste van alles\, ‘ik heb er niks mee’. \nHet bespreken van foto’s blijkt voor veel mensen nog een lastig klusje te zijn. Hoe bespreek je een foto zonder in de genoemde valkuilen te trappen? Hoe doe je recht aan de wens van je clubgenoot om zinvolle kritiek op zijn of haar werk te ontvangen?  \nOp deze clubavond gaan we hiermee aan de slag volgens het systeem van de vier pijlers die door de fotobond als houvast zijn gegeven. Een aantal leden heeft een cursus foto-bespreking gevolgd en zij willen hun kennis en ervaring graag met je delen. \nNeem vooral wat eigen werk mee zodat we voldoende materiaal hebben om te oefenen.  \nToelichting\nDe clubavonden op de donderdag hebben hun zwaartepunt wat meer liggen op de praktische kant van de fotografie. Met andere woorden\, de weg die je volgt naar het eindresultaat. Er is meer tijd om met elkaar in te gaan op de manier waarop je een bepaald resultaat kunt bereiken. Denk bijvoorbeeld aan de instellingen van je camera\, hulp bij het maken van een fotoserie\, hoe je te werk gaat met studioflitsers\, hoe je een foto kunt bewerken op de computer\, richtlijnen voor het bespreken van foto’s\, het zelf printen van foto’s\, enz. In verband met de nadruk die de donderdagavond legt op de praktijk\, zijn ook de werkavonden op deze dagen geprogrammeerd.
URL:https://www.fotoclubheerhugowaard.nl/event/hoe-bespreek-je-fotos/
LOCATION:Centrum 31\, Bickerstraat 31\, Heerhugowaard\, Nederland
CATEGORIES:Donderdag clubavond
ATTACH;FMTTYPE=image/png:https://www.fotoclubheerhugowaard.nl/wordpress/wp-content/uploads/2018/01/Agenda-Donderdag.png
END:VEVENT
BEGIN:VEVENT
DTSTART;TZID=Europe/Amsterdam:20180209T200000
DTEND;TZID=Europe/Amsterdam:20180209T223000
DTSTAMP:20260423T235537
CREATED:20180115T194738Z
LAST-MODIFIED:20180115T203817Z
UID:680-1518206400-1518215400@www.fotoclubheerhugowaard.nl
SUMMARY:IFC ronde 2
DESCRIPTION:Ronde 2 van de Interne Foto Competitie\nHet thema van deze IFC ronde is GRIJS. \nEén foto zegt meer dan 1000 woorden. Maar om gedoe over auteursrecht te voorkomen\, kunnen we hier geen voorbeeldfoto’s plaatsen. \nWel kun je het volgende linkje volgen om te zien wat we ongeveer voor ogen hebben en om inspiratie op te doen: \n\nGoogle – mist grey dull monochrome\n\nNeem deze voorbeelden niet te letterlijk! Ze dienen slechts om je op een idee te brengen. Bedenk vooral zélf hoe je het thema grijs in je beelden tot uiting wilt brengen. Bedenk ook dat “Grijs” iets anders is dan simpelweg je kleurenfoto omzetten naar zwart/wit. \nLet op:\nLees de reglementen van de IFC nog even door\, zodat je exact weet wat de bedoeling is. \nToelichting\nDe clubavonden op de vrijdag hebben hun zwaartepunt liggen op de foto of fotoserie als eindproduct. Wat is de inhoud\, het verhaal\, de zeggingskracht van het getoonde werk. Welke beeldtaal heeft de fotograaf gebruikt\, wat zijn de compositorische aspecten\, welke stijl is toegepast\, zijn er speciale technieken gebruikt. En\, in het geval van series\, welke onderlinge samenhang hebben de beelden. Vanzelfsprekend zullen ook de technische kanten aan bod komen\, want het komen tot een eindresultaat is deels een technisch proces. Er is veel ruimte voor het bespreken van eigen werk\, maar ook worden gastsprekers uitgenodigd die hun portfolio zullen presenteren. Tevens is de Interne Foto Competitie (IFC) geprogrammeerd op een drietal vrijdagavonden.
URL:https://www.fotoclubheerhugowaard.nl/event/ifc-ronde-2/
LOCATION:Centrum 31\, Bickerstraat 31\, Heerhugowaard\, Nederland
CATEGORIES:Vrijdag clubavond,Wedstrijden
ATTACH;FMTTYPE=image/png:https://www.fotoclubheerhugowaard.nl/wordpress/wp-content/uploads/2018/01/Agenda-Vrijdag.png
END:VEVENT
BEGIN:VEVENT
DTSTART;TZID=Europe/Amsterdam:20180126T200000
DTEND;TZID=Europe/Amsterdam:20180126T223000
DTSTAMP:20260423T235537
CREATED:20180106T200958Z
LAST-MODIFIED:20180122T185638Z
UID:337-1516996800-1517005800@www.fotoclubheerhugowaard.nl
SUMMARY:Presentatie + Eigen werk
DESCRIPTION:Educatie binnen een fotoclub\nWim Vlaar geeft een presentatie over het thema Educatie binnen een fotoclub. \nMet behulp van deze presentatie kunnen we binnen een bepaald kader discussiëren over dit thema. \nHet kernpunt is SAMEN DOEN\, met als doel jezelf en anderen beter maken. Dit mede naar aanleiding van de enquête van vorig jaar\, waarin men aangaf een ‘betere fotograaf’ te willen worden. \nAfhankelijk van de animo\, de terugkoppeling en de discussies die dit op gang brengt besteden we hier zo’n 30 minuten aan. \nLees ook het artikel Het educatieve aspect binnen een fotoclub\, door Karel Maat. \nEigen werk\nIedereen die deze avond bezoekt\, neemt eigen fotowerk mee. \nJe bepaalt zelf of je foto’s presenteert als print of op de beamer\, maar een tastbare afdruk verdient de voorkeur. Het aantal foto’s per persoon is minimaal 1 en maximaal 3. Er bestaat geen maximum aantal voor werk dat als serie wordt gepresenteerd. \nHoge hoed\nDeze keer gepresenteerd door: \n\nWim Vlaar\nPiet Brandjes\nAlbert Besuyen\nBert Peerboom\n\nDe hoge hoed opdracht ligt elke vrijdagavond in handen van een ander clublid. De opdracht van dit seizoen is: “Presenteer een fotoserie van eigen werk”. Een serie bestaat uit ten minste twee beelden\, meer mag ook\, met een onderlinge samenhang. Het onderwerp bepaal je zelf\, evenals de wijze waarop je je werk presenteert. Mocht je geen inspiratie hebben\, dan kun je een thema uit de hoge hoed trekken. \nToelichting\nDe clubavonden op de vrijdag hebben hun zwaartepunt liggen op de foto of fotoserie als eindproduct. Wat is de inhoud\, het verhaal\, de zeggingskracht van het getoonde werk. Welke beeldtaal heeft de fotograaf gebruikt\, wat zijn de compositorische aspecten\, welke stijl is toegepast\, zijn er speciale technieken gebruikt. En\, in het geval van series\, welke onderlinge samenhang hebben de beelden. Vanzelfsprekend zullen ook de technische kanten aan bod komen\, want het komen tot een eindresultaat is deels een technisch proces. Er is veel ruimte voor het bespreken van eigen werk\, maar ook worden gastsprekers uitgenodigd die hun portfolio zullen presenteren. Tevens is de Interne Foto Competitie (IFC) geprogrammeerd op een drietal vrijdagavonden.
URL:https://www.fotoclubheerhugowaard.nl/event/eigen-werk/
LOCATION:Centrum 31\, Bickerstraat 31\, Heerhugowaard\, Nederland
CATEGORIES:Vrijdag clubavond
ATTACH;FMTTYPE=image/png:https://www.fotoclubheerhugowaard.nl/wordpress/wp-content/uploads/2018/01/Agenda-Vrijdag.png
END:VEVENT
BEGIN:VEVENT
DTSTART;TZID=Europe/Amsterdam:20180126T200000
DTEND;TZID=Europe/Amsterdam:20180126T220000
DTSTAMP:20260423T235537
CREATED:20180112T162439Z
LAST-MODIFIED:20180115T194943Z
UID:601-1516996800-1517004000@www.fotoclubheerhugowaard.nl
SUMMARY:Lezing Frank Crébas
DESCRIPTION:Frank Crébas is een luchtvaartfotograaf die vooral militaire vliegtuigen fotografeert vanuit andere vliegtuigen. Dit levert zeer ruimtelijke en dynamische foto’s op vol actie.\n \nU kunt zijn website bezoeken: http://bluelifeaviation.com \nDe Fotobond Afdeling Noord-Holland-Noord organiseert zijn lezing op de volgend datum en locatie: \nVrijdag 26 januari 2018\nCool Kunst en Cultuur\nCoolplein 1\nHeerhugowaard \nOm 20:00 begint de avond. Inloop vanaf 19:30. \nToegang: Fotobondleden gratis (o.v.v. F.B. lidnummer). Niet leden € 5\,-. \nU dient zich op te geven via de e-mail: secretaris.afd08@fotobond.nl \nReserveer tijdig want vol is vol. \nDownload de flyer: Frank Crébas 2018-01-26
URL:https://www.fotoclubheerhugowaard.nl/event/lezing-frank-crebas/
LOCATION:Cool Kunst en Cultuur\, Coolplein 1\, Heerhugowaard\, 1703 XC
CATEGORIES:Evenementen
ATTACH;FMTTYPE=image/png:https://www.fotoclubheerhugowaard.nl/wordpress/wp-content/uploads/2018/01/Agenda-Evenement.png
END:VEVENT
BEGIN:VEVENT
DTSTART;TZID=Europe/Amsterdam:20180118T200000
DTEND;TZID=Europe/Amsterdam:20180118T223000
DTSTAMP:20260423T235537
CREATED:20180106T203832Z
LAST-MODIFIED:20180115T193638Z
UID:343-1516305600-1516314600@www.fotoclubheerhugowaard.nl
SUMMARY:Werkavond studiofotografie
DESCRIPTION:Werkavond\nOp deze werkavond ga je zelf aan de slag met modelfotografie in een studio-omgeving. \nNeem dus je fototoestel en toebehoren mee! \nWij zorgen voor een mini-studio met de flitserset en achtergronddoek van de club. \nIn voorgaande jaren hebben we ons vooral gericht op het fotograferen van één persoon\, maar deze keer zal de focus liggen op het maken van een groepsfoto van 2 of meer modellen. Omdat we onderling gaan oefenen met de poses van de modellen\, de compositie van het beeld en de opstelling van de flitsers\, is het deze keer niet de bedoeling om zelf een model mee te nemen. \nAls je nog niet eerder met studioflitsers gewerkt hebt\, of je wilt meer ervaring opdoen\, dan is dit je kans! \nToelichting\nDe clubavonden op de donderdag hebben hun zwaartepunt wat meer liggen op de praktische kant van de fotografie. Met andere woorden\, de weg die je volgt naar het eindresultaat. Er is meer tijd om met elkaar in te gaan op de manier waarop je een bepaald resultaat kunt bereiken. Denk bijvoorbeeld aan de instellingen van je camera\, hulp bij het maken van een fotoserie\, hoe je te werk gaat met studioflitsers\, hoe je een foto kunt bewerken op de computer\, richtlijnen voor het bespreken van foto’s\, het zelf printen van foto’s\, enz. In verband met de nadruk die de donderdagavond legt op de praktijk\, zijn ook de werkavonden op deze dagen geprogrammeerd.
URL:https://www.fotoclubheerhugowaard.nl/event/werkavond-studiofotografie/
LOCATION:Centrum 31\, Bickerstraat 31\, Heerhugowaard\, Nederland
CATEGORIES:Donderdag clubavond
ATTACH;FMTTYPE=image/png:https://www.fotoclubheerhugowaard.nl/wordpress/wp-content/uploads/2018/01/Agenda-Donderdag.png
END:VEVENT
BEGIN:VEVENT
DTSTART;TZID=Europe/Amsterdam:20180112T200000
DTEND;TZID=Europe/Amsterdam:20180112T223000
DTSTAMP:20260423T235537
CREATED:20180106T200604Z
LAST-MODIFIED:20180109T190841Z
UID:334-1515787200-1515796200@www.fotoclubheerhugowaard.nl
SUMMARY:Nieuwjaarsborrel
DESCRIPTION:Proost!\nVanavond proosten we op het nieuwe jaar. \nArchitectuur en vrij werk\nIedereen die deze avond bezoekt\, neemt eigen fotowerk mee. \nHeb je meegedaan aan de architectuurwandeling van 19 november? Laat vanavond dan je resultaten zien! Natuurlijk kun je zoals altijd ook vrij werk meenemen. \nJe bepaalt zelf of je foto’s presenteert als print of op de beamer\, maar een tastbare afdruk verdient de voorkeur. Het aantal foto’s per persoon is minimaal 1 en maximaal 3. Er bestaat geen maximum aantal voor werk dat als serie wordt gepresenteerd. \nHoge hoed\nDeze keer gepresenteerd door: ? \nDe hoge hoed opdracht ligt elke vrijdagavond in handen van een ander clublid. De opdracht van dit seizoen is: “Presenteer een fotoserie van eigen werk”. Een serie bestaat uit ten minste twee beelden\, meer mag ook\, met een onderlinge samenhang. Het onderwerp bepaal je zelf\, evenals de wijze waarop je je werk presenteert. Mocht je geen inspiratie hebben\, dan kun je een thema uit de hoge hoed trekken. \nToelichting\nDe clubavonden op de vrijdag hebben hun zwaartepunt liggen op de foto of fotoserie als eindproduct. Wat is de inhoud\, het verhaal\, de zeggingskracht van het getoonde werk. Welke beeldtaal heeft de fotograaf gebruikt\, wat zijn de compositorische aspecten\, welke stijl is toegepast\, zijn er speciale technieken gebruikt. En\, in het geval van series\, welke onderlinge samenhang hebben de beelden. Vanzelfsprekend zullen ook de technische kanten aan bod komen\, want het komen tot een eindresultaat is deels een technisch proces. Er is veel ruimte voor het bespreken van eigen werk\, maar ook worden gastsprekers uitgenodigd die hun portfolio zullen presenteren. Tevens is de Interne Foto Competitie (IFC) geprogrammeerd op een drietal vrijdagavonden.
URL:https://www.fotoclubheerhugowaard.nl/event/nieuwjaarsborrel/
LOCATION:Centrum 31\, Bickerstraat 31\, Heerhugowaard\, Nederland
CATEGORIES:Vrijdag clubavond
ATTACH;FMTTYPE=image/png:https://www.fotoclubheerhugowaard.nl/wordpress/wp-content/uploads/2018/01/Agenda-Vrijdag.png
END:VEVENT
BEGIN:VEVENT
DTSTART;TZID=Europe/Amsterdam:20170929T200000
DTEND;TZID=Europe/Amsterdam:20170929T223000
DTSTAMP:20260423T235537
CREATED:20170902T150041Z
LAST-MODIFIED:20180109T190904Z
UID:35-1506715200-1506724200@www.fotoclubheerhugowaard.nl
SUMMARY:Clubavond
DESCRIPTION:
URL:https://www.fotoclubheerhugowaard.nl/event/clubavond/
CATEGORIES:Vrijdag clubavond
ATTACH;FMTTYPE=image/png:https://www.fotoclubheerhugowaard.nl/wordpress/wp-content/uploads/2018/01/Agenda-Vrijdag.png
END:VEVENT
BEGIN:VEVENT
DTSTART;VALUE=DATE:20170914
DTEND;VALUE=DATE:20170915
DTSTAMP:20260423T235537
CREATED:20170912T154918Z
LAST-MODIFIED:20180109T190925Z
UID:170-1505347200-1505433599@www.fotoclubheerhugowaard.nl
SUMMARY:Photoshop
DESCRIPTION:Photoshop\n\nHoe werk je in lagen\nHoe voeg je een logo of watermerk toe aan je foto\nWat is doezelen (Nee\, het wordt géén slaapverwekkende avond!)\n\nHet kan handig zijn om deze avond je eigen laptop mee te nemen! Dan kun je direct zelf aan de slag. \nToelichting\nDe clubavonden op de donderdag hebben hun zwaartepunt wat meer liggen op de praktische kant van de fotografie. Met andere woorden\, de weg die je volgt naar het eindresultaat. Er is meer tijd om met elkaar in te gaan op de manier waarop je een bepaald resultaat kunt bereiken. Denk bijvoorbeeld aan de instellingen van je camera\, hulp bij het maken van een fotoserie\, hoe je te werk gaat met studioflitsers\, hoe je een foto kunt bewerken op de computer\, richtlijnen voor het bespreken van foto’s\, het zelf printen van foto’s\, enz. In verband met de nadruk die de donderdagavond legt op de praktijk\, zijn ook de werkavonden op deze dagen geprogrammeerd.
URL:https://www.fotoclubheerhugowaard.nl/event/photoshop/
CATEGORIES:Donderdag clubavond
ATTACH;FMTTYPE=image/png:https://www.fotoclubheerhugowaard.nl/wordpress/wp-content/uploads/2018/01/Agenda-Donderdag.png
END:VEVENT
BEGIN:VEVENT
DTSTART;TZID=Europe/Amsterdam:20170908T200000
DTEND;TZID=Europe/Amsterdam:20170908T223000
DTSTAMP:20260423T235537
CREATED:20170902T145926Z
LAST-MODIFIED:20180109T191000Z
UID:32-1504900800-1504909800@www.fotoclubheerhugowaard.nl
SUMMARY:Algemene Ledenvergadering
DESCRIPTION:
URL:https://www.fotoclubheerhugowaard.nl/event/algemene-ledenvergadering/
LOCATION:Centrum 31\, Bickerstraat 31\, Heerhugowaard\, Nederland
CATEGORIES:Donderdag clubavond,Vrijdag clubavond
ATTACH;FMTTYPE=image/png:https://www.fotoclubheerhugowaard.nl/wordpress/wp-content/uploads/2018/01/Agenda-Vrijdag.png
END:VEVENT
END:VCALENDAR