BEGIN:VCALENDAR
VERSION:2.0
PRODID:-//Fotoclub Heerhugowaard - ECPv6.15.17.1//NONSGML v1.0//EN
CALSCALE:GREGORIAN
METHOD:PUBLISH
X-WR-CALNAME:Fotoclub Heerhugowaard
X-ORIGINAL-URL:https://www.fotoclubheerhugowaard.nl
X-WR-CALDESC:Evenementen voor Fotoclub Heerhugowaard
REFRESH-INTERVAL;VALUE=DURATION:PT1H
X-Robots-Tag:noindex
X-PUBLISHED-TTL:PT1H
BEGIN:VTIMEZONE
TZID:Europe/Amsterdam
BEGIN:DAYLIGHT
TZOFFSETFROM:+0100
TZOFFSETTO:+0200
TZNAME:CEST
DTSTART:20230326T010000
END:DAYLIGHT
BEGIN:STANDARD
TZOFFSETFROM:+0200
TZOFFSETTO:+0100
TZNAME:CET
DTSTART:20231029T010000
END:STANDARD
BEGIN:DAYLIGHT
TZOFFSETFROM:+0100
TZOFFSETTO:+0200
TZNAME:CEST
DTSTART:20240331T010000
END:DAYLIGHT
BEGIN:STANDARD
TZOFFSETFROM:+0200
TZOFFSETTO:+0100
TZNAME:CET
DTSTART:20241027T010000
END:STANDARD
BEGIN:DAYLIGHT
TZOFFSETFROM:+0100
TZOFFSETTO:+0200
TZNAME:CEST
DTSTART:20250330T010000
END:DAYLIGHT
BEGIN:STANDARD
TZOFFSETFROM:+0200
TZOFFSETTO:+0100
TZNAME:CET
DTSTART:20251026T010000
END:STANDARD
BEGIN:DAYLIGHT
TZOFFSETFROM:+0100
TZOFFSETTO:+0200
TZNAME:CEST
DTSTART:20260329T010000
END:DAYLIGHT
BEGIN:STANDARD
TZOFFSETFROM:+0200
TZOFFSETTO:+0100
TZNAME:CET
DTSTART:20261025T010000
END:STANDARD
END:VTIMEZONE
BEGIN:VEVENT
DTSTART;TZID=Europe/Amsterdam:20250206T200000
DTEND;TZID=Europe/Amsterdam:20250206T223000
DTSTAMP:20260423T000641
CREATED:20240713T093553Z
LAST-MODIFIED:20240910T112915Z
UID:4491-1738872000-1738881000@www.fotoclubheerhugowaard.nl
SUMMARY:Inspiratie-avond
DESCRIPTION:Vanavond inspireren we elkaar! Hoe?\nDoor het delen van kennis over fotografie\, techniek\, Photoshop\, een fotograaf\, een fotoboek\, een expositie…. het kan van alles zijn! \nWie gaat vanavond iets vertellen / laten zien: \n\nSaskia (painterly portaits  –  Photoshop)\n\n\nWil je ook nog iets vertellen? Laat het even weten.
URL:https://www.fotoclubheerhugowaard.nl/event/inspiratie-avond-5/
LOCATION:Centrum 31\, Bickerstraat 31\, Heerhugowaard\, Nederland
CATEGORIES:Donderdag clubavond
END:VEVENT
BEGIN:VEVENT
DTSTART;TZID=Europe/Amsterdam:20250124T200000
DTEND;TZID=Europe/Amsterdam:20250124T223000
DTSTAMP:20260423T000641
CREATED:20240713T093346Z
LAST-MODIFIED:20241117T190949Z
UID:4489-1737748800-1737757800@www.fotoclubheerhugowaard.nl
SUMMARY:Gastspreker
DESCRIPTION:Gastspreker: hou je mail in de gaten!!
URL:https://www.fotoclubheerhugowaard.nl/event/clubavond-106/
LOCATION:Centrum 31\, Bickerstraat 31\, Heerhugowaard\, Nederland
CATEGORIES:Vrijdag clubavond
END:VEVENT
BEGIN:VEVENT
DTSTART;TZID=Europe/Amsterdam:20250120T200000
DTEND;TZID=Europe/Amsterdam:20250120T220000
DTSTAMP:20260423T000641
CREATED:20240202T180741Z
LAST-MODIFIED:20240202T180741Z
UID:4225-1737403200-1737410400@www.fotoclubheerhugowaard.nl
SUMMARY:Basiscursus avond 10
DESCRIPTION:Passe-partout snijden en evaluatie\nOp deze laatste avond gaan de cursisten zelf een passe-partout snijden met de aanwezige apparatuur. De cursisten nemen een mooie afgedrukte foto mee\, die daar in geplakt gaat worden. Verder evalueren we de gehele cursus.
URL:https://www.fotoclubheerhugowaard.nl/event/basiscursus-avond-10-2/
LOCATION:Basisschool Reflector\, Keerkring 49\, Heerhugowaard\, 1705 SP\, Nederland
CATEGORIES:Basiscursus
END:VEVENT
BEGIN:VEVENT
DTSTART;TZID=Europe/Amsterdam:20250116T200000
DTEND;TZID=Europe/Amsterdam:20250116T223000
DTSTAMP:20260423T000641
CREATED:20240713T093236Z
LAST-MODIFIED:20240910T111708Z
UID:4487-1737057600-1737066600@www.fotoclubheerhugowaard.nl
SUMMARY:Inspiratie-avond: "Leden voor leden"
DESCRIPTION:Vanavond inspireren we elkaar! Hoe?\nDoor het delen van kennis over fotografie\, techniek\, Photoshop\, een fotograaf\, een fotoboek\, een expositie…. het geven van een opdracht\, het kan van alles zijn! \nWie gaan vanavond samen de avond organiseren? \n\n\n\n\n\nLaat het even weten.
URL:https://www.fotoclubheerhugowaard.nl/event/inspiratie-avond-4/
LOCATION:Centrum 31\, Bickerstraat 31\, Heerhugowaard\, Nederland
CATEGORIES:Donderdag clubavond
END:VEVENT
BEGIN:VEVENT
DTSTART;TZID=Europe/Amsterdam:20250113T200000
DTEND;TZID=Europe/Amsterdam:20250113T220000
DTSTAMP:20260423T000641
CREATED:20240202T180630Z
LAST-MODIFIED:20240202T180630Z
UID:4223-1736798400-1736805600@www.fotoclubheerhugowaard.nl
SUMMARY:Basiscursus avond 9
DESCRIPTION:Compositie en verzoekjes\nWe beginnen de avond weer met het bespreken van de foto-opdracht(en) en bekijken de gemaakte portretten. Verder zien we een presentatie over het belang van een goede compositie en beantwoorden we vragen van zaken die in de cursus niet of te weinig aan bod zijn gekomen.
URL:https://www.fotoclubheerhugowaard.nl/event/basiscursus-avond-9-2/
LOCATION:Basisschool Reflector\, Keerkring 49\, Heerhugowaard\, 1705 SP\, Nederland
CATEGORIES:Basiscursus
END:VEVENT
BEGIN:VEVENT
DTSTART;TZID=Europe/Amsterdam:20250110T200000
DTEND;TZID=Europe/Amsterdam:20250110T223000
DTSTAMP:20260423T000641
CREATED:20240713T093133Z
LAST-MODIFIED:20240910T112434Z
UID:4485-1736539200-1736548200@www.fotoclubheerhugowaard.nl
SUMMARY:Nieuwjaarsborrel en uitzoeken foto’s voor Bondfotowedstrijd
DESCRIPTION:Vanavond proosten we op het nieuwe jaar met hapjes en drankjes! \nEn we gaan de ingezonden foto’s voor de Bondfotowedstrijd bespreken en uirzoeken.
URL:https://www.fotoclubheerhugowaard.nl/event/clubavond-105/
LOCATION:Centrum 31\, Bickerstraat 31\, Heerhugowaard\, Nederland
CATEGORIES:Vrijdag clubavond
END:VEVENT
BEGIN:VEVENT
DTSTART;TZID=Europe/Amsterdam:20250106T200000
DTEND;TZID=Europe/Amsterdam:20250106T220000
DTSTAMP:20260423T000641
CREATED:20240202T180518Z
LAST-MODIFIED:20241111T210236Z
UID:4221-1736193600-1736200800@www.fotoclubheerhugowaard.nl
SUMMARY:Basiscursus avond 8
DESCRIPTION:Portretavond\nDeze avond is weer een praktijkavond. We hebben in de zaal van de school 2 opstellingen klaar staan met (flits)lampen en achtergronden en gaan portretten maken! Twee leden van de fotoclub met veel ervaring hiermee komen assisteren.
URL:https://www.fotoclubheerhugowaard.nl/event/basiscursus-avond-8-2/
LOCATION:Basisschool Reflector\, Keerkring 49\, Heerhugowaard\, 1705 SP\, Nederland
CATEGORIES:Basiscursus
END:VEVENT
BEGIN:VEVENT
DTSTART;TZID=Europe/Amsterdam:20241219T200000
DTEND;TZID=Europe/Amsterdam:20241219T223000
DTSTAMP:20260423T000641
CREATED:20240713T093010Z
LAST-MODIFIED:20241126T113926Z
UID:4483-1734638400-1734647400@www.fotoclubheerhugowaard.nl
SUMMARY:Humor in de fotografie
DESCRIPTION:Voor deze ” Leden voor leden”  avond hadden Marion\, Renske en Isabel vele ideeën\, \nUiteindelijk is het iets geworden\, wat we niet vaak zien op de clubavonden en daarom ook een echte uitdaging is namelijk: Humor in de fotografie \nOpdracht \nWe willen daarom iedereen vragen om deze uitdaging aan te gaan en humoristische foto’s te maken. Maak 1-3 foto’s met dit thema en mail deze uiterlijk 16 december naar: webbeheerder@fotoclubheerhugowaard.nl \nZodat we met een Big Smile op ons gezicht de avond van 19 december kunnen doorbrengen. \nVoor inspiratie en tips zie bijvoorbeeld: \nhttps://www.digifotostarter.nl/gebruik-humor-voor-opvallende-fotos
URL:https://www.fotoclubheerhugowaard.nl/event/inspiratie-avond-3/
LOCATION:Centrum 31\, Bickerstraat 31\, Heerhugowaard\, Nederland
CATEGORIES:Donderdag clubavond
END:VEVENT
BEGIN:VEVENT
DTSTART;TZID=Europe/Amsterdam:20241216T200000
DTEND;TZID=Europe/Amsterdam:20241216T220000
DTSTAMP:20260423T000641
CREATED:20240202T180418Z
LAST-MODIFIED:20240202T180418Z
UID:4219-1734379200-1734386400@www.fotoclubheerhugowaard.nl
SUMMARY:Basiscursus avond 7
DESCRIPTION:Software en fotobewerking\nWe beginnen de avond weer met het bespreken van de foto-opdracht(en). Daarna hebben we het over verschillende soorten software en zien we een demonstratie van het werken met o.a. Photoshop. Aan het eind van de avond krijgen de cursisten hun nieuwe foto-opdracht(en)
URL:https://www.fotoclubheerhugowaard.nl/event/basiscursus-avond-7-2/
LOCATION:Basisschool Reflector\, Keerkring 49\, Heerhugowaard\, 1705 SP\, Nederland
CATEGORIES:Basiscursus
END:VEVENT
BEGIN:VEVENT
DTSTART;TZID=Europe/Amsterdam:20241213T200000
DTEND;TZID=Europe/Amsterdam:20241213T223000
DTSTAMP:20260423T000641
CREATED:20240713T092913Z
LAST-MODIFIED:20240910T112209Z
UID:4481-1734120000-1734129000@www.fotoclubheerhugowaard.nl
SUMMARY:Eigen Werk + resultaten Waterfotografie + Foto's inzenden voor Bondsfotowedstrijd (2)
DESCRIPTION:Eigen werk \nVanavond tonen we eigen werk. Wat wil je laten zien? Waar ben je mee bezig? Waar wil je advies over?\nNeem allemaal minimaal 1 tot maximaal 3 foto’s mee zodat we ze kunnen bespreken. \n  \nResultaten waterfotografie \nVoor vanavond nemen de leden die gefotografeerd hebben tijdens de werkavond waterfotografie de resultaten van hun inspanningen mee. \n  \nInzenden foto’s bondsfotowedstrijd \nVoor vanavond zend je foto’s in die in aanmerking komen voor het meedoen aan de Bondsfotowedstrijd.\nDie gaan we gezamenlijk bespreken
URL:https://www.fotoclubheerhugowaard.nl/event/clubavond-104/
LOCATION:Centrum 31\, Bickerstraat 31\, Heerhugowaard\, Nederland
CATEGORIES:Vrijdag clubavond
END:VEVENT
BEGIN:VEVENT
DTSTART;TZID=Europe/Amsterdam:20241209T200000
DTEND;TZID=Europe/Amsterdam:20241209T220000
DTSTAMP:20260423T000641
CREATED:20240202T180307Z
LAST-MODIFIED:20240202T180307Z
UID:4217-1733774400-1733781600@www.fotoclubheerhugowaard.nl
SUMMARY:Basiscursus avond 6
DESCRIPTION:Belichting en objectieven\nWe beginnen de avond weer met het bespreken van de foto-opdracht(en) van avond 4 en de gemaakte avondfoto’s. Daarna zullen het uitgebreider hebben over belichting en allerlei soorten objectieven. Aan het eind van de avond krijgen de cursisten hun nieuwe foto-opdracht(en).
URL:https://www.fotoclubheerhugowaard.nl/event/basiscursus-avond-6-2/
LOCATION:Basisschool Reflector\, Keerkring 49\, Heerhugowaard\, 1705 SP\, Nederland
CATEGORIES:Basiscursus
END:VEVENT
BEGIN:VEVENT
DTSTART;TZID=Europe/Amsterdam:20241203T200000
DTEND;TZID=Europe/Amsterdam:20241203T220000
DTSTAMP:20260423T000641
CREATED:20240217T133105Z
LAST-MODIFIED:20240217T133105Z
UID:4248-1733256000-1733263200@www.fotoclubheerhugowaard.nl
SUMMARY:Fotoclub HHW geeft een presentatie bij FC Uitgeest
DESCRIPTION:Vanavond gaan we met een aantal leden een mooie presentatie geven bij Fotoclub Uitgeest.\nAltijd leuk om bij andere clubs op bezoek te gaan.\nZe komen in 2025 ook een keer op een clubavond bij ons terug!
URL:https://www.fotoclubheerhugowaard.nl/event/fotoclub-hhw-geeft-een-presentatie-bij-fc-uitgeest/
CATEGORIES:Evenementen
END:VEVENT
BEGIN:VEVENT
DTSTART;TZID=Europe/Amsterdam:20241202T200000
DTEND;TZID=Europe/Amsterdam:20241202T220000
DTSTAMP:20260423T000641
CREATED:20240202T180138Z
LAST-MODIFIED:20240202T180138Z
UID:4215-1733169600-1733176800@www.fotoclubheerhugowaard.nl
SUMMARY:Basiscursus avond 5
DESCRIPTION:Avondfotografie\nDeze avond is een praktijkavond. We gaan de hele avond buiten foto’s maken. We zijn op 3 plekken (vlak bij elkaar) om nachtopnames te maken. We gebruiken een statief (kan ook geleend worden) en stellen de camera handmatig in. Warm aankleden!! Bij slecht weer wordt deze avond geruild met een binnen avond. Je mooiste foto’s laten we de week erop aan elkaar zien.
URL:https://www.fotoclubheerhugowaard.nl/event/basiscursus-avond-5-2/
LOCATION:Basisschool Reflector\, Keerkring 49\, Heerhugowaard\, 1705 SP\, Nederland
CATEGORIES:Basiscursus
END:VEVENT
BEGIN:VEVENT
DTSTART;TZID=Europe/Amsterdam:20241125T200000
DTEND;TZID=Europe/Amsterdam:20241125T220000
DTSTAMP:20260423T000641
CREATED:20240202T175952Z
LAST-MODIFIED:20240202T175952Z
UID:4213-1732564800-1732572000@www.fotoclubheerhugowaard.nl
SUMMARY:Basiscursus avond 4
DESCRIPTION:Handmatige instelling\nWe beginnen de avond weer met het bespreken van de foto-opdracht(en). Daarna gaan we het hebben over het fotograferen terwijl je zelf alles moet instellen op je camera\, dus niets meer op de automaat. Wat zijn de gevolgen als ik een groot diafragma instel maar ook een lange sluitertijd wil of juist andersom? Het belang van de juiste ISO instelling en nog veel meer. We oefenen weer met eenvoudige oefeningen om het verband te snappen tussen diafragma-sluitertijd-ISO. Aan het eind van de avond krijgen de cursisten hun nieuwe foto-opdracht(en).
URL:https://www.fotoclubheerhugowaard.nl/event/basiscursus-avond-4-2/
LOCATION:Basisschool Reflector\, Keerkring 49\, Heerhugowaard\, 1705 SP\, Nederland
CATEGORIES:Basiscursus
END:VEVENT
BEGIN:VEVENT
DTSTART;TZID=Europe/Amsterdam:20241122T200000
DTEND;TZID=Europe/Amsterdam:20241122T223000
DTSTAMP:20260423T000641
CREATED:20240713T092519Z
LAST-MODIFIED:20241117T190755Z
UID:4475-1732305600-1732314600@www.fotoclubheerhugowaard.nl
SUMMARY:Oneliners + uitzoeken foto's
DESCRIPTION:We gaan vanavond weer onze leuke Oneliners doen!\nNeem allemaal 1 foto mee in passepartout. \nKijk ook even naar je mail voor verdere informatie over de avond
URL:https://www.fotoclubheerhugowaard.nl/event/clubavond-103/
LOCATION:Centrum 31\, Bickerstraat 31\, Heerhugowaard\, Nederland
CATEGORIES:Vrijdag clubavond
END:VEVENT
BEGIN:VEVENT
DTSTART;TZID=Europe/Amsterdam:20241118T200000
DTEND;TZID=Europe/Amsterdam:20241118T220000
DTSTAMP:20260423T000641
CREATED:20240202T175810Z
LAST-MODIFIED:20240202T175810Z
UID:4211-1731960000-1731967200@www.fotoclubheerhugowaard.nl
SUMMARY:Basiscursus avond 3
DESCRIPTION:Sluitertijd\nWe beginnen de avond met het bespreken van de foto-opdracht(en). Daarna gaan we het hebben over de sluitertijd. Hoe maken we foto’s met verschillende sluitertijden? Wanneer juist een korte sluitertijd en wanneer juist een langere? Met eenvoudige praktijkoefeningen krijgen we door wat het belang is van foto’s maken met de juiste sluitertijd. Aan het eind van de avond krijgen de cursisten hun nieuwe foto-opdracht(en).
URL:https://www.fotoclubheerhugowaard.nl/event/basiscursus-avond-3-2/
LOCATION:Basisschool Reflector\, Keerkring 49\, Heerhugowaard\, 1705 SP\, Nederland
CATEGORIES:Basiscursus
END:VEVENT
BEGIN:VEVENT
DTSTART;TZID=Europe/Amsterdam:20241114T200000
DTEND;TZID=Europe/Amsterdam:20241114T223000
DTSTAMP:20260423T000641
CREATED:20240713T092429Z
LAST-MODIFIED:20240910T111340Z
UID:4473-1731614400-1731623400@www.fotoclubheerhugowaard.nl
SUMMARY:Werkavond - waterfotografie
DESCRIPTION:We gaan vanavond weer lekker aan de slag met elkaar met onze camera’s…. we gaan water fotograferen! \nHoe? Wat? Heb je zelf een idee?\n-Druppelfotografie\n-objecten in water laten vallen\n-olie op water \nVan alles!! Neem dus allerlei attributen mee en bespreek op eerdere clubavonden met je clubleden wat je (samen) kunt doen!
URL:https://www.fotoclubheerhugowaard.nl/event/inspiratie-avond-2/
LOCATION:Centrum 31\, Bickerstraat 31\, Heerhugowaard\, Nederland
CATEGORIES:Donderdag clubavond
END:VEVENT
BEGIN:VEVENT
DTSTART;TZID=Europe/Amsterdam:20241111T200000
DTEND;TZID=Europe/Amsterdam:20241111T220000
DTSTAMP:20260423T000641
CREATED:20240202T175418Z
LAST-MODIFIED:20240202T175542Z
UID:4209-1731355200-1731362400@www.fotoclubheerhugowaard.nl
SUMMARY:Basiscursus avond 2
DESCRIPTION:Diafragma\nWe beginnen de avond met het bespreken van de foto-opdracht(en). Daarna gaan we het hebben over het diafragma. Hoe maken we foto’s met verschillende diafragma’s? Wat is scherptediepte? Met eenvoudige praktijkoefeningen krijgen we door wat het belang is van foto’s maken met een bepaalde diafragma-instelling. Aan het eind van de avond krijgen de cursisten hun nieuwe foto-opdracht(en).
URL:https://www.fotoclubheerhugowaard.nl/event/basiscursus-avond-2-2/
LOCATION:Basisschool Reflector\, Keerkring 49\, Heerhugowaard\, 1705 SP\, Nederland
CATEGORIES:Basiscursus
END:VEVENT
BEGIN:VEVENT
DTSTART;TZID=Europe/Amsterdam:20241108T200000
DTEND;TZID=Europe/Amsterdam:20241108T223000
DTSTAMP:20260423T000641
CREATED:20240713T092253Z
LAST-MODIFIED:20240904T113722Z
UID:4471-1731096000-1731105000@www.fotoclubheerhugowaard.nl
SUMMARY:IFC - 1e ronde: (weer)spiegeling
DESCRIPTION:Let op:\nLees de reglementen van de IFC nog even door\, zodat je exact weet wat de bedoeling is.
URL:https://www.fotoclubheerhugowaard.nl/event/clubavond-102/
LOCATION:Centrum 31\, Bickerstraat 31\, Heerhugowaard\, Nederland
CATEGORIES:Vrijdag clubavond
END:VEVENT
BEGIN:VEVENT
DTSTART;TZID=Europe/Amsterdam:20241104T200000
DTEND;TZID=Europe/Amsterdam:20241104T220000
DTSTAMP:20260423T000641
CREATED:20240202T145107Z
LAST-MODIFIED:20240202T175612Z
UID:4205-1730750400-1730757600@www.fotoclubheerhugowaard.nl
SUMMARY:Basiscursus avond 1
DESCRIPTION:Camera algemeen\nNa de kennismaking en het vertellen van onze ervaring bekijken we elkaars camera’s. Er zijn meestal veel verschillende camera’s. We gaan deze avond in op de verschillen\, maar ook de overeenkomsten van al die toestellen. Dat geeft iedereen mogelijkheden\, maar ook beperkingen. We hebben het o.a. over de sensoren\, JPEG en RAW\, de driehoek diafragma-sluitertijd-ISO en nog heel veel meer. Aan het eind van de avond krijgen de cursisten hun eerste foto-opdracht(en).
URL:https://www.fotoclubheerhugowaard.nl/event/basiscursus-avond-1-2/
LOCATION:Basisschool Reflector\, Keerkring 49\, Heerhugowaard\, 1705 SP\, Nederland
CATEGORIES:Basiscursus
END:VEVENT
BEGIN:VEVENT
DTSTART;TZID=Europe/Amsterdam:20241029T193000
DTEND;TZID=Europe/Amsterdam:20241029T223000
DTSTAMP:20260423T000641
CREATED:20240707T103800Z
LAST-MODIFIED:20240910T105927Z
UID:4456-1730230200-1730241000@www.fotoclubheerhugowaard.nl
SUMMARY:Fotowedstrijdje met twee andere fotoclubs
DESCRIPTION:Vanavond gaan we naar Hoorn voor een heel gezellig fotowedstrijdje “tien tegen tien” met twee andere fotoclubs.\nWe hebben er zin in!!
URL:https://www.fotoclubheerhugowaard.nl/event/fotowedstrijdje-met-twee-andere-fotoclubs/
END:VEVENT
BEGIN:VEVENT
DTSTART;TZID=Europe/Amsterdam:20241025T200000
DTEND;TZID=Europe/Amsterdam:20241025T223000
DTSTAMP:20260423T000641
CREATED:20240713T092149Z
LAST-MODIFIED:20240910T111010Z
UID:4469-1729886400-1729895400@www.fotoclubheerhugowaard.nl
SUMMARY:Eigen Werk - Resultaten Guppen-avond
DESCRIPTION:Eigen werk \nVanavond tonen we eigen werk. Wat wil je laten zien? Waar ben je mee bezig? Waar wil je advies over?\nNeem allemaal minimaal 1 tot maximaal 3 foto’s mee zodat we ze kunnen bespreken. \n  \nResultaten GUPPEN-avond:   Wat heb je ervan gemaakt?? Neem het resultaat mee!
URL:https://www.fotoclubheerhugowaard.nl/event/clubavond-101/
LOCATION:Centrum 31\, Bickerstraat 31\, Heerhugowaard\, Nederland
CATEGORIES:Vrijdag clubavond
END:VEVENT
BEGIN:VEVENT
DTSTART;TZID=Europe/Amsterdam:20241017T220000
DTEND;TZID=Europe/Amsterdam:20241017T223000
DTSTAMP:20260423T000641
CREATED:20240713T092033Z
LAST-MODIFIED:20240910T111518Z
UID:4467-1729202400-1729204200@www.fotoclubheerhugowaard.nl
SUMMARY:Inspiratie-avond
DESCRIPTION:Vanavond inspireren we elkaar! Hoe?\nDoor het delen van kennis over fotografie\, techniek\, Photoshop\, een fotograaf\, een fotoboek\, een expositie…. het kan van alles zijn! \nWie gaat vanavond iets vertellen / laten zien: \n\nRoland (kalibratie)\n\nWil je ook iets vertellen of laten zien? Laat het even weten.
URL:https://www.fotoclubheerhugowaard.nl/event/inspiratie-avond/
LOCATION:Centrum 31\, Bickerstraat 31\, Heerhugowaard\, Nederland
CATEGORIES:Donderdag clubavond
END:VEVENT
BEGIN:VEVENT
DTSTART;TZID=Europe/Amsterdam:20241011T200000
DTEND;TZID=Europe/Amsterdam:20241011T223000
DTSTAMP:20260423T000641
CREATED:20240713T091831Z
LAST-MODIFIED:20240910T110759Z
UID:4465-1728676800-1728685800@www.fotoclubheerhugowaard.nl
SUMMARY:Eigen werk – Foto’s inzenden voor Bondsfotowedstrijd (1)
DESCRIPTION:Eigen werk \nVanavond tonen we eigen werk. Wat wil je laten zien? Waar ben je mee bezig? Waar wil je advies over?\nNeem allemaal minimaal 1 tot maximaal 3 foto’s mee zodat we ze kunnen bespreken. \n  \nInzenden foto’s bondsfotowedstrijd \nVoor vanavond zend je tevens foto’s in die in aanmerking komen voor het meedoen aan de Bondsfotowedstrijd.\nDie gaan we gezamenlijk bespreken
URL:https://www.fotoclubheerhugowaard.nl/event/clubavond-100/
LOCATION:Centrum 31\, Bickerstraat 31\, Heerhugowaard\, Nederland
CATEGORIES:Vrijdag clubavond
END:VEVENT
BEGIN:VEVENT
DTSTART;TZID=Europe/Amsterdam:20240927T200000
DTEND;TZID=Europe/Amsterdam:20240927T223000
DTSTAMP:20260423T000641
CREATED:20240713T091733Z
LAST-MODIFIED:20240910T110618Z
UID:4463-1727467200-1727476200@www.fotoclubheerhugowaard.nl
SUMMARY:"Guppen-avond"
DESCRIPTION:Vanavond gaan we in groepjes bijzondere foto’s bespreken en krijg je een opdracht mee naar huis… hoe? wat?\nDat vertellen we je op de clubavonden en in de mail.
URL:https://www.fotoclubheerhugowaard.nl/event/clubavond-99/
LOCATION:Centrum 31\, Bickerstraat 31\, Heerhugowaard\, Nederland
CATEGORIES:Vrijdag clubavond
END:VEVENT
BEGIN:VEVENT
DTSTART;TZID=Europe/Amsterdam:20240913T200000
DTEND;TZID=Europe/Amsterdam:20240913T223000
DTSTAMP:20260423T000641
CREATED:20240713T091628Z
LAST-MODIFIED:20240828T103234Z
UID:4461-1726257600-1726266600@www.fotoclubheerhugowaard.nl
SUMMARY:Resultaten zomeropdracht: "zelfportret" en Eigen Werk
DESCRIPTION:Vanavond laten we allemaal ons “zelfportret” zien.\nOok leuk om “the making of…” te laten zien natuurlijk!!\nWas het moeilijk? Wist je meteen wat je wilde maken? Waar liep je tegenaan? \nEn je kunt vanavond ook ander eigen werk laten zien.
URL:https://www.fotoclubheerhugowaard.nl/event/clubavond-98/
LOCATION:Centrum 31\, Bickerstraat 31\, Heerhugowaard\, Nederland
CATEGORIES:Vrijdag clubavond
END:VEVENT
BEGIN:VEVENT
DTSTART;TZID=Europe/Amsterdam:20240905T200000
DTEND;TZID=Europe/Amsterdam:20240905T223000
DTSTAMP:20260423T000641
CREATED:20240518T132425Z
LAST-MODIFIED:20240828T103019Z
UID:4397-1725566400-1725575400@www.fotoclubheerhugowaard.nl
SUMMARY:1e clubavond: ALV + resultaten zomeropdracht
DESCRIPTION:We beginnen het seizoen altijd met onze Algemene Vergadering. Deze is alleen toegankelijk voor clubleden. Tijdens het officiële gedeelte brengt het bestuur verslag uit van het afgelopen seizoen en lichten we de plannen voor het nieuwe seizoen toe. \nNa dit officiële gedeelte van de avond is er tijd voor fotowerk! Wat laten we zien…?  Kijk daarvoor in je mail en stuur tijdig de foto’s in. \n\nin ieder geval willen we graag een leuke “fotovakantiekaart” zien met…. “groeten uit…..”\n\nDaarna is er tijd om bij te kletsen onder het genot van een hapje en een drankje.
URL:https://www.fotoclubheerhugowaard.nl/event/1e-clubavond-alv-resultaten-zomeropdracht/
LOCATION:Centrum 31\, Bickerstraat 31\, Heerhugowaard\, Nederland
END:VEVENT
BEGIN:VEVENT
DTSTART;VALUE=DATE:20240601
DTEND;VALUE=DATE:20240602
DTSTAMP:20260423T000641
CREATED:20240407T103326Z
LAST-MODIFIED:20240518T132042Z
UID:4375-1717200000-1717286399@www.fotoclubheerhugowaard.nl
SUMMARY:Eindeseizoensclubuitje
DESCRIPTION:waar gaan we heen?\nwat gaan we doen?\n\nWe gaan in ieder geval naar het Rotterdam\, naar het Fotomuseum en naar Hotel New York. \nHou je mail in de gaten!
URL:https://www.fotoclubheerhugowaard.nl/event/eindeseizoensclubuitje/
END:VEVENT
BEGIN:VEVENT
DTSTART;TZID=Europe/Amsterdam:20240531T200000
DTEND;TZID=Europe/Amsterdam:20240531T223000
DTSTAMP:20260423T000641
CREATED:20230828T175716Z
LAST-MODIFIED:20240407T103153Z
UID:3943-1717185600-1717194600@www.fotoclubheerhugowaard.nl
SUMMARY:Laatste clubavond met uitreiking IFC en HHW award
DESCRIPTION:
URL:https://www.fotoclubheerhugowaard.nl/event/laatste-clubavond-met-uitreiking-ifc-en-hhw-award/
LOCATION:Centrum 31\, Bickerstraat 31\, Heerhugowaard\, Nederland
CATEGORIES:Vrijdag clubavond
END:VEVENT
BEGIN:VEVENT
DTSTART;TZID=Europe/Amsterdam:20240516T200000
DTEND;TZID=Europe/Amsterdam:20240516T223000
DTSTAMP:20260423T000641
CREATED:20230828T175605Z
LAST-MODIFIED:20230915T171935Z
UID:3941-1715889600-1715898600@www.fotoclubheerhugowaard.nl
SUMMARY:Inspiratie-avond
DESCRIPTION:Vanavond inspireren we elkaar! Hoe?\nDoor het delen van kennis over fotografie\, techniek\, Photoshop\, een fotograaf\, een fotoboek\, een expositie…. het kan van alles zijn! \nWie gaat vanavond iets vertellen / laten zien: \n\n\n\nWil je ook nog iets vertellen? Laat het even weten.
URL:https://www.fotoclubheerhugowaard.nl/event/werkavond-11/
LOCATION:Centrum 31\, Bickerstraat 31\, Heerhugowaard\, Nederland
CATEGORIES:Donderdag clubavond
END:VEVENT
END:VCALENDAR