BEGIN:VCALENDAR
VERSION:2.0
PRODID:-//Fotoclub Heerhugowaard - ECPv6.15.17.1//NONSGML v1.0//EN
CALSCALE:GREGORIAN
METHOD:PUBLISH
X-WR-CALNAME:Fotoclub Heerhugowaard
X-ORIGINAL-URL:https://www.fotoclubheerhugowaard.nl
X-WR-CALDESC:Evenementen voor Fotoclub Heerhugowaard
REFRESH-INTERVAL;VALUE=DURATION:PT1H
X-Robots-Tag:noindex
X-PUBLISHED-TTL:PT1H
BEGIN:VTIMEZONE
TZID:Europe/Amsterdam
BEGIN:DAYLIGHT
TZOFFSETFROM:+0100
TZOFFSETTO:+0200
TZNAME:CEST
DTSTART:20210328T010000
END:DAYLIGHT
BEGIN:STANDARD
TZOFFSETFROM:+0200
TZOFFSETTO:+0100
TZNAME:CET
DTSTART:20211031T010000
END:STANDARD
BEGIN:DAYLIGHT
TZOFFSETFROM:+0100
TZOFFSETTO:+0200
TZNAME:CEST
DTSTART:20220327T010000
END:DAYLIGHT
BEGIN:STANDARD
TZOFFSETFROM:+0200
TZOFFSETTO:+0100
TZNAME:CET
DTSTART:20221030T010000
END:STANDARD
BEGIN:DAYLIGHT
TZOFFSETFROM:+0100
TZOFFSETTO:+0200
TZNAME:CEST
DTSTART:20230326T010000
END:DAYLIGHT
BEGIN:STANDARD
TZOFFSETFROM:+0200
TZOFFSETTO:+0100
TZNAME:CET
DTSTART:20231029T010000
END:STANDARD
BEGIN:DAYLIGHT
TZOFFSETFROM:+0100
TZOFFSETTO:+0200
TZNAME:CEST
DTSTART:20240331T010000
END:DAYLIGHT
BEGIN:STANDARD
TZOFFSETFROM:+0200
TZOFFSETTO:+0100
TZNAME:CET
DTSTART:20241027T010000
END:STANDARD
END:VTIMEZONE
BEGIN:VEVENT
DTSTART;TZID=Europe/Amsterdam:20230119T200000
DTEND;TZID=Europe/Amsterdam:20230119T223000
DTSTAMP:20260423T002723
CREATED:20220723T150356Z
LAST-MODIFIED:20230111T102933Z
UID:3135-1674158400-1674167400@www.fotoclubheerhugowaard.nl
SUMMARY:Werkavond reportageflitser
DESCRIPTION:Vanavond gaan we met z’n allen aan de slag!\nCamera mee\, spulletjes mee…. en lekker met z’n allen fotograferen. Roland en Saskia bereiden deze avond voor. \nWat? Hoe? Dat hoor je op de clubavonden en in de mailtjes die je hebt ontvangen. \n 
URL:https://www.fotoclubheerhugowaard.nl/event/clubavond-73/
LOCATION:Centrum 31\, Bickerstraat 31\, Heerhugowaard\, Nederland
CATEGORIES:Donderdag clubavond
END:VEVENT
BEGIN:VEVENT
DTSTART;TZID=Europe/Amsterdam:20230116T200000
DTEND;TZID=Europe/Amsterdam:20230116T220000
DTSTAMP:20260423T002723
CREATED:20220404T180943Z
LAST-MODIFIED:20220404T180943Z
UID:2852-1673899200-1673906400@www.fotoclubheerhugowaard.nl
SUMMARY:Basiscursus fotografie (avond 8)
DESCRIPTION:Basisschool Reflector\,  Keerkring 49\nHeerhugowaard\, 1705 SP Nederland  + Google Maps
URL:https://www.fotoclubheerhugowaard.nl/event/basiscursus-fotografie-avond-8-2/
CATEGORIES:Basiscursus
END:VEVENT
BEGIN:VEVENT
DTSTART;TZID=Europe/Amsterdam:20230113T200000
DTEND;TZID=Europe/Amsterdam:20230113T223000
DTSTAMP:20260423T002723
CREATED:20220723T150309Z
LAST-MODIFIED:20230104T132516Z
UID:3133-1673640000-1673649000@www.fotoclubheerhugowaard.nl
SUMMARY:Nieuwjaarsborrel +resultaten Guppen + fotoslingerfoto's
DESCRIPTION:We proosten op het nieuwe jaar en kletsen lekker bij! \nWe hebben vorig jaar een geweldig leuke “Guppen-avond” gehad. De resultaten daarvan worden vanavond getoond. \nEn hebben jullie de afgelopen periode gebruikt om een “slingerfoto” te maken? Neem ‘m mee!
URL:https://www.fotoclubheerhugowaard.nl/event/clubavond-72/
LOCATION:Centrum 31\, Bickerstraat 31\, Heerhugowaard\, Nederland
CATEGORIES:Vrijdag clubavond
END:VEVENT
BEGIN:VEVENT
DTSTART;TZID=Europe/Amsterdam:20230109T200000
DTEND;TZID=Europe/Amsterdam:20230109T220000
DTSTAMP:20260423T002723
CREATED:20220404T180825Z
LAST-MODIFIED:20220404T181224Z
UID:2850-1673294400-1673301600@www.fotoclubheerhugowaard.nl
SUMMARY:Basiscursus fotografie (avond 7)
DESCRIPTION:Basisschool Reflector\,  Keerkring 49\nHeerhugowaard\, 1705 SP Nederland  + Google Maps
URL:https://www.fotoclubheerhugowaard.nl/event/basiscursus-fotografie-avond-7-2/
CATEGORIES:Basiscursus
END:VEVENT
BEGIN:VEVENT
DTSTART;TZID=Europe/Amsterdam:20221219T200000
DTEND;TZID=Europe/Amsterdam:20221219T220000
DTSTAMP:20260423T002723
CREATED:20220404T180716Z
LAST-MODIFIED:20220404T180716Z
UID:2848-1671480000-1671487200@www.fotoclubheerhugowaard.nl
SUMMARY:Basiscursus fotografie (avond 6)
DESCRIPTION:Basisschool Reflector\,  Keerkring 49\nHeerhugowaard\, 1705 SP Nederland  + Google Maps
URL:https://www.fotoclubheerhugowaard.nl/event/basiscursus-fotografie-avond-6-2/
CATEGORIES:Basiscursus
END:VEVENT
BEGIN:VEVENT
DTSTART;TZID=Europe/Amsterdam:20221215T200000
DTEND;TZID=Europe/Amsterdam:20221215T223000
DTSTAMP:20260423T002723
CREATED:20220723T150225Z
LAST-MODIFIED:20221028T161035Z
UID:3131-1671134400-1671143400@www.fotoclubheerhugowaard.nl
SUMMARY:Werkavond: reportageflitser
DESCRIPTION:Vanavond gaan we met z’n allen aan de slag!\nCamera mee\, spulletjes mee…. en lekker met z’n allen fotograferen. Roland en Saskia bereiden deze avond voor. \nWat? Hoe? Dat hoor je op de clubavonden en in de mail.
URL:https://www.fotoclubheerhugowaard.nl/event/clubavond-71/
LOCATION:Centrum 31\, Bickerstraat 31\, Heerhugowaard\, Nederland
CATEGORIES:Donderdag clubavond
END:VEVENT
BEGIN:VEVENT
DTSTART;TZID=Europe/Amsterdam:20221212T200000
DTEND;TZID=Europe/Amsterdam:20221212T220000
DTSTAMP:20260423T002723
CREATED:20220404T180617Z
LAST-MODIFIED:20220404T180617Z
UID:2846-1670875200-1670882400@www.fotoclubheerhugowaard.nl
SUMMARY:Basiscursus fotografie (avond 5)
DESCRIPTION:Basisschool Reflector\,  Keerkring 49\nHeerhugowaard\, 1705 SP Nederland  + Google Maps
URL:https://www.fotoclubheerhugowaard.nl/event/basiscursus-fotografie-avond-5-2/
CATEGORIES:Basiscursus
END:VEVENT
BEGIN:VEVENT
DTSTART;TZID=Europe/Amsterdam:20221209T200000
DTEND;TZID=Europe/Amsterdam:20221209T223000
DTSTAMP:20260423T002723
CREATED:20220723T150141Z
LAST-MODIFIED:20221208T073801Z
UID:3129-1670616000-1670625000@www.fotoclubheerhugowaard.nl
SUMMARY:Clubavond gaan NIET door
DESCRIPTION:Beste leden\, \nZoals al gemeld gaat vanavond -vanwege de grote hoeveelheid afzeggingen- de clubavond NIET door. \nWe zien elkaar weer op donderdag de 15e! \nHet bestuur
URL:https://www.fotoclubheerhugowaard.nl/event/clubavond-70/
LOCATION:Centrum 31\, Bickerstraat 31\, Heerhugowaard\, Nederland
CATEGORIES:Vrijdag clubavond
END:VEVENT
BEGIN:VEVENT
DTSTART;TZID=Europe/Amsterdam:20221201T200000
DTEND;TZID=Europe/Amsterdam:20221201T223000
DTSTAMP:20260423T002723
CREATED:20220723T150100Z
LAST-MODIFIED:20221129T124451Z
UID:3127-1669924800-1669933800@www.fotoclubheerhugowaard.nl
SUMMARY:Inspiratie-avond
DESCRIPTION:Vanavond inspireren we elkaar! Hoe?\nDoor het delen van kennis over fotografie\, techniek\, Photoshop\, een fotograaf\, een fotoboek\, een expositie…. het kan van alles zijn! \n\nVanavond gaat Saskia ons iets laten zien van haar workflow m.b.t. haar foto-archief.\nWe krijgen ook mooie foto’s te zien van Johan en Renske\, die samen een workshop roofvogelfotografie hebben gevolgd.\n\nWil je ook nog iets vertellen? Laat het even weten.
URL:https://www.fotoclubheerhugowaard.nl/event/clubavond-69/
LOCATION:Centrum 31\, Bickerstraat 31\, Heerhugowaard\, Nederland
CATEGORIES:Donderdag clubavond
END:VEVENT
BEGIN:VEVENT
DTSTART;TZID=Europe/Amsterdam:20221128T200000
DTEND;TZID=Europe/Amsterdam:20221128T220000
DTSTAMP:20260423T002723
CREATED:20220404T180515Z
LAST-MODIFIED:20220404T180515Z
UID:2844-1669665600-1669672800@www.fotoclubheerhugowaard.nl
SUMMARY:Basiscursus fotografie (avond 4)
DESCRIPTION:Basisschool Reflector\,  Keerkring 49\nHeerhugowaard\, 1705 SP Nederland  + Google Maps
URL:https://www.fotoclubheerhugowaard.nl/event/basiscursus-fotografie-avond-4-2/
CATEGORIES:Basiscursus
END:VEVENT
BEGIN:VEVENT
DTSTART;TZID=Europe/Amsterdam:20221125T200000
DTEND;TZID=Europe/Amsterdam:20221125T223000
DTSTAMP:20260423T002723
CREATED:20220723T150015Z
LAST-MODIFIED:20221028T161428Z
UID:3125-1669406400-1669415400@www.fotoclubheerhugowaard.nl
SUMMARY:Guppen-avond
DESCRIPTION:Vanavond gaan we in groepjes foto’s bespreken… hoe? wat? \nDat vertellen we je op de clubavond / in de mail.
URL:https://www.fotoclubheerhugowaard.nl/event/clubavond-68/
CATEGORIES:Vrijdag clubavond
END:VEVENT
BEGIN:VEVENT
DTSTART;TZID=Europe/Amsterdam:20221121T200000
DTEND;TZID=Europe/Amsterdam:20221121T220000
DTSTAMP:20260423T002723
CREATED:20220404T180418Z
LAST-MODIFIED:20220404T180418Z
UID:2842-1669060800-1669068000@www.fotoclubheerhugowaard.nl
SUMMARY:Basiscursus fotografie (avond 3)
DESCRIPTION:Basisschool Reflector\,  Keerkring 49\nHeerhugowaard\, 1705 SP Nederland  + Google Maps
URL:https://www.fotoclubheerhugowaard.nl/event/basiscursus-fotografie-avond-3-2/
CATEGORIES:Basiscursus
END:VEVENT
BEGIN:VEVENT
DTSTART;TZID=Europe/Amsterdam:20221114T200000
DTEND;TZID=Europe/Amsterdam:20221114T220000
DTSTAMP:20260423T002723
CREATED:20220404T180153Z
LAST-MODIFIED:20220404T180153Z
UID:2840-1668456000-1668463200@www.fotoclubheerhugowaard.nl
SUMMARY:Basiscursus fotografie (avond 2)
DESCRIPTION:Basisschool Reflector\,  Keerkring 49\nHeerhugowaard\, 1705 SP Nederland  + Google Maps \n 
URL:https://www.fotoclubheerhugowaard.nl/event/basiscursus-fotografie-avond-2-2/
CATEGORIES:Basiscursus
END:VEVENT
BEGIN:VEVENT
DTSTART;TZID=Europe/Amsterdam:20221111T200000
DTEND;TZID=Europe/Amsterdam:20221111T223000
DTSTAMP:20260423T002723
CREATED:20220723T145937Z
LAST-MODIFIED:20220906T073725Z
UID:3123-1668196800-1668205800@www.fotoclubheerhugowaard.nl
SUMMARY:IFC - 1e ronde: Ondersteboven
DESCRIPTION:Ronde 1 van de Interne Foto Competitie\nHet thema van deze IFC ronde is Ondersteboven \nLet op:\nLees de reglementen van de IFC nog even door\, zodat je exact weet wat de bedoeling is.
URL:https://www.fotoclubheerhugowaard.nl/event/clubavond-67/
CATEGORIES:Vrijdag clubavond
END:VEVENT
BEGIN:VEVENT
DTSTART;TZID=Europe/Amsterdam:20221107T200000
DTEND;TZID=Europe/Amsterdam:20221107T220000
DTSTAMP:20260423T002723
CREATED:20220404T180033Z
LAST-MODIFIED:20220404T180033Z
UID:2838-1667851200-1667858400@www.fotoclubheerhugowaard.nl
SUMMARY:Basiscursus fotografie (avond 1)
DESCRIPTION:Basisschool Reflector\,  Keerkring 49\nHeerhugowaard\, 1705 SP Nederland  + Google Maps
URL:https://www.fotoclubheerhugowaard.nl/event/basiscursus-fotografie-avond-1-2/
CATEGORIES:Basiscursus
END:VEVENT
BEGIN:VEVENT
DTSTART;TZID=Europe/Amsterdam:20221103T200000
DTEND;TZID=Europe/Amsterdam:20221103T223000
DTSTAMP:20260423T002723
CREATED:20220723T145854Z
LAST-MODIFIED:20221028T160828Z
UID:3121-1667505600-1667514600@www.fotoclubheerhugowaard.nl
SUMMARY:Inspiratie-avond
DESCRIPTION:Vanavond inspireren we elkaar! Hoe?\nDoor het delen van kennis over fotografie\, techniek\, Photoshop\, een fotograaf\, een fotoboek\, een expositie…. het kan van alles zijn! \nVanavond zal Peter Vos ons kennis laten maken met het zone-systeem en Ansel Adams. \nWil je ook nog iets vertellen? Laat het even weten.
URL:https://www.fotoclubheerhugowaard.nl/event/clubavond-66/
CATEGORIES:Donderdag clubavond
END:VEVENT
BEGIN:VEVENT
DTSTART;TZID=Europe/Amsterdam:20221028T200000
DTEND;TZID=Europe/Amsterdam:20221028T223000
DTSTAMP:20260423T002723
CREATED:20220723T145804Z
LAST-MODIFIED:20221027T104137Z
UID:3119-1666987200-1666996200@www.fotoclubheerhugowaard.nl
SUMMARY:Eigen Werk + resultaten Powdershoot / fotoclubuitje
DESCRIPTION:Vanavond is het weer tijd voor Eigen Werk! Waar ben je mee bezig? Wat wil je je clubleden laten zien?\nNeem in iedere geval 3 (digitale) beelden mee. \nWe hebben op 6 oktober jl. een ontzettend leuke werkavond gehad: Powdershoot met modellen.\nLaat vanavond zien wat je die avond hebt gemaakt\, we zijn benieuwd…! \nOok hebben we op 9 oktober jl. een leuk fotoclubuitje naar Den Haag gehad\, naar het Fotomuseum.\nEr zijn al leden die wat hebben laten zien van deze dag. Heb jij ook nog wat? Laat het vanavond dan zien.
URL:https://www.fotoclubheerhugowaard.nl/event/clubavond-65/
CATEGORIES:Vrijdag clubavond
END:VEVENT
BEGIN:VEVENT
DTSTART;TZID=Europe/Amsterdam:20221014T200000
DTEND;TZID=Europe/Amsterdam:20221014T223000
DTSTAMP:20260423T002723
CREATED:20220723T145720Z
LAST-MODIFIED:20220906T074419Z
UID:3117-1665777600-1665786600@www.fotoclubheerhugowaard.nl
SUMMARY:De 10 van ....
DESCRIPTION:
URL:https://www.fotoclubheerhugowaard.nl/event/clubavond-64/
LOCATION:Centrum 31\, Bickerstraat 31\, Heerhugowaard\, Nederland
CATEGORIES:Vrijdag clubavond
END:VEVENT
BEGIN:VEVENT
DTSTART;VALUE=DATE:20221009
DTEND;VALUE=DATE:20221010
DTSTAMP:20260423T002723
CREATED:20220710T151002Z
LAST-MODIFIED:20220710T151002Z
UID:3075-1665273600-1665359999@www.fotoclubheerhugowaard.nl
SUMMARY:Fotoclub-uitje
DESCRIPTION:Save the date!! \nWat\, waar\, waarheen?? Dat houden we nog even geheim\, voor nu: zet 9 oktober 2022 in je agenda! \n 
URL:https://www.fotoclubheerhugowaard.nl/event/fotoclub-uitje/
END:VEVENT
BEGIN:VEVENT
DTSTART;TZID=Europe/Amsterdam:20221006T200000
DTEND;TZID=Europe/Amsterdam:20221006T223000
DTSTAMP:20260423T002723
CREATED:20220723T145628Z
LAST-MODIFIED:20220906T074139Z
UID:3115-1665086400-1665095400@www.fotoclubheerhugowaard.nl
SUMMARY:Werkavond: powdershoot met modellen
DESCRIPTION:Vanavond gaan we met z’n allen aan de slag!\nCamera mee\, spulletjes mee…. en lekker met z’n allen fotograferen. \nWat? Hoe? Dat hoor je op de clubavonden en in de mail.
URL:https://www.fotoclubheerhugowaard.nl/event/clubavond-63/
LOCATION:Centrum 31\, Bickerstraat 31\, Heerhugowaard\, Nederland
CATEGORIES:Donderdag clubavond
END:VEVENT
BEGIN:VEVENT
DTSTART;TZID=Europe/Amsterdam:20220923T200000
DTEND;TZID=Europe/Amsterdam:20220923T223000
DTSTAMP:20260423T002723
CREATED:20220723T145411Z
LAST-MODIFIED:20220906T073440Z
UID:3111-1663963200-1663972200@www.fotoclubheerhugowaard.nl
SUMMARY:Eigen werk + informatie powdershoot
DESCRIPTION:Vanavond tonen we eigen werk.\nWat wil je laten zien? Waar ben je mee bezig? Waar wil je advies over?\nNeem allemaal 1 tot 3 foto’s mee zodat we ze kunnen bespreken. \nTevens wordt er vanavond informatie gegeven over de komende werkavond: de powdershoot-avond!
URL:https://www.fotoclubheerhugowaard.nl/event/clubavond-61/
LOCATION:Centrum 31\, Bickerstraat 31\, Heerhugowaard\, Nederland
CATEGORIES:Vrijdag clubavond
END:VEVENT
BEGIN:VEVENT
DTSTART;TZID=Europe/Amsterdam:20220909T200000
DTEND;TZID=Europe/Amsterdam:20220909T223000
DTSTAMP:20260423T002723
CREATED:20220723T145303Z
LAST-MODIFIED:20220906T072741Z
UID:3109-1662753600-1662762600@www.fotoclubheerhugowaard.nl
SUMMARY:"Geel" en "Oneliners"
DESCRIPTION:Vanavond bespreken we de foto’s die zijn ingezonden voor de foto van de maand “Geel”.\nHoe ben je gekomen tot jouw top 3? Wat spreekt je meer aan in een foto? We gaan het bespreken vanavond! \nTevens doen we onze bekende “oneliners”!\nNeem allemaal een geprinte foto mee\, dan gaan we daarmee aan de slag!
URL:https://www.fotoclubheerhugowaard.nl/event/clubavond-55/
LOCATION:Centrum 31\, Bickerstraat 31\, Heerhugowaard\, Nederland
CATEGORIES:Vrijdag clubavond
END:VEVENT
BEGIN:VEVENT
DTSTART;TZID=Europe/Amsterdam:20220901T200000
DTEND;TZID=Europe/Amsterdam:20220901T223000
DTSTAMP:20260423T002723
CREATED:20220723T145516Z
LAST-MODIFIED:20220906T072924Z
UID:3113-1662062400-1662071400@www.fotoclubheerhugowaard.nl
SUMMARY:1e clubavond: ALV + O\, zo Nederlands
DESCRIPTION:
URL:https://www.fotoclubheerhugowaard.nl/event/clubavond-62/
LOCATION:Centrum 31\, Bickerstraat 31\, Heerhugowaard\, Nederland
CATEGORIES:Donderdag clubavond
END:VEVENT
BEGIN:VEVENT
DTSTART;TZID=Europe/Amsterdam:20220527T200000
DTEND;TZID=Europe/Amsterdam:20220527T223000
DTSTAMP:20260423T002723
CREATED:20210827T190728Z
LAST-MODIFIED:20220224T202409Z
UID:2490-1653681600-1653690600@www.fotoclubheerhugowaard.nl
SUMMARY:Uitreiking IFC-trofee en Heerhugowaard-Award
DESCRIPTION:Laatste clubavond. Uitreiking IFC-trofee en HHW-Award
URL:https://www.fotoclubheerhugowaard.nl/event/clubavond-60/
LOCATION:Centrum 31\, Bickerstraat 31\, Heerhugowaard\, Nederland
CATEGORIES:Vrijdag clubavond
END:VEVENT
BEGIN:VEVENT
DTSTART;TZID=Europe/Amsterdam:20220519T200000
DTEND;TZID=Europe/Amsterdam:20220519T223000
DTSTAMP:20260423T002723
CREATED:20210827T190644Z
LAST-MODIFIED:20210910T145521Z
UID:2488-1652990400-1652999400@www.fotoclubheerhugowaard.nl
SUMMARY:Techniek- / informatieve avond
DESCRIPTION:  \n  \n  \nToelichting clubavonden donderdag\nDe clubavonden op de donderdag hebben hun zwaartepunt wat meer liggen op de praktische kant van de fotografie. Met andere woorden\, de weg die je volgt naar het eindresultaat. Er is meer tijd om met elkaar in te gaan op de manier waarop je een bepaald resultaat kunt bereiken. Denk bijvoorbeeld aan de instellingen van je camera\, hulp bij het maken van een fotoserie\, hoe je te werk gaat met studioflitsers\, hoe je een foto kunt bewerken op de computer\, richtlijnen voor het bespreken van foto’s\, het zelf printen van foto’s\, enz. In verband met de nadruk die de donderdagavond legt op de praktijk\, zijn ook de werkavonden op deze dagen geprogrammeerd.
URL:https://www.fotoclubheerhugowaard.nl/event/clubavond-59/
LOCATION:Centrum 31\, Bickerstraat 31\, Heerhugowaard\, Nederland
CATEGORIES:Donderdag clubavond
END:VEVENT
BEGIN:VEVENT
DTSTART;TZID=Europe/Amsterdam:20220513T200000
DTEND;TZID=Europe/Amsterdam:20220513T223000
DTSTAMP:20260423T002723
CREATED:20210827T190511Z
LAST-MODIFIED:20220218T142131Z
UID:2484-1652472000-1652481000@www.fotoclubheerhugowaard.nl
SUMMARY:IFC - 3e ronde
DESCRIPTION:Ronde 3 van de Interne Foto Competitie\nHet thema van deze IFC ronde is Vuur \nLet op:\nLees de reglementen van de IFC nog even door\, zodat je exact weet wat de bedoeling is. \n  \nToelichting\nDe clubavonden op de vrijdag hebben hun zwaartepunt liggen op de foto of fotoserie als eindproduct. Wat is de inhoud\, het verhaal\, de zeggingskracht van het getoonde werk. Welke beeldtaal heeft de fotograaf gebruikt\, wat zijn de compositorische aspecten\, welke stijl is toegepast\, zijn er speciale technieken gebruikt. En\, in het geval van series\, welke onderlinge samenhang hebben de beelden. Vanzelfsprekend zullen ook de technische kanten aan bod komen\, want het komen tot een eindresultaat is deels een technisch proces. Er is veel ruimte voor het bespreken van eigen werk\, maar ook worden gastsprekers uitgenodigd die hun portfolio zullen presenteren. Tevens is de Interne Foto Competitie (IFC) geprogrammeerd op een drietal vrijdagavonden.
URL:https://www.fotoclubheerhugowaard.nl/event/clubavond-57/
LOCATION:Centrum 31\, Bickerstraat 31\, Heerhugowaard\, Nederland
CATEGORIES:Vrijdag clubavond
END:VEVENT
BEGIN:VEVENT
DTSTART;TZID=Europe/Amsterdam:20220422T200000
DTEND;TZID=Europe/Amsterdam:20220422T223000
DTSTAMP:20260423T002723
CREATED:20210827T190212Z
LAST-MODIFIED:20220218T142639Z
UID:2478-1650657600-1650666600@www.fotoclubheerhugowaard.nl
SUMMARY:Diana Bokje
DESCRIPTION:Vanavond de laatste avond van de 3 avonden met Diana Bokje. Vanavond nemen we zelf een foto mee die we gaan bespreken van elkaar. \n  \nToelichting clubavonden vrijdag \nDe clubavonden op de vrijdag hebben hun zwaartepunt liggen op de foto of fotoserie als eindproduct. Wat is de inhoud\, het verhaal\, de zeggingskracht van het getoonde werk. Welke beeldtaal heeft de fotograaf gebruikt\, wat zijn de compositorische aspecten\, welke stijl is toegepast\, zijn er speciale technieken gebruikt. En\, in het geval van series\, welke onderlinge samenhang hebben de beelden. Vanzelfsprekend zullen ook de technische kanten aan bod komen\, want het komen tot een eindresultaat is deels een technisch proces. Er is veel ruimte voor het bespreken van eigen werk\, maar ook worden gastsprekers uitgenodigd die hun portfolio zullen presenteren. Tevens is de Interne Foto Competitie (IFC) geprogrammeerd op een drietal vrijdagavonden.
URL:https://www.fotoclubheerhugowaard.nl/event/clubavond-54/
LOCATION:Centrum 31\, Bickerstraat 31\, Heerhugowaard\, Nederland
CATEGORIES:Vrijdag clubavond
END:VEVENT
BEGIN:VEVENT
DTSTART;TZID=Europe/Amsterdam:20220414T200000
DTEND;TZID=Europe/Amsterdam:20220414T223000
DTSTAMP:20260423T002723
CREATED:20210827T190426Z
LAST-MODIFIED:20220409T171927Z
UID:2482-1649966400-1649975400@www.fotoclubheerhugowaard.nl
SUMMARY:Kleurbeheersing en eigen werk
DESCRIPTION:Onderwerp: Roland gaat ons informeren over het onderwerp Kleurbeheersing en daarna bespreken we eigen werk. \n  \nToelichting clubavonden donderdag\nDe clubavonden op de donderdag hebben hun zwaartepunt wat meer liggen op de praktische kant van de fotografie. Met andere woorden\, de weg die je volgt naar het eindresultaat. Er is meer tijd om met elkaar in te gaan op de manier waarop je een bepaald resultaat kunt bereiken. Denk bijvoorbeeld aan de instellingen van je camera\, hulp bij het maken van een fotoserie\, hoe je te werk gaat met studioflitsers\, hoe je een foto kunt bewerken op de computer\, richtlijnen voor het bespreken van foto’s\, het zelf printen van foto’s\, enz. In verband met de nadruk die de donderdagavond legt op de praktijk\, zijn ook de werkavonden op deze dagen geprogrammeerd.
URL:https://www.fotoclubheerhugowaard.nl/event/clubavond-56/
LOCATION:Centrum 31\, Bickerstraat 31\, Heerhugowaard\, Nederland
CATEGORIES:Donderdag clubavond
END:VEVENT
BEGIN:VEVENT
DTSTART;TZID=Europe/Amsterdam:20220408T200000
DTEND;TZID=Europe/Amsterdam:20220408T223000
DTSTAMP:20260423T002723
CREATED:20210827T185934Z
LAST-MODIFIED:20220224T202321Z
UID:2472-1649448000-1649457000@www.fotoclubheerhugowaard.nl
SUMMARY:Uitzoeken foto's Bondsfotowedstrijd
DESCRIPTION:Uitzoeken foto’s bondsfotowedstrijd \nVanavond neem je foto’s mee die in aanmerking komen voor het meedoen aan de Bondsfotowedstrijd. \n  \nToelichting clubavonden vrijdag \nDe clubavonden op de vrijdag hebben hun zwaartepunt liggen op de foto of fotoserie als eindproduct. Wat is de inhoud\, het verhaal\, de zeggingskracht van het getoonde werk. Welke beeldtaal heeft de fotograaf gebruikt\, wat zijn de compositorische aspecten\, welke stijl is toegepast\, zijn er speciale technieken gebruikt. En\, in het geval van series\, welke onderlinge samenhang hebben de beelden. Vanzelfsprekend zullen ook de technische kanten aan bod komen\, want het komen tot een eindresultaat is deels een technisch proces. Er is veel ruimte voor het bespreken van eigen werk\, maar ook worden gastsprekers uitgenodigd die hun portfolio zullen presenteren. Tevens is de Interne Foto Competitie (IFC) geprogrammeerd op een drietal vrijdagavonden.
URL:https://www.fotoclubheerhugowaard.nl/event/clubavond-51/
LOCATION:Centrum 31\, Bickerstraat 31\, Heerhugowaard\, Nederland
CATEGORIES:Vrijdag clubavond
END:VEVENT
BEGIN:VEVENT
DTSTART;TZID=Europe/Amsterdam:20220325T200000
DTEND;TZID=Europe/Amsterdam:20220325T223000
DTSTAMP:20260423T002723
CREATED:20210827T190558Z
LAST-MODIFIED:20220315T152300Z
UID:2486-1648238400-1648247400@www.fotoclubheerhugowaard.nl
SUMMARY:Vrij werk +
DESCRIPTION:Vrij werk \nIedereen die deze avond bezoekt\, mag eigen fotowerk meenemen. \nJe bepaalt zelf of je foto’s presenteert als print of op de beamer\, maar een tastbare afdruk verdient de voorkeur. Het aantal foto’s per persoon is minimaal 1 en maximaal 3. Er bestaat geen maximum aantal voor werk dat als serie wordt gepresenteerd. \n  \n  \nToelichting clubavonden vrijdag \nDe clubavonden op de vrijdag hebben hun zwaartepunt liggen op de foto of fotoserie als eindproduct. Wat is de inhoud\, het verhaal\, de zeggingskracht van het getoonde werk. Welke beeldtaal heeft de fotograaf gebruikt\, wat zijn de compositorische aspecten\, welke stijl is toegepast\, zijn er speciale technieken gebruikt. En\, in het geval van series\, welke onderlinge samenhang hebben de beelden. Vanzelfsprekend zullen ook de technische kanten aan bod komen\, want het komen tot een eindresultaat is deels een technisch proces. Er is veel ruimte voor het bespreken van eigen werk\, maar ook worden gastsprekers uitgenodigd die hun portfolio zullen presenteren. Tevens is de Interne Foto Competitie (IFC) geprogrammeerd op een drietal vrijdagavonden.
URL:https://www.fotoclubheerhugowaard.nl/event/clubavond-58/
LOCATION:Centrum 31\, Bickerstraat 31\, Heerhugowaard\, Nederland
CATEGORIES:Vrijdag clubavond
END:VEVENT
END:VCALENDAR