BEGIN:VCALENDAR
VERSION:2.0
PRODID:-//Fotoclub Heerhugowaard - ECPv6.15.17.1//NONSGML v1.0//EN
CALSCALE:GREGORIAN
METHOD:PUBLISH
X-ORIGINAL-URL:https://www.fotoclubheerhugowaard.nl
X-WR-CALDESC:Evenementen voor Fotoclub Heerhugowaard
REFRESH-INTERVAL;VALUE=DURATION:PT1H
X-Robots-Tag:noindex
X-PUBLISHED-TTL:PT1H
BEGIN:VTIMEZONE
TZID:Europe/Amsterdam
BEGIN:DAYLIGHT
TZOFFSETFROM:+0100
TZOFFSETTO:+0200
TZNAME:CEST
DTSTART:20250330T010000
END:DAYLIGHT
BEGIN:STANDARD
TZOFFSETFROM:+0200
TZOFFSETTO:+0100
TZNAME:CET
DTSTART:20251026T010000
END:STANDARD
BEGIN:DAYLIGHT
TZOFFSETFROM:+0100
TZOFFSETTO:+0200
TZNAME:CEST
DTSTART:20260329T010000
END:DAYLIGHT
BEGIN:STANDARD
TZOFFSETFROM:+0200
TZOFFSETTO:+0100
TZNAME:CET
DTSTART:20261025T010000
END:STANDARD
BEGIN:DAYLIGHT
TZOFFSETFROM:+0100
TZOFFSETTO:+0200
TZNAME:CEST
DTSTART:20270328T010000
END:DAYLIGHT
BEGIN:STANDARD
TZOFFSETFROM:+0200
TZOFFSETTO:+0100
TZNAME:CET
DTSTART:20271031T010000
END:STANDARD
END:VTIMEZONE
BEGIN:VEVENT
DTSTART;TZID=Europe/Amsterdam:20260430T160000
DTEND;TZID=Europe/Amsterdam:20260430T170000
DTSTAMP:20260421T224131
CREATED:20250730T140947Z
LAST-MODIFIED:20260312T181513Z
UID:4862-1777564800-1777568400@www.fotoclubheerhugowaard.nl
SUMMARY:Uiterste inzenddatum foto van de maand thema: Water
DESCRIPTION:Vandaag is de uiterste inzenddatum voor de foto van de maand met het thema: Water \nInzenden naar Miranda\, zij is het jurylid deze keer!
URL:https://www.fotoclubheerhugowaard.nl/event/uiterste-inzenddatum-foto-van-de-maand-thema-water/
CATEGORIES:Wedstrijden
END:VEVENT
BEGIN:VEVENT
DTSTART;TZID=Europe/Amsterdam:20260508T200000
DTEND;TZID=Europe/Amsterdam:20260508T223000
DTSTAMP:20260421T224131
CREATED:20250920T094107Z
LAST-MODIFIED:20250920T094107Z
UID:4954-1778270400-1778279400@www.fotoclubheerhugowaard.nl
SUMMARY:Thema: zelfportret met een verhaal / gevoel
DESCRIPTION:
URL:https://www.fotoclubheerhugowaard.nl/event/thema-zelfportret-met-een-verhaal-gevoel/
LOCATION:Ontmoetingscentrum de Brink\, Middenweg 168\, Heerhugowaard\, Nederland
CATEGORIES:Vrijdag clubavond
END:VEVENT
BEGIN:VEVENT
DTSTART;TZID=Europe/Amsterdam:20260522T200000
DTEND;TZID=Europe/Amsterdam:20260522T223000
DTSTAMP:20260421T224131
CREATED:20250920T094152Z
LAST-MODIFIED:20260307T142347Z
UID:4956-1779480000-1779489000@www.fotoclubheerhugowaard.nl
SUMMARY:Uitreiking IFC trofee / uitreiking en bespreking HHW-Award
DESCRIPTION:
URL:https://www.fotoclubheerhugowaard.nl/event/uitreiking-ifc-trofee-uitreiking-en-bespreking-hhw-award/
LOCATION:Ontmoetingscentrum de Brink\, Middenweg 168\, Heerhugowaard\, Nederland
CATEGORIES:Vrijdag clubavond,Wedstrijden
END:VEVENT
BEGIN:VEVENT
DTSTART;TZID=Europe/Amsterdam:20260531T160000
DTEND;TZID=Europe/Amsterdam:20260531T170000
DTSTAMP:20260421T224131
CREATED:20250730T141047Z
LAST-MODIFIED:20260312T181755Z
UID:4864-1780243200-1780246800@www.fotoclubheerhugowaard.nl
SUMMARY:Uiterste inzenddatum foto van de maand thema: Zomertijd
DESCRIPTION:Vandaag is de uiterste inzenddatum voor de foto van de maand met het thema: Zomertijd. \nInzenden naar Rob\, hij is het jurylid deze keer!
URL:https://www.fotoclubheerhugowaard.nl/event/uiterste-inzenddatum-foto-van-de-maand-thema-zomertijd/
CATEGORIES:Wedstrijden
END:VEVENT
BEGIN:VEVENT
DTSTART;TZID=Europe/Amsterdam:20260606T100000
DTEND;TZID=Europe/Amsterdam:20260606T150000
DTSTAMP:20260421T224131
CREATED:20260319T130746Z
LAST-MODIFIED:20260319T130746Z
UID:5287-1780740000-1780758000@www.fotoclubheerhugowaard.nl
SUMMARY:Fietstocht St. Nut
DESCRIPTION:
URL:https://www.fotoclubheerhugowaard.nl/event/fietstocht-st-nut/
CATEGORIES:Evenementen
END:VEVENT
END:VCALENDAR