BEGIN:VCALENDAR
VERSION:2.0
PRODID:-//Fotoclub Heerhugowaard - ECPv6.15.17.1//NONSGML v1.0//EN
CALSCALE:GREGORIAN
METHOD:PUBLISH
X-WR-CALNAME:Fotoclub Heerhugowaard
X-ORIGINAL-URL:https://www.fotoclubheerhugowaard.nl
X-WR-CALDESC:Evenementen voor Fotoclub Heerhugowaard
REFRESH-INTERVAL;VALUE=DURATION:PT1H
X-Robots-Tag:noindex
X-PUBLISHED-TTL:PT1H
BEGIN:VTIMEZONE
TZID:Europe/Amsterdam
BEGIN:DAYLIGHT
TZOFFSETFROM:+0100
TZOFFSETTO:+0200
TZNAME:CEST
DTSTART:20240331T010000
END:DAYLIGHT
BEGIN:STANDARD
TZOFFSETFROM:+0200
TZOFFSETTO:+0100
TZNAME:CET
DTSTART:20241027T010000
END:STANDARD
BEGIN:DAYLIGHT
TZOFFSETFROM:+0100
TZOFFSETTO:+0200
TZNAME:CEST
DTSTART:20250330T010000
END:DAYLIGHT
BEGIN:STANDARD
TZOFFSETFROM:+0200
TZOFFSETTO:+0100
TZNAME:CET
DTSTART:20251026T010000
END:STANDARD
BEGIN:DAYLIGHT
TZOFFSETFROM:+0100
TZOFFSETTO:+0200
TZNAME:CEST
DTSTART:20260329T010000
END:DAYLIGHT
BEGIN:STANDARD
TZOFFSETFROM:+0200
TZOFFSETTO:+0100
TZNAME:CET
DTSTART:20261025T010000
END:STANDARD
BEGIN:DAYLIGHT
TZOFFSETFROM:+0100
TZOFFSETTO:+0200
TZNAME:CEST
DTSTART:20270328T010000
END:DAYLIGHT
BEGIN:STANDARD
TZOFFSETFROM:+0200
TZOFFSETTO:+0100
TZNAME:CET
DTSTART:20271031T010000
END:STANDARD
END:VTIMEZONE
BEGIN:VEVENT
DTSTART;TZID=Europe/Amsterdam:20250831T160000
DTEND;TZID=Europe/Amsterdam:20250831T170000
DTSTAMP:20260423T005434
CREATED:20250730T135532Z
LAST-MODIFIED:20250910T133808Z
UID:4845-1756656000-1756659600@www.fotoclubheerhugowaard.nl
SUMMARY:Uiterste inzenddatum foto van de maand thema: Reflectie
DESCRIPTION:Het thema van de foto van de maand is deze keer: Reflectie. \nJurylid: Miriam de Die le Clercq. \nTot vandaag kan je foto’s met dit thema sturen naar: miriam.ddlc@ziggo.nl
URL:https://www.fotoclubheerhugowaard.nl/event/uiterste-inzenddatum-foto-van-de-maand-thema-reflectie/
END:VEVENT
BEGIN:VEVENT
DTSTART;TZID=Europe/Amsterdam:20250905T200000
DTEND;TZID=Europe/Amsterdam:20250905T223000
DTSTAMP:20260423T005434
CREATED:20250730T132251Z
LAST-MODIFIED:20250822T192042Z
UID:4812-1757102400-1757111400@www.fotoclubheerhugowaard.nl
SUMMARY:Algemene Vergadering (ALV)
DESCRIPTION:Vandaag start het nieuwe fotoclubseizoen met de Algemene Vergadering. \nAansluitend willen we foto’s laten zien met onderstaande onderwerpen\, \n1.      Laat zien hoe je vakantie is geweest met één foto die alles zegt \n2.      We laten ook wat foto’s zien van de clubuitjes van vorig seizoen!\nBen je mee geweest met één of meer uitjes? Heb je nog een leuke foto? Van je clubleden of een mooie foto die je hebt gemaakt waar je trots op ben? Stuur twee foto’s in! \nDus heb je in de vakantieperiode een foto gemaakt met deze onderwerpen\, stuur deze dan uiterlijk 29 augustus a.s. naar: miriam.ddlc@ziggo.nl
URL:https://www.fotoclubheerhugowaard.nl/event/algemene-ledenvergadering-2/
LOCATION:Centrum 31\, Bickerstraat 31\, Heerhugowaard\, Nederland
CATEGORIES:Vrijdag clubavond
END:VEVENT
BEGIN:VEVENT
DTSTART;TZID=Europe/Amsterdam:20250911T200000
DTEND;TZID=Europe/Amsterdam:20250911T223000
DTSTAMP:20260423T005434
CREATED:20250730T132734Z
LAST-MODIFIED:20250910T132409Z
UID:4814-1757620800-1757629800@www.fotoclubheerhugowaard.nl
SUMMARY:Werkavond
DESCRIPTION:Vanavond gaan we zelf aan de slag met de camera met elkaar!\nIn je mail en op de app heb je uitleg gekregen over deze werkavond. \nLaten we er een gezellige -zoete- avond van maken!
URL:https://www.fotoclubheerhugowaard.nl/event/fotoclubavond/
LOCATION:Centrum 31\, Bickerstraat 31\, Heerhugowaard\, Nederland
CATEGORIES:Donderdag clubavond
END:VEVENT
BEGIN:VEVENT
DTSTART;TZID=Europe/Amsterdam:20250919T200000
DTEND;TZID=Europe/Amsterdam:20250919T223000
DTSTAMP:20260423T005434
CREATED:20250730T132954Z
LAST-MODIFIED:20250910T132741Z
UID:4816-1758312000-1758321000@www.fotoclubheerhugowaard.nl
SUMMARY:Eigen Werk + resultaten zomeropdracht "vergankelijkheid" + foto's inzenden voor de Bondsfotowedstrijd
DESCRIPTION:Iedereen laat minimaal 1 en maximaal 3 foto’s zien vanavond. \nEn we zien de resultaten van onze zomeropdracht van dit jaar met het thema “vergankelijkheid” \nOok kun je foto’s insturen die je zou willen insturen voor de Bondsfotowedstrijd\, die bespreken we vanavond.
URL:https://www.fotoclubheerhugowaard.nl/event/fotoclubavond-2/
LOCATION:Centrum 31\, Bickerstraat 31\, Heerhugowaard\, Nederland
CATEGORIES:Vrijdag clubavond
END:VEVENT
BEGIN:VEVENT
DTSTART;TZID=Europe/Amsterdam:20250930T160000
DTEND;TZID=Europe/Amsterdam:20250930T170000
DTSTAMP:20260423T005434
CREATED:20250730T140006Z
LAST-MODIFIED:20250910T133911Z
UID:4848-1759248000-1759251600@www.fotoclubheerhugowaard.nl
SUMMARY:Uiterste inzenddatum foto van de maand thema: Eten en drinken
DESCRIPTION:Vandaag is de uiterste inzenddatum voor de foto’s van de maand met het thema: Eten en drinken \nJurylid: Saskia van Tooren. \nJe kunt je foto’s inzenden naar saskiavantooren@gmail.com
URL:https://www.fotoclubheerhugowaard.nl/event/uiterste-inzenddatum-foto-van-de-maand-thema-eten-en-drinken/
END:VEVENT
BEGIN:VEVENT
DTSTART;TZID=Europe/Amsterdam:20251003T200000
DTEND;TZID=Europe/Amsterdam:20251003T223000
DTSTAMP:20260423T005434
CREATED:20250730T133229Z
LAST-MODIFIED:20250910T133513Z
UID:4818-1759521600-1759530600@www.fotoclubheerhugowaard.nl
SUMMARY:"GUPPEN avond"
DESCRIPTION:Vanavond gaan we in groepjes bijzondere foto’s bespreken en krijg je een opdracht mee naar huis… hoe? wat?\nDat vertellen we je op de clubavonden en in de mail. \nVanavond wordt ook de foto van de maand besproken met thema ETEN EN DRINKEN door Saskia
URL:https://www.fotoclubheerhugowaard.nl/event/fotoclubavond-3/
LOCATION:Centrum 31\, Bickerstraat 31\, Heerhugowaard\, Nederland
CATEGORIES:Vrijdag clubavond
END:VEVENT
BEGIN:VEVENT
DTSTART;TZID=Europe/Amsterdam:20251009T200000
DTEND;TZID=Europe/Amsterdam:20251009T223000
DTSTAMP:20260423T005434
CREATED:20250730T133345Z
LAST-MODIFIED:20250910T132954Z
UID:4820-1760040000-1760049000@www.fotoclubheerhugowaard.nl
SUMMARY:Inspriratie-avond
DESCRIPTION:Vanavond inspireren we elkaar! Hoe?\nDoor het delen van kennis over fotografie\, techniek\, Photoshop\, een fotograaf\, een fotoboek\, een expositie…. het kan van alles zijn! \nWie gaat vanavond iets vertellen / laten zien: \n\n\n\nWil je ook nog iets vertellen? Laat het even weten.
URL:https://www.fotoclubheerhugowaard.nl/event/fotoclubavond-4/
LOCATION:Centrum 31\, Bickerstraat 31\, Heerhugowaard\, Nederland
CATEGORIES:Donderdag clubavond
END:VEVENT
BEGIN:VEVENT
DTSTART;TZID=Europe/Amsterdam:20251017T200000
DTEND;TZID=Europe/Amsterdam:20251017T223000
DTSTAMP:20260423T005434
CREATED:20250730T133448Z
LAST-MODIFIED:20250910T133154Z
UID:4823-1760731200-1760740200@www.fotoclubheerhugowaard.nl
SUMMARY:Eigen werk + resultaten werkavond en roofvogelfotografie
DESCRIPTION:Vanavond laat iedereen minimaal 1 en maximaal 3 foto’s zien! \nWe nemen ook allemaal foto’s mee van de werkavond van 11 september en als je naar de roofvogelfotografiedag bent geweest…. laat vandaag je foto’s zien! \n 
URL:https://www.fotoclubheerhugowaard.nl/event/fotoclubavond-5/
LOCATION:Centrum 31\, Bickerstraat 31\, Heerhugowaard\, Nederland
CATEGORIES:Vrijdag clubavond
END:VEVENT
BEGIN:VEVENT
DTSTART;TZID=Europe/Amsterdam:20251031T160000
DTEND;TZID=Europe/Amsterdam:20251031T170000
DTSTAMP:20260423T005434
CREATED:20250730T140127Z
LAST-MODIFIED:20250730T140127Z
UID:4850-1761926400-1761930000@www.fotoclubheerhugowaard.nl
SUMMARY:Uiterste inzenddatum foto van de maand thema: Rond
DESCRIPTION:Vandaag is de uiterste inzenddatum voor de foto’s van de maand met het thema: Rond
URL:https://www.fotoclubheerhugowaard.nl/event/uiterste-inzenddatum-foto-van-de-maand-thema-rond/
END:VEVENT
BEGIN:VEVENT
DTSTART;TZID=Europe/Amsterdam:20251031T200000
DTEND;TZID=Europe/Amsterdam:20251031T223000
DTSTAMP:20260423T005434
CREATED:20250730T133556Z
LAST-MODIFIED:20251026T121944Z
UID:4825-1761940800-1761949800@www.fotoclubheerhugowaard.nl
SUMMARY:Gastspreker Julian Barry
DESCRIPTION:Op deze clubavond staat een geweldige gastspreker gepland!!\nVia Arno hebben we Julian Barry bereid gevonden om naar Heerhugowaard af te reizen om te komen vertellen en zijn foto’s  te laten zien. \nMaar wie is de in 1971 geboren gastspreker Julian Barry eigenlijk? Sommigen van ons kennen Julian wellicht als 1 van de zangers van de band Roméo waarin hij zat met onder andere zijn tweelingbroer Spencer. \nJulian zal aan de hand van foto’s van voor en achter de schermen jullie gaan meenemen in zijn leven als bandlid. \nFoto’s en anekdotes van toen (analoge fotografie) maar ook van de theatertour die ze in 2025 hebben gedaan (digitale en analoge fotografie).
URL:https://www.fotoclubheerhugowaard.nl/event/fotoclubavond-6/
LOCATION:Centrum 31\, Bickerstraat 31\, Heerhugowaard\, Nederland
CATEGORIES:Vrijdag clubavond
END:VEVENT
BEGIN:VEVENT
DTSTART;TZID=Europe/Amsterdam:20251114T200000
DTEND;TZID=Europe/Amsterdam:20251114T223000
DTSTAMP:20260423T005434
CREATED:20250730T133707Z
LAST-MODIFIED:20250910T133553Z
UID:4827-1763150400-1763159400@www.fotoclubheerhugowaard.nl
SUMMARY:IFC: 1e ronde - "Rood"
DESCRIPTION:Let op:\nLees de reglementen van de IFC nog even door\, zodat je exact weet wat de bedoeling is. \n  \nVanavond wordt ook de foto van de maand besproken met thema ROND door …
URL:https://www.fotoclubheerhugowaard.nl/event/fotoclubavond-7/
LOCATION:Centrum 31\, Bickerstraat 31\, Heerhugowaard\, Nederland
CATEGORIES:Vrijdag clubavond
END:VEVENT
BEGIN:VEVENT
DTSTART;TZID=Europe/Amsterdam:20251128T200000
DTEND;TZID=Europe/Amsterdam:20251128T223000
DTSTAMP:20260423T005434
CREATED:20250730T133936Z
LAST-MODIFIED:20250910T133308Z
UID:4831-1764360000-1764369000@www.fotoclubheerhugowaard.nl
SUMMARY:Eigen werk + resultaten GUPPEN-avond + foto's inzenden voor de Bondsfotowedstrijd
DESCRIPTION:
URL:https://www.fotoclubheerhugowaard.nl/event/fotoclubavond-9/
LOCATION:Centrum 31\, Bickerstraat 31\, Heerhugowaard\, Nederland
CATEGORIES:Vrijdag clubavond
END:VEVENT
BEGIN:VEVENT
DTSTART;TZID=Europe/Amsterdam:20251130T160000
DTEND;TZID=Europe/Amsterdam:20251130T170000
DTSTAMP:20260423T005434
CREATED:20250730T140349Z
LAST-MODIFIED:20250730T140349Z
UID:4852-1764518400-1764522000@www.fotoclubheerhugowaard.nl
SUMMARY:Uiterste inzenddatum foto van de maand thema: Schaduw
DESCRIPTION:Vandaag is de uiterste inzenddatum voor de foto’s van de maand met het thema: Schaduw
URL:https://www.fotoclubheerhugowaard.nl/event/uiterste-inzenddatum-foto-van-de-maand-thema-schaduw/
END:VEVENT
BEGIN:VEVENT
DTSTART;TZID=Europe/Amsterdam:20251219T200000
DTEND;TZID=Europe/Amsterdam:20251219T223000
DTSTAMP:20260423T005434
CREATED:20250730T134215Z
LAST-MODIFIED:20250730T134215Z
UID:4835-1766174400-1766183400@www.fotoclubheerhugowaard.nl
SUMMARY:Feestelijke avond
DESCRIPTION:
URL:https://www.fotoclubheerhugowaard.nl/event/feestelijke-avond/
LOCATION:Centrum 31\, Bickerstraat 31\, Heerhugowaard\, Nederland
CATEGORIES:Vrijdag clubavond
END:VEVENT
BEGIN:VEVENT
DTSTART;TZID=Europe/Amsterdam:20251231T160000
DTEND;TZID=Europe/Amsterdam:20251231T170000
DTSTAMP:20260423T005434
CREATED:20250730T140531Z
LAST-MODIFIED:20251210T103334Z
UID:4854-1767196800-1767200400@www.fotoclubheerhugowaard.nl
SUMMARY:Uiterste inzenddatum foto van de maand thema: Stilleven
DESCRIPTION:Vandaag is de uiterste inzenddatum voor de foto’s van de maand met het thema: Stilleven. \nInzenden naar Isabel\, zij is het jurylid deze keer!
URL:https://www.fotoclubheerhugowaard.nl/event/uiterste-inzenddatum-foto-van-de-maand-thema-stilleven/
END:VEVENT
BEGIN:VEVENT
DTSTART;TZID=Europe/Amsterdam:20260109T200000
DTEND;TZID=Europe/Amsterdam:20260109T223000
DTSTAMP:20260423T005434
CREATED:20250920T093042Z
LAST-MODIFIED:20250920T093042Z
UID:4938-1767988800-1767997800@www.fotoclubheerhugowaard.nl
SUMMARY:Nieuwjaarsborrel + foto’s uitzoeken bondsfotowedstrijd + bespreking Foto van de Maand
DESCRIPTION:
URL:https://www.fotoclubheerhugowaard.nl/event/nieuwjaarsborrel-fotos-uitzoeken-bondsfotowedstrijd-bespreking-foto-van-de-maand/
LOCATION:Ontmoetingscentrum de Brink\, Middenweg 168\, Heerhugowaard\, Nederland
CATEGORIES:Vrijdag clubavond
END:VEVENT
BEGIN:VEVENT
DTSTART;TZID=Europe/Amsterdam:20260123T200000
DTEND;TZID=Europe/Amsterdam:20260123T223000
DTSTAMP:20260423T005434
CREATED:20250920T093222Z
LAST-MODIFIED:20250920T093222Z
UID:4940-1769198400-1769207400@www.fotoclubheerhugowaard.nl
SUMMARY:Oneliners (iedereen 1 foto afgedrukt mee) / Eigen Werk
DESCRIPTION:
URL:https://www.fotoclubheerhugowaard.nl/event/oneliners-iedereen-1-foto-afgedrukt-mee-eigen-werk/
LOCATION:Ontmoetingscentrum de Brink\, Middenweg 168\, Heerhugowaard\, Nederland
CATEGORIES:Vrijdag clubavond
END:VEVENT
BEGIN:VEVENT
DTSTART;TZID=Europe/Amsterdam:20260131T160000
DTEND;TZID=Europe/Amsterdam:20260131T170000
DTSTAMP:20260423T005434
CREATED:20250730T140636Z
LAST-MODIFIED:20251210T103407Z
UID:4856-1769875200-1769878800@www.fotoclubheerhugowaard.nl
SUMMARY:Uiterste inzenddatum foto van de maand thema: Straatleven
DESCRIPTION:Vandaag is de uiterste inzenddatum voor de foto’s van de maand met het thema: straatleven \nInzenden naar Sonja\, zij is het jurylid deze keer !
URL:https://www.fotoclubheerhugowaard.nl/event/uiterste-inzenddatum-foto-van-de-maand-thema-straatleven/
END:VEVENT
BEGIN:VEVENT
DTSTART;TZID=Europe/Amsterdam:20260206T200000
DTEND;TZID=Europe/Amsterdam:20260206T223000
DTSTAMP:20260423T005434
CREATED:20250920T093409Z
LAST-MODIFIED:20250920T093409Z
UID:4942-1770408000-1770417000@www.fotoclubheerhugowaard.nl
SUMMARY:2e ronde IFC – Blauw + bespreking Foto van de Maand
DESCRIPTION:
URL:https://www.fotoclubheerhugowaard.nl/event/2e-ronde-ifc-blauw-bespreking-foto-van-de-maand/
LOCATION:Ontmoetingscentrum de Brink\, Middenweg 168\, Heerhugowaard\, Nederland
CATEGORIES:Vrijdag clubavond
END:VEVENT
BEGIN:VEVENT
DTSTART;TZID=Europe/Amsterdam:20260220T200000
DTEND;TZID=Europe/Amsterdam:20260220T223000
DTSTAMP:20260423T005434
CREATED:20250920T093512Z
LAST-MODIFIED:20250920T093512Z
UID:4944-1771617600-1771626600@www.fotoclubheerhugowaard.nl
SUMMARY:Leden voor Leden avond
DESCRIPTION:
URL:https://www.fotoclubheerhugowaard.nl/event/leden-voor-leden-avond/
LOCATION:Ontmoetingscentrum de Brink\, Middenweg 168\, Heerhugowaard\, Nederland
CATEGORIES:Vrijdag clubavond
END:VEVENT
BEGIN:VEVENT
DTSTART;TZID=Europe/Amsterdam:20260228T160000
DTEND;TZID=Europe/Amsterdam:20260228T170000
DTSTAMP:20260423T005434
CREATED:20250730T140735Z
LAST-MODIFIED:20251210T103432Z
UID:4858-1772294400-1772298000@www.fotoclubheerhugowaard.nl
SUMMARY:Uiterste inzenddatum foto van de maand thema: Lijnenspel
DESCRIPTION:Vandaag is de uiterste inzenddatum voor de foto’s van de maand met het thema: Lijnenspel \nInzenden naar Lucie\, zij is het jurylid deze keer!
URL:https://www.fotoclubheerhugowaard.nl/event/uiterste-inzenddatum-foto-van-de-maand-thema-lijnenspel/
END:VEVENT
BEGIN:VEVENT
DTSTART;TZID=Europe/Amsterdam:20260306T200000
DTEND;TZID=Europe/Amsterdam:20260306T223000
DTSTAMP:20260423T005434
CREATED:20250920T093702Z
LAST-MODIFIED:20250920T093702Z
UID:4946-1772827200-1772836200@www.fotoclubheerhugowaard.nl
SUMMARY:Eigen werk + bespreking Foto van de Maand + …
DESCRIPTION:
URL:https://www.fotoclubheerhugowaard.nl/event/eigen-werk-bespreking-foto-van-de-maand/
LOCATION:Ontmoetingscentrum de Brink\, Middenweg 168\, Heerhugowaard\, Nederland
CATEGORIES:Vrijdag clubavond
END:VEVENT
BEGIN:VEVENT
DTSTART;TZID=Europe/Amsterdam:20260320T200000
DTEND;TZID=Europe/Amsterdam:20260320T223000
DTSTAMP:20260423T005434
CREATED:20250920T093806Z
LAST-MODIFIED:20250920T093806Z
UID:4948-1774036800-1774045800@www.fotoclubheerhugowaard.nl
SUMMARY:Opdracht: creatieve fotocollage
DESCRIPTION:
URL:https://www.fotoclubheerhugowaard.nl/event/opdracht-creatieve-fotocollage/
LOCATION:Ontmoetingscentrum de Brink\, Middenweg 168\, Heerhugowaard\, Nederland
CATEGORIES:Vrijdag clubavond
END:VEVENT
BEGIN:VEVENT
DTSTART;TZID=Europe/Amsterdam:20260331T160000
DTEND;TZID=Europe/Amsterdam:20260331T170000
DTSTAMP:20260423T005434
CREATED:20250730T140836Z
LAST-MODIFIED:20260312T182430Z
UID:4860-1774972800-1774976400@www.fotoclubheerhugowaard.nl
SUMMARY:Uiterste inzenddatum foto van de maand thema: Dichtbij
DESCRIPTION:Vandaag is de uiterste inzenddatum voor de foto van de maand met het thema: Dichtbij. \nInzenden naar Renske\, zij is het jurylid deze keer!
URL:https://www.fotoclubheerhugowaard.nl/event/uiterste-inzenddatum-foto-van-de-maand-thema-dichtbij/
CATEGORIES:Wedstrijden
END:VEVENT
BEGIN:VEVENT
DTSTART;TZID=Europe/Amsterdam:20260410T200000
DTEND;TZID=Europe/Amsterdam:20260410T223000
DTSTAMP:20260423T005434
CREATED:20250920T093918Z
LAST-MODIFIED:20260312T224438Z
UID:4950-1775851200-1775860200@www.fotoclubheerhugowaard.nl
SUMMARY:3e IFC – Geel + bespreking Foto van de Maand
DESCRIPTION:
URL:https://www.fotoclubheerhugowaard.nl/event/3e-ifc-thema-geel-bespreking-foto-van-de-maand/
LOCATION:Ontmoetingscentrum de Brink\, Middenweg 168\, Heerhugowaard\, Nederland
CATEGORIES:Vrijdag clubavond,Wedstrijden
END:VEVENT
BEGIN:VEVENT
DTSTART;VALUE=DATE:20260417
DTEND;VALUE=DATE:20260420
DTSTAMP:20260423T005434
CREATED:20250920T094437Z
LAST-MODIFIED:20250920T094437Z
UID:4958-1776384000-1776643199@www.fotoclubheerhugowaard.nl
SUMMARY:Clubuitje naar Charleroi
DESCRIPTION:Heb je zin om mee te gaan? Op zoek naar ouwe meuk en ouwe fabriekshallen/koeltoren etc.\nWe regelen een huis in de buurt van Charleroi. \nWe willen op eigen gelegenheid op zoek naar een aantal fotolocaties.\nVia de volgende link kun je zelf bekijken welke locaties jou aanspreken.\nhttps://www.urbex.nl/tag/charleroi/
URL:https://www.fotoclubheerhugowaard.nl/event/clubuitje-naar-charleroi/
END:VEVENT
BEGIN:VEVENT
DTSTART;TZID=Europe/Amsterdam:20260424T200000
DTEND;TZID=Europe/Amsterdam:20260424T223000
DTSTAMP:20260423T005434
CREATED:20250920T094010Z
LAST-MODIFIED:20260301T195655Z
UID:4952-1777060800-1777069800@www.fotoclubheerhugowaard.nl
SUMMARY:Eigen Werk + de eerste resultaten van “opdracht aan jezelf”
DESCRIPTION:
URL:https://www.fotoclubheerhugowaard.nl/event/eigen-werk-6/
LOCATION:Ontmoetingscentrum de Brink\, Middenweg 168\, Heerhugowaard\, Nederland
CATEGORIES:Vrijdag clubavond
END:VEVENT
BEGIN:VEVENT
DTSTART;TZID=Europe/Amsterdam:20260424T200000
DTEND;TZID=Europe/Amsterdam:20260424T223000
DTSTAMP:20260423T005434
CREATED:20260307T220416Z
LAST-MODIFIED:20260307T221119Z
UID:5267-1777060800-1777069800@www.fotoclubheerhugowaard.nl
SUMMARY:Heerhugowaard Award inleveren  (laatste moment)
DESCRIPTION:De laatste clubavond dat je je serie van 5 foto’s in passe-partout kunt inleveren is vrijdag 24 april 2026. \nJe kunt je serie ook (al eerder) inleveren: op een andere clubavond meenemen of bij Miriam thuis afgeven. \n 
URL:https://www.fotoclubheerhugowaard.nl/event/heerhugowaard-award-inleveren-laatste-moment/
CATEGORIES:Vrijdag clubavond,Wedstrijden
END:VEVENT
BEGIN:VEVENT
DTSTART;TZID=Europe/Amsterdam:20260430T160000
DTEND;TZID=Europe/Amsterdam:20260430T170000
DTSTAMP:20260423T005434
CREATED:20250730T140947Z
LAST-MODIFIED:20260312T181513Z
UID:4862-1777564800-1777568400@www.fotoclubheerhugowaard.nl
SUMMARY:Uiterste inzenddatum foto van de maand thema: Water
DESCRIPTION:Vandaag is de uiterste inzenddatum voor de foto van de maand met het thema: Water \nInzenden naar Miranda\, zij is het jurylid deze keer!
URL:https://www.fotoclubheerhugowaard.nl/event/uiterste-inzenddatum-foto-van-de-maand-thema-water/
CATEGORIES:Wedstrijden
END:VEVENT
BEGIN:VEVENT
DTSTART;TZID=Europe/Amsterdam:20260508T200000
DTEND;TZID=Europe/Amsterdam:20260508T223000
DTSTAMP:20260423T005434
CREATED:20250920T094107Z
LAST-MODIFIED:20250920T094107Z
UID:4954-1778270400-1778279400@www.fotoclubheerhugowaard.nl
SUMMARY:Thema: zelfportret met een verhaal / gevoel
DESCRIPTION:
URL:https://www.fotoclubheerhugowaard.nl/event/thema-zelfportret-met-een-verhaal-gevoel/
LOCATION:Ontmoetingscentrum de Brink\, Middenweg 168\, Heerhugowaard\, Nederland
CATEGORIES:Vrijdag clubavond
END:VEVENT
END:VCALENDAR