BEGIN:VCALENDAR
VERSION:2.0
PRODID:-//Fotoclub Heerhugowaard - ECPv6.15.17.1//NONSGML v1.0//EN
CALSCALE:GREGORIAN
METHOD:PUBLISH
X-ORIGINAL-URL:https://www.fotoclubheerhugowaard.nl
X-WR-CALDESC:Evenementen voor Fotoclub Heerhugowaard
REFRESH-INTERVAL;VALUE=DURATION:PT1H
X-Robots-Tag:noindex
X-PUBLISHED-TTL:PT1H
BEGIN:VTIMEZONE
TZID:Europe/Amsterdam
BEGIN:DAYLIGHT
TZOFFSETFROM:+0100
TZOFFSETTO:+0200
TZNAME:CEST
DTSTART:20240331T010000
END:DAYLIGHT
BEGIN:STANDARD
TZOFFSETFROM:+0200
TZOFFSETTO:+0100
TZNAME:CET
DTSTART:20241027T010000
END:STANDARD
BEGIN:DAYLIGHT
TZOFFSETFROM:+0100
TZOFFSETTO:+0200
TZNAME:CEST
DTSTART:20250330T010000
END:DAYLIGHT
BEGIN:STANDARD
TZOFFSETFROM:+0200
TZOFFSETTO:+0100
TZNAME:CET
DTSTART:20251026T010000
END:STANDARD
BEGIN:DAYLIGHT
TZOFFSETFROM:+0100
TZOFFSETTO:+0200
TZNAME:CEST
DTSTART:20260329T010000
END:DAYLIGHT
BEGIN:STANDARD
TZOFFSETFROM:+0200
TZOFFSETTO:+0100
TZNAME:CET
DTSTART:20261025T010000
END:STANDARD
END:VTIMEZONE
BEGIN:VEVENT
DTSTART;TZID=Europe/Amsterdam:20250320T200000
DTEND;TZID=Europe/Amsterdam:20250320T223000
DTSTAMP:20260422T161440
CREATED:20240713T094025Z
LAST-MODIFIED:20240910T120319Z
UID:4501-1742500800-1742509800@www.fotoclubheerhugowaard.nl
SUMMARY:Werkavond - miniatuurfotografie
DESCRIPTION:We gaan vanavond weer lekker aan de slag met elkaar met onze camera’s…. we gaan alles wat mini is fotograferen! \nHoe? Wat? Heb je zelf een idee?\n-miniatuurpoppetjes\n-iets grappigs maken met groente/fruit/andere attributen en mini poppetjes… \nVan alles!! Neem dus allerlei attributen mee en bespreek op eerdere clubavonden met je clubleden wat je (samen) kunt doen!
URL:https://www.fotoclubheerhugowaard.nl/event/inspiratie-avond-6/
LOCATION:Centrum 31\, Bickerstraat 31\, Heerhugowaard\, Nederland
CATEGORIES:Donderdag clubavond
END:VEVENT
END:VCALENDAR