BEGIN:VCALENDAR
VERSION:2.0
PRODID:-//Fotoclub Heerhugowaard - ECPv6.15.17.1//NONSGML v1.0//EN
CALSCALE:GREGORIAN
METHOD:PUBLISH
X-WR-CALNAME:Fotoclub Heerhugowaard
X-ORIGINAL-URL:https://www.fotoclubheerhugowaard.nl
X-WR-CALDESC:Evenementen voor Fotoclub Heerhugowaard
REFRESH-INTERVAL;VALUE=DURATION:PT1H
X-Robots-Tag:noindex
X-PUBLISHED-TTL:PT1H
BEGIN:VTIMEZONE
TZID:Europe/Amsterdam
BEGIN:DAYLIGHT
TZOFFSETFROM:+0100
TZOFFSETTO:+0200
TZNAME:CEST
DTSTART:20240331T010000
END:DAYLIGHT
BEGIN:STANDARD
TZOFFSETFROM:+0200
TZOFFSETTO:+0100
TZNAME:CET
DTSTART:20241027T010000
END:STANDARD
BEGIN:DAYLIGHT
TZOFFSETFROM:+0100
TZOFFSETTO:+0200
TZNAME:CEST
DTSTART:20250330T010000
END:DAYLIGHT
BEGIN:STANDARD
TZOFFSETFROM:+0200
TZOFFSETTO:+0100
TZNAME:CET
DTSTART:20251026T010000
END:STANDARD
BEGIN:DAYLIGHT
TZOFFSETFROM:+0100
TZOFFSETTO:+0200
TZNAME:CEST
DTSTART:20260329T010000
END:DAYLIGHT
BEGIN:STANDARD
TZOFFSETFROM:+0200
TZOFFSETTO:+0100
TZNAME:CET
DTSTART:20261025T010000
END:STANDARD
END:VTIMEZONE
BEGIN:VEVENT
DTSTART;TZID=Europe/Amsterdam:20250106T200000
DTEND;TZID=Europe/Amsterdam:20250106T220000
DTSTAMP:20260422T194141
CREATED:20240202T180518Z
LAST-MODIFIED:20241111T210236Z
UID:4221-1736193600-1736200800@www.fotoclubheerhugowaard.nl
SUMMARY:Basiscursus avond 8
DESCRIPTION:Portretavond\nDeze avond is weer een praktijkavond. We hebben in de zaal van de school 2 opstellingen klaar staan met (flits)lampen en achtergronden en gaan portretten maken! Twee leden van de fotoclub met veel ervaring hiermee komen assisteren.
URL:https://www.fotoclubheerhugowaard.nl/event/basiscursus-avond-8-2/
LOCATION:Basisschool Reflector\, Keerkring 49\, Heerhugowaard\, 1705 SP\, Nederland
CATEGORIES:Basiscursus
END:VEVENT
END:VCALENDAR