BEGIN:VCALENDAR
VERSION:2.0
PRODID:-//Fotoclub Heerhugowaard - ECPv6.15.17.1//NONSGML v1.0//EN
CALSCALE:GREGORIAN
METHOD:PUBLISH
X-WR-CALNAME:Fotoclub Heerhugowaard
X-ORIGINAL-URL:https://www.fotoclubheerhugowaard.nl
X-WR-CALDESC:Evenementen voor Fotoclub Heerhugowaard
REFRESH-INTERVAL;VALUE=DURATION:PT1H
X-Robots-Tag:noindex
X-PUBLISHED-TTL:PT1H
BEGIN:VTIMEZONE
TZID:Europe/Amsterdam
BEGIN:DAYLIGHT
TZOFFSETFROM:+0100
TZOFFSETTO:+0200
TZNAME:CEST
DTSTART:20230326T010000
END:DAYLIGHT
BEGIN:STANDARD
TZOFFSETFROM:+0200
TZOFFSETTO:+0100
TZNAME:CET
DTSTART:20231029T010000
END:STANDARD
BEGIN:DAYLIGHT
TZOFFSETFROM:+0100
TZOFFSETTO:+0200
TZNAME:CEST
DTSTART:20240331T010000
END:DAYLIGHT
BEGIN:STANDARD
TZOFFSETFROM:+0200
TZOFFSETTO:+0100
TZNAME:CET
DTSTART:20241027T010000
END:STANDARD
BEGIN:DAYLIGHT
TZOFFSETFROM:+0100
TZOFFSETTO:+0200
TZNAME:CEST
DTSTART:20250330T010000
END:DAYLIGHT
BEGIN:STANDARD
TZOFFSETFROM:+0200
TZOFFSETTO:+0100
TZNAME:CET
DTSTART:20251026T010000
END:STANDARD
END:VTIMEZONE
BEGIN:VEVENT
DTSTART;TZID=Europe/Amsterdam:20241219T200000
DTEND;TZID=Europe/Amsterdam:20241219T223000
DTSTAMP:20260422T211244
CREATED:20240713T093010Z
LAST-MODIFIED:20241126T113926Z
UID:4483-1734638400-1734647400@www.fotoclubheerhugowaard.nl
SUMMARY:Humor in de fotografie
DESCRIPTION:Voor deze ” Leden voor leden”  avond hadden Marion\, Renske en Isabel vele ideeën\, \nUiteindelijk is het iets geworden\, wat we niet vaak zien op de clubavonden en daarom ook een echte uitdaging is namelijk: Humor in de fotografie \nOpdracht \nWe willen daarom iedereen vragen om deze uitdaging aan te gaan en humoristische foto’s te maken. Maak 1-3 foto’s met dit thema en mail deze uiterlijk 16 december naar: webbeheerder@fotoclubheerhugowaard.nl \nZodat we met een Big Smile op ons gezicht de avond van 19 december kunnen doorbrengen. \nVoor inspiratie en tips zie bijvoorbeeld: \nhttps://www.digifotostarter.nl/gebruik-humor-voor-opvallende-fotos
URL:https://www.fotoclubheerhugowaard.nl/event/inspiratie-avond-3/
LOCATION:Centrum 31\, Bickerstraat 31\, Heerhugowaard\, Nederland
CATEGORIES:Donderdag clubavond
END:VEVENT
END:VCALENDAR