BEGIN:VCALENDAR
VERSION:2.0
PRODID:-//Fotoclub Heerhugowaard - ECPv6.15.17.1//NONSGML v1.0//EN
CALSCALE:GREGORIAN
METHOD:PUBLISH
X-WR-CALNAME:Fotoclub Heerhugowaard
X-ORIGINAL-URL:https://www.fotoclubheerhugowaard.nl
X-WR-CALDESC:Evenementen voor Fotoclub Heerhugowaard
REFRESH-INTERVAL;VALUE=DURATION:PT1H
X-Robots-Tag:noindex
X-PUBLISHED-TTL:PT1H
BEGIN:VTIMEZONE
TZID:Europe/Amsterdam
BEGIN:DAYLIGHT
TZOFFSETFROM:+0100
TZOFFSETTO:+0200
TZNAME:CEST
DTSTART:20230326T010000
END:DAYLIGHT
BEGIN:STANDARD
TZOFFSETFROM:+0200
TZOFFSETTO:+0100
TZNAME:CET
DTSTART:20231029T010000
END:STANDARD
BEGIN:DAYLIGHT
TZOFFSETFROM:+0100
TZOFFSETTO:+0200
TZNAME:CEST
DTSTART:20240331T010000
END:DAYLIGHT
BEGIN:STANDARD
TZOFFSETFROM:+0200
TZOFFSETTO:+0100
TZNAME:CET
DTSTART:20241027T010000
END:STANDARD
BEGIN:DAYLIGHT
TZOFFSETFROM:+0100
TZOFFSETTO:+0200
TZNAME:CEST
DTSTART:20250330T010000
END:DAYLIGHT
BEGIN:STANDARD
TZOFFSETFROM:+0200
TZOFFSETTO:+0100
TZNAME:CET
DTSTART:20251026T010000
END:STANDARD
END:VTIMEZONE
BEGIN:VEVENT
DTSTART;TZID=Europe/Amsterdam:20241011T200000
DTEND;TZID=Europe/Amsterdam:20241011T223000
DTSTAMP:20260422T235952
CREATED:20240713T091831Z
LAST-MODIFIED:20240910T110759Z
UID:4465-1728676800-1728685800@www.fotoclubheerhugowaard.nl
SUMMARY:Eigen werk – Foto’s inzenden voor Bondsfotowedstrijd (1)
DESCRIPTION:Eigen werk \nVanavond tonen we eigen werk. Wat wil je laten zien? Waar ben je mee bezig? Waar wil je advies over?\nNeem allemaal minimaal 1 tot maximaal 3 foto’s mee zodat we ze kunnen bespreken. \n  \nInzenden foto’s bondsfotowedstrijd \nVoor vanavond zend je tevens foto’s in die in aanmerking komen voor het meedoen aan de Bondsfotowedstrijd.\nDie gaan we gezamenlijk bespreken
URL:https://www.fotoclubheerhugowaard.nl/event/clubavond-100/
LOCATION:Centrum 31\, Bickerstraat 31\, Heerhugowaard\, Nederland
CATEGORIES:Vrijdag clubavond
END:VEVENT
END:VCALENDAR