BEGIN:VCALENDAR
VERSION:2.0
PRODID:-//Fotoclub Heerhugowaard - ECPv6.15.17.1//NONSGML v1.0//EN
CALSCALE:GREGORIAN
METHOD:PUBLISH
X-WR-CALNAME:Fotoclub Heerhugowaard
X-ORIGINAL-URL:https://www.fotoclubheerhugowaard.nl
X-WR-CALDESC:Evenementen voor Fotoclub Heerhugowaard
REFRESH-INTERVAL;VALUE=DURATION:PT1H
X-Robots-Tag:noindex
X-PUBLISHED-TTL:PT1H
BEGIN:VTIMEZONE
TZID:Europe/Amsterdam
BEGIN:DAYLIGHT
TZOFFSETFROM:+0100
TZOFFSETTO:+0200
TZNAME:CEST
DTSTART:20230326T010000
END:DAYLIGHT
BEGIN:STANDARD
TZOFFSETFROM:+0200
TZOFFSETTO:+0100
TZNAME:CET
DTSTART:20231029T010000
END:STANDARD
BEGIN:DAYLIGHT
TZOFFSETFROM:+0100
TZOFFSETTO:+0200
TZNAME:CEST
DTSTART:20240331T010000
END:DAYLIGHT
BEGIN:STANDARD
TZOFFSETFROM:+0200
TZOFFSETTO:+0100
TZNAME:CET
DTSTART:20241027T010000
END:STANDARD
BEGIN:DAYLIGHT
TZOFFSETFROM:+0100
TZOFFSETTO:+0200
TZNAME:CEST
DTSTART:20250330T010000
END:DAYLIGHT
BEGIN:STANDARD
TZOFFSETFROM:+0200
TZOFFSETTO:+0100
TZNAME:CET
DTSTART:20251026T010000
END:STANDARD
END:VTIMEZONE
BEGIN:VEVENT
DTSTART;TZID=Europe/Amsterdam:20240501T080000
DTEND;TZID=Europe/Amsterdam:20240615T170000
DTSTAMP:20260423T061823
CREATED:20240229T104702Z
LAST-MODIFIED:20240229T104702Z
UID:4268-1714550400-1718470800@www.fotoclubheerhugowaard.nl
SUMMARY:Foto Online (Fotobond wedstrijd)
DESCRIPTION:Foto Online is een digitale fotowedstrijd voor alle leden van de Fotobond\, die vanaf 2022 tweemaal per jaar wordt gehouden. \nFoto’s kunnen ingestuurd worden van 1 mei-15 juni 2024 \nDeze wedstrijd wil nadrukkelijk openstaan voor de beginnende fotograaf.\nHet is een mooie gelegenheid om je werk te laten toetsen door een vakjury. \nVoor meer info zie: https://fotobond.nl/fotowedstrijden/foto-online/
URL:https://www.fotoclubheerhugowaard.nl/event/foto-online-fotobond-wedstrijd/
CATEGORIES:Wedstrijden
END:VEVENT
BEGIN:VEVENT
DTSTART;VALUE=DATE:20240601
DTEND;VALUE=DATE:20240602
DTSTAMP:20260423T061823
CREATED:20240407T103326Z
LAST-MODIFIED:20240518T132042Z
UID:4375-1717200000-1717286399@www.fotoclubheerhugowaard.nl
SUMMARY:Eindeseizoensclubuitje
DESCRIPTION:waar gaan we heen?\nwat gaan we doen?\n\nWe gaan in ieder geval naar het Rotterdam\, naar het Fotomuseum en naar Hotel New York. \nHou je mail in de gaten!
URL:https://www.fotoclubheerhugowaard.nl/event/eindeseizoensclubuitje/
END:VEVENT
END:VCALENDAR