BEGIN:VCALENDAR
VERSION:2.0
PRODID:-//Fotoclub Heerhugowaard - ECPv6.15.17.1//NONSGML v1.0//EN
CALSCALE:GREGORIAN
METHOD:PUBLISH
X-ORIGINAL-URL:https://www.fotoclubheerhugowaard.nl
X-WR-CALDESC:Evenementen voor Fotoclub Heerhugowaard
REFRESH-INTERVAL;VALUE=DURATION:PT1H
X-Robots-Tag:noindex
X-PUBLISHED-TTL:PT1H
BEGIN:VTIMEZONE
TZID:Europe/Amsterdam
BEGIN:DAYLIGHT
TZOFFSETFROM:+0100
TZOFFSETTO:+0200
TZNAME:CEST
DTSTART:20230326T010000
END:DAYLIGHT
BEGIN:STANDARD
TZOFFSETFROM:+0200
TZOFFSETTO:+0100
TZNAME:CET
DTSTART:20231029T010000
END:STANDARD
BEGIN:DAYLIGHT
TZOFFSETFROM:+0100
TZOFFSETTO:+0200
TZNAME:CEST
DTSTART:20240331T010000
END:DAYLIGHT
BEGIN:STANDARD
TZOFFSETFROM:+0200
TZOFFSETTO:+0100
TZNAME:CET
DTSTART:20241027T010000
END:STANDARD
BEGIN:DAYLIGHT
TZOFFSETFROM:+0100
TZOFFSETTO:+0200
TZNAME:CEST
DTSTART:20250330T010000
END:DAYLIGHT
BEGIN:STANDARD
TZOFFSETFROM:+0200
TZOFFSETTO:+0100
TZNAME:CET
DTSTART:20251026T010000
END:STANDARD
END:VTIMEZONE
BEGIN:VEVENT
DTSTART;TZID=Europe/Amsterdam:20240229T080000
DTEND;TZID=Europe/Amsterdam:20240229T170000
DTSTAMP:20260423T182226
CREATED:20240229T103539Z
LAST-MODIFIED:20240229T103539Z
UID:4266-1709193600-1709226000@www.fotoclubheerhugowaard.nl
SUMMARY:Foto Individueel 2024 (Fotobond wedstrijd)
DESCRIPTION:De fotobond organiseert wedstrijden voor leden van de fotobond. \nEvenals de vorige jaren is er dit voorjaar weer een wedstrijd Foto Individueel\, 2024 / 1.\nEr kan worden deelgenomen in de genres Natuur\, Creatief\, Documentair en Vrij onderwerp.\nIngezonden kan worden vanaf 15 febr. tot 1 april. \nZie voor meer informatie: \nhttps://fotobond.nl/fotowedstrijden/foto-individueel/
URL:https://www.fotoclubheerhugowaard.nl/event/foto-individueel-2024-fotobond-wedstrijd/
CATEGORIES:Wedstrijden
END:VEVENT
END:VCALENDAR