BEGIN:VCALENDAR
VERSION:2.0
PRODID:-//Fotoclub Heerhugowaard - ECPv6.15.17.1//NONSGML v1.0//EN
CALSCALE:GREGORIAN
METHOD:PUBLISH
X-ORIGINAL-URL:https://www.fotoclubheerhugowaard.nl
X-WR-CALDESC:Evenementen voor Fotoclub Heerhugowaard
REFRESH-INTERVAL;VALUE=DURATION:PT1H
X-Robots-Tag:noindex
X-PUBLISHED-TTL:PT1H
BEGIN:VTIMEZONE
TZID:Europe/Amsterdam
BEGIN:DAYLIGHT
TZOFFSETFROM:+0100
TZOFFSETTO:+0200
TZNAME:CEST
DTSTART:20220327T010000
END:DAYLIGHT
BEGIN:STANDARD
TZOFFSETFROM:+0200
TZOFFSETTO:+0100
TZNAME:CET
DTSTART:20221030T010000
END:STANDARD
BEGIN:DAYLIGHT
TZOFFSETFROM:+0100
TZOFFSETTO:+0200
TZNAME:CEST
DTSTART:20230326T010000
END:DAYLIGHT
BEGIN:STANDARD
TZOFFSETFROM:+0200
TZOFFSETTO:+0100
TZNAME:CET
DTSTART:20231029T010000
END:STANDARD
BEGIN:DAYLIGHT
TZOFFSETFROM:+0100
TZOFFSETTO:+0200
TZNAME:CEST
DTSTART:20240331T010000
END:DAYLIGHT
BEGIN:STANDARD
TZOFFSETFROM:+0200
TZOFFSETTO:+0100
TZNAME:CET
DTSTART:20241027T010000
END:STANDARD
END:VTIMEZONE
BEGIN:VEVENT
DTSTART;TZID=Europe/Amsterdam:20230908T200000
DTEND;TZID=Europe/Amsterdam:20230908T223000
DTSTAMP:20260424T043159
CREATED:20230709T134803Z
LAST-MODIFIED:20230903T105548Z
UID:3803-1694203200-1694212200@www.fotoclubheerhugowaard.nl
SUMMARY:1e clubavond: ALV + foto's clubuitje/zomeropdracht etc.
DESCRIPTION:We beginnen het seizoen altijd met onze Algemene Vergadering. Dit is alleen toegankelijk voor clubleden. Tijdens het officiële gedeelte brengt het bestuur verslag uit van het afgelopen seizoen en lichten we de plannen voor het nieuwe seizoen toe. \nNa dit officiële gedeelte van de avond is er tijd voor fotowerk! Wat laten we zien…?  Kijk daarvoor in je mail en stuur tijdig de foto’s in. \nDaarna is er tijd om bij te kletsen onder het genot van een hapje en een drankje.\nTot vrijdag!
URL:https://www.fotoclubheerhugowaard.nl/event/1e-clubavond-alv-resultaten-clubuitje/
LOCATION:Centrum 31\, Bickerstraat 31\, Heerhugowaard\, Nederland
CATEGORIES:Vrijdag clubavond
END:VEVENT
END:VCALENDAR