BEGIN:VCALENDAR
VERSION:2.0
PRODID:-//Fotoclub Heerhugowaard - ECPv6.15.17.1//NONSGML v1.0//EN
CALSCALE:GREGORIAN
METHOD:PUBLISH
X-ORIGINAL-URL:https://www.fotoclubheerhugowaard.nl
X-WR-CALDESC:Evenementen voor Fotoclub Heerhugowaard
REFRESH-INTERVAL;VALUE=DURATION:PT1H
X-Robots-Tag:noindex
X-PUBLISHED-TTL:PT1H
BEGIN:VTIMEZONE
TZID:Europe/Amsterdam
BEGIN:DAYLIGHT
TZOFFSETFROM:+0100
TZOFFSETTO:+0200
TZNAME:CEST
DTSTART:20220327T010000
END:DAYLIGHT
BEGIN:STANDARD
TZOFFSETFROM:+0200
TZOFFSETTO:+0100
TZNAME:CET
DTSTART:20221030T010000
END:STANDARD
BEGIN:DAYLIGHT
TZOFFSETFROM:+0100
TZOFFSETTO:+0200
TZNAME:CEST
DTSTART:20230326T010000
END:DAYLIGHT
BEGIN:STANDARD
TZOFFSETFROM:+0200
TZOFFSETTO:+0100
TZNAME:CET
DTSTART:20231029T010000
END:STANDARD
BEGIN:DAYLIGHT
TZOFFSETFROM:+0100
TZOFFSETTO:+0200
TZNAME:CEST
DTSTART:20240331T010000
END:DAYLIGHT
BEGIN:STANDARD
TZOFFSETFROM:+0200
TZOFFSETTO:+0100
TZNAME:CET
DTSTART:20241027T010000
END:STANDARD
END:VTIMEZONE
BEGIN:VEVENT
DTSTART;TZID=Europe/Amsterdam:20230414T200000
DTEND;TZID=Europe/Amsterdam:20230414T223000
DTSTAMP:20260424T133151
CREATED:20220723T150942Z
LAST-MODIFIED:20230414T130058Z
UID:3151-1681502400-1681511400@www.fotoclubheerhugowaard.nl
SUMMARY:Eigen Werk + de 10 van... + evaluatie
DESCRIPTION:Vanavond tonen we eigen werk. Wat wil je laten zien? Waar ben je mee bezig? Waar wil je advies over? Neem allemaal 1 tot 3 foto’s mee zodat we ze kunnen bespreken. Ben je met een project of een serie bezig? Dan kun je er meer meenemen. \nVanavond laat Minke haar 10 van…. zien!! \nEn… we praten met z’n allen over wat je zou willen dat je club nog organiseert of welke programma-onderdelen je graag terug zou zien volgend clubseizoen.
URL:https://www.fotoclubheerhugowaard.nl/event/clubavond-81/
LOCATION:Centrum 31\, Bickerstraat 31\, Heerhugowaard\, Nederland
CATEGORIES:Vrijdag clubavond
END:VEVENT
END:VCALENDAR